Workbook
Name FromArray_1: _xlfn.ANCHORARRAY(Trajectory!$F$11)

Sheet Notes & Guidance
A1: Version | B1: 3 | C1: 46082
A4: Tab Name | B4: Description
A5: Notes & Guidance | B5: Guidance on how to read the trajectory – to be added
A6: Trajectory | B6: Headline outputs. Requirement and Completion figure are recorded as both discrete annual outputs and as cumulative figures. The variance between completions and requirement is recorded. A rolling requirement balance adjusted to account for completions (actual and predicted) is also presented. Charts show the distribution of any variance over the plan period.
A7: Conventional Completions (Small Sites) | B7: Scheme level completion details covering years 2019/20, 2020/21, 2021/22, 2022/23, 2023/24 & 2024/25. Scheme level details not yet added. Revert to aggregated ‘Completion Totals’
A8: Conventional Completions (Large Sites) | B8: Scheme level completion details covering years 2019/20, 2020/21, 2021/22, 2022/23, 2023/24 & 2024/25. Scheme level detail not yet added. Revert to aggregated ‘Completion Totals’
A9: Conventional Completions (NSC) | B9: Scheme level completion details covering years 2019/20, 2020/21, 2021/22, 2022/23, 2023/24 & 2024/25. Scheme level detail not yet added. Revert to aggregated ‘Completion Totals’
A10: Completion Totals | B10: Aggregated completion totals covering 2019/20, 2020/21, 2021/22, 2022/23, 2023/24 & 2024/25.
A11: Projections Summary Tab | B11: Projected completions by year broken down by source type.
A12: Conventional Pipeline (Large) | B12: Permitted conventional capacity yet to be completed. Only capacity permitted up to the 31st March 2025 is included. Application sites are 0.25ha or larger. Sites smaller than 0.25ha are only included where these overlap large allocations and an appropriate adjustment is made to the allocation capacity estimate to avoid double counting the potential yield of the site. ‘To be completed capacity’ assigned to future years.
A13: NSC Pipeline | B13: Permitted non-conventional capacity yet to be completed. Only capacity permitted up to the 31st March 2025 is included.
A14: Conventional Pending (Large) | B14: Large site applications with residential component pending consideration or awaiting legal agreement. The pending tab only includes schemes lodged and validated up to the 31st March 2025. This tab may also include schemes where a decision was issued after 1st April 2025, and for which it was considered premature to move these schemes to the Pipeline in this iteration of the trajectory.
A15: NSC Pending | B15: Schemes with a non-conventional component pending consideration or awaiting legal agreement. The pending tab only includes schemes lodged and validated up to the 31st March 2025. This tab may also include schemes where a decision was issued after 1st April 2024.
... A22: Town Breakdown | B22: Projected completions split by seven towns
A24: Other than capacity figures associated with live permitted schemes, all other capacity figures published in the trajectory are indicative, represent a snapshot in time, and have no application beyond establishing Ealing’s supply position. The site estimates whilst informed, have been generated to support a high-level exercise, and so the utility of these outputs is most useful when interpreted at an aggregated level. The site-specific capacities contained in this document are not intended to inform decision-making in respect of specific schemes, as future planning permissions will need to be underpinned by more detailed and current design and capacity work, which may ultimately support capacities above or below those originally estimated for this exercise.

Sheet Trajectory
B3: London Plan 10 Year Target Period
J4: 5 YHLS Period | Y4: Affordable Breakdown (Nov 2023) To be updated
B5: 2019-2020 | C5: 2020-2021 | D5: 2021-2022 | E5: 2022-2023 | F5: 2023-2024 | G5: 2024-2025 | H5: 2025-2026 | I5: 2026-2027 | J5: 2027-2028 | K5: 2028-2029 | L5: 2029-2030 | M5: 2030-2031 | N5: 2031-2032 | O5: 2032-2033 | P5: 2033-2034 | Q5: 2034-2035 | R5: 2035-2036 | S5: 2036-2037 | T5: 2037-2038 | U5: 2038-2039 | Z5: 2019-2020 | AA5: 2020-2021 | AB5: 2021-2022 | AC5: 2022-2023 | AD5: 2023-2024 | AE5: 2024-2025 | AF5: 2025-2026 | AG5: 2026-2027 | AH5: 2027-2028 | AI5: 2028-2029 | AJ5: 2029-2030 | AK5: 2030-2031 | AL5: 2031-2032 | AM5: 2032-2033 | AN5: 2033-2034 | AO5: 2034-2035 | AP5: 2035-2036 | AQ5: 2036-2037 | AR5: 2037-2038 | AS5: 2038-2039
A6: Year of Trajectory | B6: -5 | C6: -4 | D6: -3 | E6: -2 | F6: -1 | G6: 0 | H6: 1 | I6: 2 | J6: 3 | K6: 4 | L6: 5 | M6: 6 | N6: 7 | O6: 8 | P6: 9 | Q6: 10 | R6: 11 | S6: 12 | T6: 13 | U6: 14 | Y6: Year of Trajectory | Z6: -4 | AA6: -3 | AB6: -2 | AC6: -1 | AD6: 0 | AE6: 1 | AF6: 2 | AG6: 3 | AH6: 4 | AI6: 5 | AJ6: 6 | AK6: 7 | AL6: 8 | AM6: 9 | AN6: 10 | AO6: 11 | AP6: 12 | AQ6: 13 | AR6: 14 | AS6: 15
A7: Requirement annualised (Target) | B7: 2157 | C7: 2157 | D7: 2157 | E7: 2157 | F7: 2157 | G7: 2157 | H7: 2157 | I7: 2157 | J7: 2157 | K7: 2157 | L7: 2157 | M7: 2157 | N7: 2157 | O7: 2157 | P7: 2157 | Q7: 2157 | R7: 2157 | S7: 2157 | T7: 2157 | U7: 2157 | Y7: Affordable Requirement annualised (Target) | Z7: 1387 | AA7: 1387 | AB7: 1387 | AC7: 1387 | AD7: 1387 | AE7: 1387 | AF7: 1387 | AG7: 1387 | AH7: 1387 | AI7: 1387 | AJ7: 1387 | AK7: 1387 | AL7: 1387 | AM7: 1387 | AN7: 1387 | AO7: 1387 | AP7: 1387 | AQ7: 1387 | AR7: 1387 | AS7: 1387
A8: Cumulative Requirement (Target) | B8: 2157 | C8: =B7+B8 -> 4314 | D8: =C7+C8 -> 6471 | E8: =D7+D8 -> 8628 | F8: =E7+E8 -> 10785 | G8: =F7+F8 -> 12942 | H8: =G7+G8 -> 15099 | I8: =H7+H8 -> 17256 | J8: =I7+I8 -> 19413 | ... U8: =T7+T8 -> 43140 | Y8: Cumulative Affordable Requirement (Target) | Z8: 1387 | AA8: =Z7+Z8 -> 2774 | AB8: =AA7+AA8 -> 4161 | AC8: =AB7+AB8 -> 5548 | AD8: =AC7+AC8 -> 6935 | AE8: =AD7+AD8 -> 8322 | AF8: =AE7+AE8 -> 9709 | AG8: =AF7+AF8 -> 11096 | AH8: =AG7+AG8 -> 12483 | ... AS8: =AR7+AR8 -> 27740
A9: Annual Past Completions | B9: ='Completions Total'!B8 -> 1863 | C9: ='Completions Total'!C8 -> 1994 | D9: ='Completions Total'!D8 -> 1079 | E9: ='Completions Total'!E8 -> 1774 | F9: ='Completions Total'!F8 -> 966 | Y9: Annual Past Completions
A10: Reporting Year Completions | G10: ='Completions Total'!G8 -> 1238 | Y10: Reporting Year Completions
A11: Annual Projected Completions | H11: ='Projections Summary Table'!I16 -> 1876 | I11: ='Projections Summary Table'!J16 -> 2443 | J11: ='Projections Summary Table'!K16 -> 2593 | K11: ='Projections Summary Table'!L16 -> 2270 | L11: ='Projections Summary Table'!M16 -> 3854 | M11: ='Projections Summary Table'!N16 -> 4004 | N11: ='Projections Summary Table'!O16 -> 3616 | O11: ='Projections Summary Table'!P16 -> 3268 | ... U11: ='Projections Summary Table'!V16 -> 1403 | Y11: Annual Projected Completions (Affordable) | AE11: ='Projections Summary Table'!AF16 -> 361 | AF11: ='Projections Summary Table'!AG16 -> 477 | AG11: ='Projections Summary Table'!AH16 -> 585 | AH11: ='Projections Summary Table'!AI16 -> 668 | AI11: ='Projections Summary Table'!AJ16 -> 1082 | AJ11: ='Projections Summary Table'!AK16 -> 1287 | AK11: ='Projections Summary Table'!AL16 -> 1597 | AL11: ='Projections Summary Table'!AM16 -> 1459 | ... AS11: ='Projections Summary Table'!AT16 -> 75
A12: Cumulative Completions (delivered & projected) | B12: 1863 | C12: =B12+C9+C10+C11 -> 3857 | D12: =C12+D9+D10+D11 -> 4936 | E12: =D12+E9+E10+E11 -> 6710 | F12: =E12+F9+F10+F11 -> 7676 | G12: =F12+G9+G10+G11 -> 8914 | H12: =G12+H9+H10+H11 -> 10790 | I12: =H12+I9+I10+I11 -> 13233 | J12: =I12+J9+J10+J11 -> 15826 | ... U12: =T12+U9+U10+U11 -> 45477 | Y12: Cumulative Affordable Completions (delivered & projected) | Z12: 0 | AA12: =Z12+AA9+AA10+AA11 -> 0 | AB12: =AA12+AB9+AB10+AB11 -> 0 | AC12: =AB12+AC9+AC10+AC11 -> 0 | AD12: =AC12+AD9+AD10+AD11 -> 0 | AE12: =AD12+AE9+AE10+AE11 -> 361 | AF12: =AE12+AF9+AF10+AF11 -> 838 | AG12: =AF12+AG9+AG10+AG11 -> 1423 | AH12: =AG12+AH9+AH10+AH11 -> 2091 | ... AS12: =AR12+AS9+AS10+AS11 -> 10794
A13: Completions against annualised target variance | B13: =B9+B10+B11-B7 -> -294 | C13: =C9+C10+C11-C7 -> -163 | D13: =D9+D10+D11-D7 -> -1078 | E13: =E9+E10+E11-E7 -> -383 | F13: =F9+F10+F11-F7 -> -1191 | G13: =G9+G10+G11-G7 -> -919 | H13: =H9+H10+H11-H7 -> -281 | I13: =I9+I10+I11-I7 -> 286 | ... U13: =U9+U10+U11-U7 -> -754 | Y13: Completions against annualised target variance | Z13: =Z9+Z10+Z11-Z7 -> -1387 | AA13: =AA9+AA10+AA11-AA7 -> -1387 | AB13: =AB9+AB10+AB11-AB7 -> -1387 | AC13: =AC9+AC10+AC11-AC7 -> -1387 | AD13: =AD9+AD10+AD11-AD7 -> -1387 | AE13: =AE9+AE10+AE11-AE7 -> -1026 | AF13: =AF9+AF10+AF11-AF7 -> -910 | AG13: =AG9+AG10+AG11-AG7 -> -802 | ... AS13: =AS9+AS10+AS11-AS7 -> -1312
A14: Completions against cumulative requirement variance | B14: =B12-B8 -> -294 | C14: =C12-C8 -> -457 | D14: =D12-D8 -> -1535 | E14: =E12-E8 -> -1918 | F14: =F12-F8 -> -3109 | G14: =G12-G8 -> -4028 | H14: =H12-H8 -> -4309 | I14: =I12-I8 -> -4023 | ... U14: =U12-U8 -> 2337 | Y14: Completions against cumulative requirement variance | Z14: =Z12-Z8 -> -1387 | AA14: =AA12-AA8 -> -2774 | AB14: =AB12-AB8 -> -4161 | AC14: =AC12-AC8 -> -5548 | AD14: =AD12-AD8 -> -6935 | AE14: =AE12-AE8 -> -7961 | AF14: =AF12-AF8 -> -8871 | AG14: =AG12-AG8 -> -9673 | ... AS14: =AS12-AS8 -> -16946
A15: Completions against requirement variance (Sedgefield) | Y15: Completions against requirement variance (Sedgefield)
A16: Trajectory Requirement Balance (starting at 43140) | B16: =43140-B12 -> 41277 | C16: =43140-C12 -> 39283 | D16: =43140-D12 -> 38204 | E16: =43140-E12 -> 36430 | F16: =43140-F12 -> 35464 | G16: =43140-G12 -> 34226 | H16: =43140-H12 -> 32350 | I16: =43140-I12 -> 29907 | ... U16: =43140-U12 -> -2337 | Y16: Trajectory Requirement Balance (starting at 27740) | Z16: =27740-Z12 -> 27740 | AA16: =27740-AA12 -> 27740 | AB16: =27740-AB12 -> 27740 | AC16: =27740-AC12 -> 27740 | AD16: =27740-AD12 -> 27740 | AE16: =27740-AE12 -> 27379 | AF16: =27740-AF12 -> 26902 | AG16: =27740-AG12 -> 26317 | ... AS16: =27740-AS12 -> 16946
A17: Adjusted annualised requirement (rolling) | B17: NA | C17: =B7-B14 -> 2451 | D17: =C7-C14 -> 2614 | E17: =D7-D14 -> 3692 | F17: =E7-E14 -> 4075 | G17: =F7-F14 -> 5266 | H17: =G7-G14 -> 6185 | I17: =H7-H14 -> 6466 | J17: =I7-I14 -> 6180 | ... U17: =T7-T14 -> -934 | Y17: Adjusted annualised requirement (rolling) | Z17: NA | AA17: =Z7-Z14 -> 2774 | AB17: =AA7-AA14 -> 4161 | AC17: =AB7-AB14 -> 5548 | AD17: =AC7-AC14 -> 6935 | AE17: =AD7-AD14 -> 8322 | AF17: =AE7-AE14 -> 9348 | AG17: =AF7-AF14 -> 10258 | AH17: =AG7-AG14 -> 11060 | ... AS17: =AR7-AR14 -> 17021

Sheet Conventional Comp (small sites)
A1: Scheme level completion data not populated as yet. Revert to aggregated 'Completion Totals' Financial year totals will ultimately feed 'Completions Total' tab.
A3: Financial Year 2019-20 | AF3: 2019-2020 | AG3: 2020-2021 | AH3: 2021-2022 | AI3: 2022-2023 | AJ3: 2023-2024 | AK3: 2024-2025 | AL3: 2025-2026 | AM3: 2026-2027 | AN3: 2027-2028 | AO3: 2028-2029 | AP3: 2029-2030 | AQ3: 2030-2031 | AR3: 2031-2032 | AS3: 2032-2033 | AT3: 2033-2034 | AU3: 2034-2035 | AV3: 2035-2036 | AW3: 2036-2037 | AX3: 2037-2038 | AY3: 2038-2039
A4: Planning Permission No. | B4: Decision | C4: Appeal | D4: Permission Date | E4: Start Date | F4: Completion Date | G4: Site Name / Address | H4: Development Proposal | I4: Units Gained | J4: Units Lost | K4: Net No. Units | L4: Bedrooms (small HMO) | M4: Development Type | N4: Ward | O4: Neighbourhood Area | P4: Easting | Q4: Northing | R4: UPRN | S4: Overlaps Adopted Allocation | T4: Overlaps Emerging Allocation | U4: Site Area | V4: Completion Status | W4: Units pending implementation | X4: Total Construction Period | Y4: Notes | AE4: Year of Trajectory | AF4: 1 | AG4: 2 | AH4: 3 | AI4: 4 | AJ4: 5 | AK4: 6 | AL4: 7 | AM4: 8 | AN4: 9 | AO4: 10 | AP4: 11 | AQ4: 12 | AR4: 13 | AS4: 14 | AT4: 15 | AU4: 16 | AV4: 17 | AW4: 18 | AX4: 19 | AY4: 20
A5: Ref | V5: Fully or Part Completed | X5: x years, x months, x days
A10: Total
A13: Financial Year 2020-21 | AF13: 2019-2020 | AG13: 2020-2021 | AH13: 2021-2022 | AI13: 2022-2023 | AJ13: 2023-2024 | AK13: 2024-2025 | AL13: 2025-2026 | AM13: 2026-2027 | AN13: 2027-2028 | AO13: 2028-2029 | AP13: 2029-2030 | AQ13: 2030-2031 | AR13: 2031-2032 | AS13: 2032-2033 | AT13: 2033-2034 | AU13: 2034-2035 | AV13: 2035-2036 | AW13: 2036-2037 | AX13: 2037-2038 | AY13: 2038-2039
A14: Planning Permission No. | B14: Decision | C14: Appeal | D14: Permission Date | E14: Start Date | F14: Completion Date | G14: Site Name / Address | H14: Development Proposal | I14: Units Gained | J14: Units Lost | K14: Net No. Units | L14: Bedrooms (small HMO) | M14: Development Type | N14: Ward | O14: Neighbourhood Area | P14: Easting | Q14: Northing | R14: UPRN | S14: Overlaps Adopted Allocation | T14: Overlaps Emerging Allocation | U14: Site Area | V14: Completion Status | W14: Units pending implementation | X14: Construction Period | Y14: Notes | AE14: Year of Trajectory | AF14: 1 | AG14: 2 | AH14: 3 | AI14: 4 | AJ14: 5 | AK14: 6 | AL14: 7 | AM14: 8 | AN14: 9 | AO14: 10 | AP14: 11 | AQ14: 12 | AR14: 13 | AS14: 14 | AT14: 15 | AU14: 16 | AV14: 17 | AW14: 18 | AX14: 19 | AY14: 20
A15: Ref | V15: Fully or Part Completed | X15: x years, x months, x days
A20: Total
A23: Financial Year 2021-22 | AF23: 2019-2020 | AG23: 2020-2021 | AH23: 2021-2022 | AI23: 2022-2023 | AJ23: 2023-2024 | AK23: 2024-2025 | AL23: 2025-2026 | AM23: 2026-2027 | AN23: 2027-2028 | AO23: 2028-2029 | AP23: 2029-2030 | AQ23: 2030-2031 | AR23: 2031-2032 | AS23: 2032-2033 | AT23: 2033-2034 | AU23: 2034-2035 | AV23: 2035-2036 | AW23: 2036-2037 | AX23: 2037-2038 | AY23: 2038-2039
A24: Planning Permission No. | B24: Decision | C24: Appeal | D24: Permission Date | E24: Start Date | F24: Completion Date | G24: Site Name / Address | H24: Development Proposal | I24: Units Gained | J24: Units Lost | K24: Net No. Units | L24: Bedrooms (small HMO) | M24: Development Type | N24: Ward | O24: Neighbourhood Area | P24: Easting | Q24: Northing | R24: UPRN | S24: Overlaps Adopted Allocation | T24: Overlaps Emerging Allocation | U24: Site Area | V24: Completion Status | W24: Units pending implementation | X24: Construction Period | Y24: Notes | AE24: Year of Trajectory | AF24: 1 | AG24: 2 | AH24: 3 | AI24: 4 | AJ24: 5 | AK24: 6 | AL24: 7 | AM24: 8 | AN24: 9 | AO24: 10 | AP24: 11 | AQ24: 12 | AR24: 13 | AS24: 14 | AT24: 15 | AU24: 16 | AV24: 17 | AW24: 18 | AX24: 19 | AY24: 20
A25: Ref | V25: Fully or Part Completed | X25: x years, x months, x days
A30: Total
A33: Financial Year 2022-23 | AF33: 2019-2020 | AG33: 2020-2021 | AH33: 2021-2022 | AI33: 2022-2023 | AJ33: 2023-2024 | AK33: 2024-2025 | AL33: 2025-2026 | AM33: 2026-2027 | AN33: 2027-2028 | AO33: 2028-2029 | AP33: 2029-2030 | AQ33: 2030-2031 | AR33: 2031-2032 | AS33: 2032-2033 | AT33: 2033-2034 | AU33: 2034-2035 | AV33: 2035-2036 | AW33: 2036-2037 | AX33: 2037-2038 | AY33: 2038-2039
A34: Planning Permission No. | B34: Decision | C34: Appeal | D34: Permission Date | E34: Start Date | F34: Completion Date | G34: Site Name / Address | H34: Development Proposal | I34: Units Gained | J34: Units Lost | K34: Net No. Units | L34: Bedrooms (small HMO) | M34: Development Type | N34: Ward | O34: Neighbourhood Area | P34: Easting | Q34: Northing | R34: UPRN | S34: Overlaps Adopted Allocation | T34: Overlaps Emerging Allocation | U34: Site Area | V34: Completion Status | W34: Units pending implementation | X34: Construction Period | Y34: Notes | AE34: Year of Trajectory | AF34: 1 | AG34: 2 | AH34: 3 | AI34: 4 | AJ34: 5 | AK34: 6 | AL34: 7 | AM34: 8 | AN34: 9 | AO34: 10 | AP34: 11 | AQ34: 12 | AR34: 13 | AS34: 14 | AT34: 15 | AU34: 16 | AV34: 17 | AW34: 18 | AX34: 19 | AY34: 20
A35: Ref | V35: Fully or Part Completed | X35: x years, x months, x days
A40: Total
A43: Financial Year 2023-24 | AF43: 2019-2020 | AG43: 2020-2021 | AH43: 2021-2022 | AI43: 2022-2023 | AJ43: 2023-2024 | AK43: 2024-2025 | AL43: 2025-2026 | AM43: 2026-2027 | AN43: 2027-2028 | AO43: 2028-2029 | AP43: 2029-2030 | AQ43: 2030-2031 | AR43: 2031-2032 | AS43: 2032-2033 | AT43: 2033-2034 | AU43: 2034-2035 | AV43: 2035-2036 | AW43: 2036-2037 | AX43: 2037-2038 | AY43: 2038-2039
A44: Planning Permission No. | B44: Decision | C44: Appeal | D44: Permission Date | E44: Start Date | F44: Completion Date | G44: Site Name / Address | H44: Development Proposal | I44: Units Gained | J44: Units Lost | K44: Net No. Units | L44: Bedrooms (small HMO) | M44: Development Type | N44: Ward | O44: Neighbourhood Area | P44: Easting | Q44: Northing | R44: UPRN | S44: Overlaps Adopted Allocation | T44: Overlaps Emerging Allocation | U44: Site Area | V44: Completion Status | W44: Units pending implementation | X44: Construction Period | Y44: Notes | AE44: Year of Trajectory | AF44: 1 | AG44: 2 | AH44: 3 | AI44: 4 | AJ44: 5 | AK44: 6 | AL44: 7 | AM44: 8 | AN44: 9 | AO44: 10 | AP44: 11 | AQ44: 12 | AR44: 13 | AS44: 14 | AT44: 15 | AU44: 16 | AV44: 17 | AW44: 18 | AX44: 19 | AY44: 20
A45: Ref | V45: Fully or Part Completed | X45: x years, x months, x days
A50: Total
A53: Financial Year 2024-25 | AF53: 2019-2020 | AG53: 2020-2021 | AH53: 2021-2022 | AI53: 2022-2023 | AJ53: 2023-2024 | AK53: 2024-2025 | AL53: 2025-2026 | AM53: 2026-2027 | AN53: 2027-2028 | AO53: 2028-2029 | AP53: 2029-2030 | AQ53: 2030-2031 | AR53: 2031-2032 | AS53: 2032-2033 | AT53: 2033-2034 | AU53: 2034-2035 | AV53: 2035-2036 | AW53: 2036-2037 | AX53: 2037-2038 | AY53: 2038-2039
A54: Planning Permission No. | B54: Decision | C54: Appeal | D54: Permission Date | E54: Start Date | F54: Completion Date | G54: Site Name / Address | H54: Development Proposal | I54: Units Gained | J54: Units Lost | K54: Net No. Units | L54: Bedrooms (small HMO) | M54: Development Type | N54: Ward | O54: Neighbourhood Area | P54: Easting | Q54: Northing | R54: UPRN | S54: Overlaps Adopted Allocation | T54: Overlaps Emerging Allocation | U54: Site Area | V54: Completion Status | W54: Units pending implementation | X54: Construction Period | Y54: Notes | AE54: Year of Trajectory | AF54: 1 | AG54: 2 | AH54: 3 | AI54: 4 | AJ54: 5 | AK54: 6 | AL54: 7 | AM54: 8 | AN54: 9 | AO54: 10 | AP54: 11 | AQ54: 12 | AR54: 13 | AS54: 14 | AT54: 15 | AU54: 16 | AV54: 17 | AW54: 18 | AX54: 19 | AY54: 20
A55: Ref | V55: Fully or Part Completed | X55: x years, x months, x days
A60: Total

Sheet Conventional Comp (large sites)
A1: Scheme level completion data not populated as yet. Revert to aggregated 'Completion Totals' Financial year totals will ultimately feed 'Completions Total' tab. | X1: Note completions data unavailable at present. Dummy data used to illustrate workings only. Financial year totals will ultimately feed 'Completions Total' tab.
A3: Financial Year 2019-20 | AF3: 2019-2020 | AG3: 2020-2021 | AH3: 2021-2022 | AI3: 2022-2023 | AJ3: 2023-2024 | AK3: 2024-2025 | AL3: 2025-2026 | AM3: 2026-2027 | AN3: 2027-2028 | AO3: 2028-2029 | AP3: 2029-2030 | AQ3: 2030-2031 | AR3: 2031-2032 | AS3: 2032-2033 | AT3: 2033-2034 | AU3: 2034-2035 | AV3: 2035-2036 | AW3: 2036-2037 | AX3: 2037-2038 | AY3: 2038-2039
A4: Planning Permission No. | B4: Decision | C4: Appeal | D4: Permission Date | E4: Start Date | F4: Completion Date | G4: Site Name / Address | H4: Development Proposal | I4: Units Gained | J4: Units Lost | K4: Net No. Units | L4: Bedrooms (small HMO) | M4: Development Type | N4: Ward | O4: Neighbourhood Area | P4: Easting | Q4: Northing | R4: UPRN | S4: Overlaps Adopted Allocation | T4: Overlaps Emerging Allocation | U4: Site Area | V4: Completion Status | W4: Units pending implementation | X4: Total Construction Period | Y4: Notes | AE4: Year of Trajectory | AF4: 1 | AG4: 2 | AH4: 3 | AI4: 4 | AJ4: 5 | AK4: 6 | AL4: 7 | AM4: 8 | AN4: 9 | AO4: 10 | AP4: 11 | AQ4: 12 | AR4: 13 | AS4: 14 | AT4: 15 | AU4: 16 | AV4: 17 | AW4: 18 | AX4: 19 | AY4: 20
A5: Ref | V5: Fully or Part Completed | X5: x years, x months, x days
A10: Total
A13: Financial Year 2020-21 | AF13: 2019-2020 | AG13: 2020-2021 | AH13: 2021-2022 | AI13: 2022-2023 | AJ13: 2023-2024 | AK13: 2024-2025 | AL13: 2025-2026 | AM13: 2026-2027 | AN13: 2027-2028 | AO13: 2028-2029 | AP13: 2029-2030 | AQ13: 2030-2031 | AR13: 2031-2032 | AS13: 2032-2033 | AT13: 2033-2034 | AU13: 2034-2035 | AV13: 2035-2036 | AW13: 2036-2037 | AX13: 2037-2038 | AY13: 2038-2039
A14: Planning Permission No. | B14: Decision | C14: Appeal | D14: Permission Date | E14: Start Date | F14: Completion Date | G14: Site Name / Address | H14: Development Proposal | I14: Units Gained | J14: Units Lost | K14: Net No. Units | L14: Bedrooms (small HMO) | M14: Development Type | N14: Ward | O14: Neighbourhood Area | P14: Easting | Q14: Northing | R14: UPRN | S14: Overlaps Adopted Allocation | T14: Overlaps Emerging Allocation | U14: Site Area | V14: Completion Status | W14: Units pending implementation | X14: Construction Period | Y14: Notes | AE14: Year of Trajectory | AF14: 1 | AG14: 2 | AH14: 3 | AI14: 4 | AJ14: 5 | AK14: 6 | AL14: 7 | AM14: 8 | AN14: 9 | AO14: 10 | AP14: 11 | AQ14: 12 | AR14: 13 | AS14: 14 | AT14: 15 | AU14: 16 | AV14: 17 | AW14: 18 | AX14: 19 | AY14: 20
A15: Ref | V15: Fully or Part Completed | X15: x years, x months, x days
A20: Total
A23: Financial Year 2021-22 | AF23: 2019-2020 | AG23: 2020-2021 | AH23: 2021-2022 | AI23: 2022-2023 | AJ23: 2023-2024 | AK23: 2024-2025 | AL23: 2025-2026 | AM23: 2026-2027 | AN23: 2027-2028 | AO23: 2028-2029 | AP23: 2029-2030 | AQ23: 2030-2031 | AR23: 2031-2032 | AS23: 2032-2033 | AT23: 2033-2034 | AU23: 2034-2035 | AV23: 2035-2036 | AW23: 2036-2037 | AX23: 2037-2038 | AY23: 2038-2039
A24: Planning Permission No. | B24: Decision | C24: Appeal | D24: Permission Date | E24: Start Date | F24: Completion Date | G24: Site Name / Address | H24: Development Proposal | I24: Units Gained | J24: Units Lost | K24: Net No. Units | L24: Bedrooms (small HMO) | M24: Development Type | N24: Ward | O24: Neighbourhood Area | P24: Easting | Q24: Northing | R24: UPRN | S24: Overlaps Adopted Allocation | T24: Overlaps Emerging Allocation | U24: Site Area | V24: Completion Status | W24: Units pending implementation | X24: Construction Period | Y24: Notes | AE24: Year of Trajectory | AF24: 1 | AG24: 2 | AH24: 3 | AI24: 4 | AJ24: 5 | AK24: 6 | AL24: 7 | AM24: 8 | AN24: 9 | AO24: 10 | AP24: 11 | AQ24: 12 | AR24: 13 | AS24: 14 | AT24: 15 | AU24: 16 | AV24: 17 | AW24: 18 | AX24: 19 | AY24: 20
A25: Ref | V25: Fully or Part Completed | X25: x years, x months, x days
A30: Total
A33: Financial Year 2022-23 | AF33: 2019-2020 | AG33: 2020-2021 | AH33: 2021-2022 | AI33: 2022-2023 | AJ33: 2023-2024 | AK33: 2024-2025 | AL33: 2025-2026 | AM33: 2026-2027 | AN33: 2027-2028 | AO33: 2028-2029 | AP33: 2029-2030 | AQ33: 2030-2031 | AR33: 2031-2032 | AS33: 2032-2033 | AT33: 2033-2034 | AU33: 2034-2035 | AV33: 2035-2036 | AW33: 2036-2037 | AX33: 2037-2038 | AY33: 2038-2039
A34: Planning Permission No. | B34: Decision | C34: Appeal | D34: Permission Date | E34: Start Date | F34: Completion Date | G34: Site Name / Address | H34: Development Proposal | I34: Units Gained | J34: Units Lost | K34: Net No. Units | L34: Bedrooms (small HMO) | M34: Development Type | N34: Ward | O34: Neighbourhood Area | P34: Easting | Q34: Northing | R34: UPRN | S34: Overlaps Adopted Allocation | T34: Overlaps Emerging Allocation | U34: Site Area | V34: Completion Status | W34: Units pending implementation | X34: Construction Period | Y34: Notes | AE34: Year of Trajectory | AF34: 1 | AG34: 2 | AH34: 3 | AI34: 4 | AJ34: 5 | AK34: 6 | AL34: 7 | AM34: 8 | AN34: 9 | AO34: 10 | AP34: 11 | AQ34: 12 | AR34: 13 | AS34: 14 | AT34: 15 | AU34: 16 | AV34: 17 | AW34: 18 | AX34: 19 | AY34: 20
A35: Ref | V35: Fully or Part Completed | X35: x years, x months, x days
A40: Total
A43: Financial Year 2023-24 | AF43: 2019-2020 | AG43: 2020-2021 | AH43: 2021-2022 | AI43: 2022-2023 | AJ43: 2023-2024 | AK43: 2024-2025 | AL43: 2025-2026 | AM43: 2026-2027 | AN43: 2027-2028 | AO43: 2028-2029 | AP43: 2029-2030 | AQ43: 2030-2031 | AR43: 2031-2032 | AS43: 2032-2033 | AT43: 2033-2034 | AU43: 2034-2035 | AV43: 2035-2036 | AW43: 2036-2037 | AX43: 2037-2038 | AY43: 2038-2039
A44: Planning Permission No. | B44: Decision | C44: Appeal | D44: Permission Date | E44: Start Date | F44: Completion Date | G44: Site Name / Address | H44: Development Proposal | I44: Units Gained | J44: Units Lost | K44: Net No. Units | L44: Bedrooms (small HMO) | M44: Development Type | N44: Ward | O44: Neighbourhood Area | P44: Easting | Q44: Northing | R44: UPRN | S44: Overlaps Adopted Allocation | T44: Overlaps Emerging Allocation | U44: Site Area | V44: Completion Status | W44: Units pending implementation | X44: Construction Period | Y44: Notes | AE44: Year of Trajectory | AF44: 1 | AG44: 2 | AH44: 3 | AI44: 4 | AJ44: 5 | AK44: 6 | AL44: 7 | AM44: 8 | AN44: 9 | AO44: 10 | AP44: 11 | AQ44: 12 | AR44: 13 | AS44: 14 | AT44: 15 | AU44: 16 | AV44: 17 | AW44: 18 | AX44: 19 | AY44: 20
A45: Ref | V45: Fully or Part Completed | X45: x years, x months, x days
A52: Total
A55: Financial Year 2024-25 | AF55: 2019-2020 | AG55: 2020-2021 | AH55: 2021-2022 | AI55: 2022-2023 | AJ55: 2023-2024 | AK55: 2024-2025 | AL55: 2025-2026 | AM55: 2026-2027 | AN55: 2027-2028 | AO55: 2028-2029 | AP55: 2029-2030 | AQ55: 2030-2031 | AR55: 2031-2032 | AS55: 2032-2033 | AT55: 2033-2034 | AU55: 2034-2035 | AV55: 2035-2036 | AW55: 2036-2037 | AX55: 2037-2038 | AY55: 2038-2039
A56: Planning Permission No. | B56: Decision | C56: Appeal | D56: Permission Date | E56: Start Date | F56: Completion Date | G56: Site Name / Address | H56: Development Proposal | I56: Units Gained | J56: Units Lost | K56: Net No. Units | L56: Bedrooms (small HMO) | M56: Development Type | N56: Ward | O56: Neighbourhood Area | P56: Easting | Q56: Northing | R56: UPRN | S56: Overlaps Adopted Allocation | T56: Overlaps Emerging Allocation | U56: Site Area | V56: Completion Status | W56: Units pending implementation | X56: Construction Period | Y56: Notes | AE56: Year of Trajectory | AF56: 1 | AG56: 2 | AH56: 3 | AI56: 4 | AJ56: 5 | AK56: 6 | AL56: 7 | AM56: 8 | AN56: 9 | AO56: 10 | AP56: 11 | AQ56: 12 | AR56: 13 | AS56: 14 | AT56: 15 | AU56: 16 | AV56: 17 | AW56: 18 | AX56: 19 | AY56: 20
A57: Ref | V57: Fully or Part Completed | X57: x years, x months, x days
A64: Total

Sheet Completions (NSC)
A1: Scheme level completion data not populated as yet. Revert to aggregated 'Completion Totals' Financial year totals will ultimately feed 'Completions Total' tab.
A3: Financial Year 2019-20 | AG3: 2019-2020 | AH3: 2020-2021 | AI3: 2021-2022 | AJ3: 2022-2023 | AK3: 2023-2024 | AL3: 2024-2025 | AM3: 2025-2026 | AN3: 2026-2027 | AO3: 2027-2028 | AP3: 2028-2029 | AQ3: 2029-2030 | AR3: 2030-2031 | AS3: 2031-2032 | AT3: 2032-2033 | AU3: 2033-2034 | AV3: 2034-2035 | AW3: 2035-2036 | AX3: 2036-2037 | AY3: 2037-2038 | AZ3: 2038-2039
A4: Planning Permission No. | B4: Decision | C4: Appeal | D4: Permission Date | E4: Start Date | F4: Completion Date | G4: Site Name / Address | H4: Development Proposal | I4: Bedrooms Gained | J4: Bedrooms Lost | K4: Net No. Bedrooms | L4: NSC Type | M4: Unit Net (Converted) | N4: Development Type | O4: Ward | P4: Neighbourhood Area | Q4: Easting | R4: Northing | S4: UPRN | T4: Overlaps Adopted Allocation | U4: Overlaps Emerging Allocation | V4: Site Area | W4: Completion Status | X4: Units pending implementation | Y4: Total Construction Period | Z4: Notes | AF4: Year of Trajectory | AG4: 1 | AH4: 2 | AI4: 3 | AJ4: 4 | AK4: 5 | AL4: 6 | AM4: 7 | AN4: 8 | AO4: 9 | AP4: 10 | AQ4: 11 | AR4: 12 | AS4: 13 | AT4: 14 | AU4: 15 | AV4: 16 | AW4: 17 | AX4: 18 | AY4: 19 | AZ4: 20
A5: Ref | W5: Fully or Part Completed | Y5: x years, x months, x days
A10: Total
A13: Financial Year 2020-21 | AG13: 2019-2020 | AH13: 2020-2021 | AI13: 2021-2022 | AJ13: 2022-2023 | AK13: 2023-2024 | AL13: 2024-2025 | AM13: 2025-2026 | AN13: 2026-2027 | AO13: 2027-2028 | AP13: 2028-2029 | AQ13: 2029-2030 | AR13: 2030-2031 | AS13: 2031-2032 | AT13: 2032-2033 | AU13: 2033-2034 | AV13: 2034-2035 | AW13: 2035-2036 | AX13: 2036-2037 | AY13: 2037-2038 | AZ13: 2038-2039
A14: Planning Permission No. | B14: Decision | C14: Appeal | D14: Permission Date | E14: Start Date | F14: Completion Date | G14: Site Name / Address | H14: Development Proposal | I14: Bedrooms Gained | J14: Bedrooms Lost | K14: Net No. Bedrooms | L14: NSC Type | M14: Unit Net (Converted) | N14: Development Type | O14: Ward | P14: Neighbourhood Area | Q14: Easting | R14: Northing | S14: UPRN | T14: Overlaps Adopted Allocation | U14: Overlaps Emerging Allocation | V14: Site Area | X14: Units pending implementation | Y14: Construction Period | Z14: Notes | AF14: Year of Trajectory | AG14: 1 | AH14: 2 | AI14: 3 | AJ14: 4 | AK14: 5 | AL14: 6 | AM14: 7 | AN14: 8 | AO14: 9 | AP14: 10 | AQ14: 11 | AR14: 12 | AS14: 13 | AT14: 14 | AU14: 15 | AV14: 16 | AW14: 17 | AX14: 18 | AY14: 19 | AZ14: 20
A15: Ref | W15: Fully or Part Completed | Y15: x years, x months, x days
A20: Total
A23: Financial Year 2021-22 | AG23: 2019-2020 | AH23: 2020-2021 | AI23: 2021-2022 | AJ23: 2022-2023 | AK23: 2023-2024 | AL23: 2024-2025 | AM23: 2025-2026 | AN23: 2026-2027 | AO23: 2027-2028 | AP23: 2028-2029 | AQ23: 2029-2030 | AR23: 2030-2031 | AS23: 2031-2032 | AT23: 2032-2033 | AU23: 2033-2034 | AV23: 2034-2035 | AW23: 2035-2036 | AX23: 2036-2037 | AY23: 2037-2038 | AZ23: 2038-2039
A24: Planning Permission No. | B24: Decision | C24: Appeal | D24: Permission Date | E24: Start Date | F24: Completion Date | G24: Site Name / Address | H24: Development Proposal | I24: Bedrooms Gained | J24: Bedrooms Lost | K24: Net No. Bedrooms | L24: NSC Type | M24: Unit Net (Converted) | N24: Development Type | O24: Ward | P24: Neighbourhood Area | Q24: Easting | R24: Northing | S24: UPRN | T24: Overlaps Adopted Allocation | U24: Overlaps Emerging Allocation | V24: Site Area | X24: Units pending implementation | Y24: Construction Period | Z24: Notes | AF24: Year of Trajectory | AG24: 1 | AH24: 2 | AI24: 3 | AJ24: 4 | AK24: 5 | AL24: 6 | AM24: 7 | AN24: 8 | AO24: 9 | AP24: 10 | AQ24: 11 | AR24: 12 | AS24: 13 | AT24: 14 | AU24: 15 | AV24: 16 | AW24: 17 | AX24: 18 | AY24: 19 | AZ24: 20
A25: Ref | W25: Fully or Part Completed | Y25: x years, x months, x days
A30: Total
A33: Financial Year 2022-23 | AG33: 2019-2020 | AH33: 2020-2021 | AI33: 2021-2022 | AJ33: 2022-2023 | AK33: 2023-2024 | AL33: 2024-2025 | AM33: 2025-2026 | AN33: 2026-2027 | AO33: 2027-2028 | AP33: 2028-2029 | AQ33: 2029-2030 | AR33: 2030-2031 | AS33: 2031-2032 | AT33: 2032-2033 | AU33: 2033-2034 | AV33: 2034-2035 | AW33: 2035-2036 | AX33: 2036-2037 | AY33: 2037-2038 | AZ33: 2038-2039
A34: Planning Permission No. | B34: Decision | C34: Appeal | D34: Permission Date | E34: Start Date | F34: Completion Date | G34: Site Name / Address | H34: Development Proposal | I34: Bedrooms Gained | J34: Bedrooms Lost | K34: Net No. Bedrooms | L34: NSC Type | M34: Unit Net (Converted) | N34: Development Type | O34: Ward | P34: Neighbourhood Area | Q34: Easting | R34: Northing | S34: UPRN | T34: Overlaps Adopted Allocation | U34: Overlaps Emerging Allocation | V34: Site Area | X34: Units pending implementation | Y34: Construction Period | Z34: Notes | AF34: Year of Trajectory | AG34: 1 | AH34: 2 | AI34: 3 | AJ34: 4 | AK34: 5 | AL34: 6 | AM34: 7 | AN34: 8 | AO34: 9 | AP34: 10 | AQ34: 11 | AR34: 12 | AS34: 13 | AT34: 14 | AU34: 15 | AV34: 16 | AW34: 17 | AX34: 18 | AY34: 19 | AZ34: 20
A35: Ref | W35: Fully or Part Completed | Y35: x years, x months, x days
A40: Total
A43: Financial Year 2023-24 | AG43: 2019-2020 | AH43: 2020-2021 | AI43: 2021-2022 | AJ43: 2022-2023 | AK43: 2023-2024 | AL43: 2024-2025 | AM43: 2025-2026 | AN43: 2026-2027 | AO43: 2027-2028 | AP43: 2028-2029 | AQ43: 2029-2030 | AR43: 2030-2031 | AS43: 2031-2032 | AT43: 2032-2033 | AU43: 2033-2034 | AV43: 2034-2035 | AW43: 2035-2036 | AX43: 2036-2037 | AY43: 2037-2038 | AZ43: 2038-2039
A44: Planning Permission No. | B44: Decision | C44: Appeal | D44: Permission Date | E44: Start Date | F44: Completion Date | G44: Site Name / Address | H44: Development Proposal | I44: Bedrooms Gained | J44: Bedrooms Lost | K44: Net No. Bedrooms | L44: NSC Type | M44: Unit Net (Converted) | N44: Development Type | O44: Ward | P44: Neighbourhood Area | Q44: Easting | R44: Northing | S44: UPRN | T44: Overlaps Adopted Allocation | U44: Overlaps Emerging Allocation | V44: Site Area | X44: Units pending implementation | Y44: Construction Period | Z44: Notes | AF44: Year of Trajectory | AG44: 1 | AH44: 2 | AI44: 3 | AJ44: 4 | AK44: 5 | AL44: 6 | AM44: 7 | AN44: 8 | AO44: 9 | AP44: 10 | AQ44: 11 | AR44: 12 | AS44: 13 | AT44: 14 | AU44: 15 | AV44: 16 | AW44: 17 | AX44: 18 | AY44: 19 | AZ44: 20
A45: Ref | W45: Fully or Part Completed | Y45: x years, x months, x days
A50: Total
A53: Financial Year 2024-25 | AG53: 2019-2020 | AH53: 2020-2021 | AI53: 2021-2022 | AJ53: 2022-2023 | AK53: 2023-2024 | AL53: 2024-2025 | AM53: 2025-2026 | AN53: 2026-2027 | AO53: 2027-2028 | AP53: 2028-2029 | AQ53: 2029-2030 | AR53: 2030-2031 | AS53: 2031-2032 | AT53: 2032-2033 | AU53: 2033-2034 | AV53: 2034-2035 | AW53: 2035-2036 | AX53: 2036-2037 | AY53: 2037-2038 | AZ53: 2038-2039
A54: Planning Permission No. | B54: Decision | C54: Appeal | D54: Permission Date | E54: Start Date | F54: Completion Date | G54: Site Name / Address | H54: Development Proposal | I54: Bedrooms Gained | J54: Bedrooms Lost | K54: Net No. Bedrooms | L54: NSC Type | M54: Unit Net (Converted) | N54: Development Type | O54: Ward | P54: Neighbourhood Area | Q54: Easting | R54: Northing | S54: UPRN | T54: Overlaps Adopted Allocation | U54: Overlaps Emerging Allocation | V54: Site Area | X54: Units pending implementation | Y54: Construction Period | Z54: Notes | AF54: Year of Trajectory | AG54: 1 | AH54: 2 | AI54: 3 | AJ54: 4 | AK54: 5 | AL54: 6 | AM54: 7 | AN54: 8 | AO54: 9 | AP54: 10 | AQ54: 11 | AR54: 12 | AS54: 13 | AT54: 14 | AU54: 15 | AV54: 16 | AW54: 17 | AX54: 18 | AY54: 19 | AZ54: 20
A55: Ref | W55: Fully or Part Completed | Y55: x years, x months, x days
A60: Total

Sheet Completions Total
A1: Note completions breakdown unavailable at present. Only aggregated totals are given below.
B3: 2019-2020 | C3: 2020-2021 | D3: 2021-2022 | E3: 2022-2023 | F3: 2023-2024 | G3: 2024-2025 | H3: 2025-2026 | I3: 2026-2027 | J3: 2027-2028 | K3: 2028-2029 | L3: 2029-2030 | M3: 2030-2031 | N3: 2031-2032 | O3: 2032-2033 | P3: 2033-2034 | Q3: 2034-2035 | R3: 2035-2036 | S3: 2036-2037 | T3: 2037-2038 | U3: 2038-2039
A4: Component | B4: -5 | C4: -4 | D4: -3 | E4: -2 | F4: -1 | G4: 0 | H4: 1 | I4: 2 | J4: 3 | K4: 4 | L4: 5 | M4: 6 | N4: 7 | O4: 8 | P4: 9 | Q4: 10 | R4: 11 | S4: 12 | T4: 13 | U4: 14
A5: Conventional Completions (Small Sites)
A6: Conventional Completions (Large Sites)
A7: Non Conventional Completions
A8: Completions Total | B8: 1863 | C8: 1994 | D8: 1079 | E8: 1774 | F8: 966 | G8: 1238

Sheet Projections Summary Table
C2: 2019-2020 | D2: 2020-2021 | E2: 2021-2022 | F2: 2022-2023 | G2: 2023-2024 | H2: 2024-2025 | I2: 2025-2026 | J2: 2026-2027 | K2: 2027-2028 | L2: 2028-2029 | M2: 2029-2030 | N2: 2030-2031 | O2: 2031-2032 | P2: 2032-2033 | Q2: 2033-2034 | R2: 2034-2035 | S2: 2035-2036 | T2: 2036-2037 | U2: 2037-2038 | V2: 2038-2039 | Y2: Affordable Breakdown | AA2: 2019-2020 | AB2: 2020-2021 | AC2: 2021-2022 | AD2: 2022-2023 | AE2: 2023-2024 | AF2: 2024-2025 | AG2: 2025-2026 | AH2: 2026-2027 | AI2: 2027-2028 | AJ2: 2028-2029 | AK2: 2029-2030 | AL2: 2030-2031 | AM2: 2031-2032 | AN2: 2032-2033 | AO2: 2033-2034 | AP2: 2034-2035 | AQ2: 2035-2036 | AR2: 2036-2037 | AS2: 2037-2038 | AT2: 2038-2039
A3: Status | B3: Component | C3: -5 | D3: -4 | E3: -3 | F3: -2 | G3: -1 | H3: 0 | I3: 1 | J3: 2 | K3: 3 | L3: 4 | M3: 5 | N3: 6 | O3: 7 | P3: 8 | Q3: 9 | R3: 10 | S3: 11 | T3: 12 | U3: 13 | V3: 14 | W3: Component Total | Y3: Status | Z3: Component | AA3: -4 | AB3: -3 | AC3: -2 | AD3: -1 | AE3: 0 | AF3: 1 | AG3: 2 | AH3: 3 | AI3: 4 | AJ3: 5 | AK3: 6 | AL3: 7 | AM3: 8 | AN3: 9 | AO3: 10 | AP3: 11 | AQ3: 12 | AR3: 13 | AS3: 14 | AT3: 15 | AU3: Component Total
A4: Pipeline: Extant Permission | B4: Conventional Large | I4: ='Conventional Pipeline (Large)'!AN70 -> 1452 | J4: ='Conventional Pipeline (Large)'!AO70 -> 1719 | K4: ='Conventional Pipeline (Large)'!AP70 -> 1999 | L4: ='Conventional Pipeline (Large)'!AQ70 -> 1508 | M4: ='Conventional Pipeline (Large)'!AR70 -> 1947 | N4: ='Conventional Pipeline (Large)'!AS70 -> 1696 | O4: ='Conventional Pipeline (Large)'!AT70 -> 807 | P4: ='Conventional Pipeline (Large)'!AU70 -> 325 | ... V4: ='Conventional Pipeline (Large)'!BA70 -> 0 | W4: =SUM(H4:V4) -> 11654 | Y4: Pipeline: Extant Permission | Z4: Conventional Large | AF4: ='Conventional Pipeline (Large)'!BJ70 -> 361 | AG4: ='Conventional Pipeline (Large)'!BK70 -> 477 | AH4: ='Conventional Pipeline (Large)'!BL70 -> 585 | AI4: ='Conventional Pipeline (Large)'!BM70 -> 559 | AJ4: ='Conventional Pipeline (Large)'!BN70 -> 626 | AK4: ='Conventional Pipeline (Large)'!BO70 -> 553 | AL4: ='Conventional Pipeline (Large)'!BP70 -> 479 | AM4: ='Conventional Pipeline (Large)'!BQ70 -> 397 | ... AT4: ='Conventional Pipeline (Large)'!BX70 -> 0 | AU4: =SUM(AF4:AT4) -> 4181
A5: Pipeline: Extant Permission | B5: Non Conventional (NSC) | I5: ='NSC Pipeline'!AM16 -> 0 | J5: ='NSC Pipeline'!AN16 -> 300 | K5: ='NSC Pipeline'!AO16 -> 170 | L5: ='NSC Pipeline'!AP16 -> 258 | M5: ='NSC Pipeline'!AQ16 -> 147 | N5: ='NSC Pipeline'!AR16 -> 60 | O5: ='NSC Pipeline'!AS16 -> 59 | P5: ='NSC Pipeline'!AT16 -> 0 | ... V5: ='NSC Pipeline'!AZ16 -> 0 | W5: =SUM(H5:V5) -> 994 | Y5: Pipeline: Extant Permission | Z5: Non Conventional (NSC) | AU5: =SUM(AF5:AT5) -> 0
A6: Pending: Schemes awaiting decision | B6: Conventional Large | I6: ='Conventional Pending (Large)'!AN17 -> 0 | J6: ='Conventional Pending (Large)'!AO17 -> 0 | K6: ='Conventional Pending (Large)'!AP17 -> 0 | L6: ='Conventional Pending (Large)'!AQ17 -> 0 | M6: ='Conventional Pending (Large)'!AR17 -> 852 | N6: ='Conventional Pending (Large)'!AS17 -> 640 | O6: ='Conventional Pending (Large)'!AT17 -> 689 | P6: ='Conventional Pending (Large)'!AU17 -> 214 | ... V6: ='Conventional Pending (Large)'!BA17 -> 214 | W6: =SUM(H6:V6) -> 3679 | Y6: Pending: Schemes awaiting decision | Z6: Conventional Large | AF6: ='Conventional Pending (Large)'!BJ17 -> 0 | AG6: ='Conventional Pending (Large)'!BK17 -> 0 | AH6: ='Conventional Pending (Large)'!BL17 -> 0 | AI6: ='Conventional Pending (Large)'!BM17 -> 53 | AJ6: ='Conventional Pending (Large)'!BN17 -> 53 | AK6: ='Conventional Pending (Large)'!BO17 -> 125 | AL6: ='Conventional Pending (Large)'!BP17 -> 127 | AM6: ='Conventional Pending (Large)'!BQ17 -> 127 | ... AT6: ='Conventional Pending (Large)'!BX17 -> 75 | AU6: =SUM(AF6:AT6) -> 1062
A7: Pending: Schemes awaiting decision | B7: Non Conventional (NSC) | I7: ='NSC Pending'!AN10 -> 0 | J7: ='NSC Pending'!AO10 -> 0 | K7: ='NSC Pending'!AP10 -> 0 | L7: ='NSC Pending'!AQ10 -> 39 | M7: ='NSC Pending'!AR10 -> 138 | N7: ='NSC Pending'!AS10 -> 125 | O7: ='NSC Pending'!AT10 -> 21 | P7: ='NSC Pending'!AU10 -> 0 | ... V7: ='NSC Pending'!BA10 -> 0 | W7: =SUM(H7:V7) -> 323 | Y7: Pending: Schemes awaiting decision | Z7: Non Conventional (NSC) | AU7: =SUM(AF7:AT7) -> 0
A8: Without relevant permission and unimplemented | B8: Site Allocations Conventional Large | I8: ='ConventionalAllocations (Large)'!AK127 -> 0 | J8: ='ConventionalAllocations (Large)'!AL127 -> 0 | K8: ='ConventionalAllocations (Large)'!AM127 -> 0 | L8: ='ConventionalAllocations (Large)'!AN127 -> 41 | M8: ='ConventionalAllocations (Large)'!AO127 -> 174 | N8: ='ConventionalAllocations (Large)'!AP127 -> 887 | O8: ='ConventionalAllocations (Large)'!AQ127 -> 1444 | P8: ='ConventionalAllocations (Large)'!AR127 -> 2133 | ... V8: ='ConventionalAllocations (Large)'!AX127 -> 450 | W8: =SUM(H8:V8) -> 10938 | Y8: Without relevant permission and unimplemented | Z8: Site Allocations Conventional Large | AF8: ='ConventionalAllocations (Large)'!BG127 -> 0 | AG8: ='ConventionalAllocations (Large)'!BH127 -> 0 | AH8: ='ConventionalAllocations (Large)'!BI127 -> 0 | AI8: ='ConventionalAllocations (Large)'!BJ127 -> 56 | AJ8: ='ConventionalAllocations (Large)'!BK127 -> 403 | AK8: ='ConventionalAllocations (Large)'!BL127 -> 609 | AL8: ='ConventionalAllocations (Large)'!BM127 -> 991 | AM8: ='ConventionalAllocations (Large)'!BN127 -> 935 | ... AT8: ='ConventionalAllocations (Large)'!BU127 -> 0 | AU8: =SUM(AF8:AT8) -> 5551
A9: Without relevant permission and unimplemented | B9: Site Allocations Non Conventional | I9: ='NSC Allocations'!AI6 -> 0 | J9: ='NSC Allocations'!AJ6 -> 0 | K9: ='NSC Allocations'!AK6 -> 0 | L9: ='NSC Allocations'!AL6 -> 0 | M9: ='NSC Allocations'!AM6 -> 0 | N9: ='NSC Allocations'!AN6 -> 0 | O9: ='NSC Allocations'!AO6 -> 0 | P9: ='NSC Allocations'!AP6 -> 0 | ... V9: ='NSC Allocations'!AV6 -> 0 | W9: =SUM(H9:V9) -> 0 | Y9: Without relevant permission and unimplemented | Z9: Site Allocations Non Conventional | AU9: =SUM(AF9:AT9) -> 0
A10: Without relevant permission and unimplemented | B10: Conventional Large Windfall Masterplan | I10: ='Conv Windfall (Large Mplan)'!AI12 -> 0 | J10: ='Conv Windfall (Large Mplan)'!AJ12 -> 0 | K10: ='Conv Windfall (Large Mplan)'!AK12 -> 0 | L10: ='Conv Windfall (Large Mplan)'!AL12 -> 0 | M10: ='Conv Windfall (Large Mplan)'!AM12 -> 172 | N10: ='Conv Windfall (Large Mplan)'!AN12 -> 172 | O10: ='Conv Windfall (Large Mplan)'!AO12 -> 172 | P10: ='Conv Windfall (Large Mplan)'!AP12 -> 172 | ... V10: ='Conv Windfall (Large Mplan)'!AV12 -> 315 | W10: =SUM(H10:V10) -> 3039 | Y10: Without relevant permission and unimplemented | Z10: Conventional Large Windfall Masterplan | AF10: ='Conv Windfall (Large Mplan)'!BE12 -> 0 | AG10: ='Conv Windfall (Large Mplan)'!BF12 -> 0 | AH10: ='Conv Windfall (Large Mplan)'!BG12 -> 0 | AI10: ='Conv Windfall (Large Mplan)'!BH12 -> 0 | AJ10: ='Conv Windfall (Large Mplan)'!BI12 -> 0 | AK10: ='Conv Windfall (Large Mplan)'!BJ12 -> 0 | AL10: ='Conv Windfall (Large Mplan)'!BK12 -> 0 | AM10: ='Conv Windfall (Large Mplan)'!BL12 -> 0 | ... AT10: ='Conv Windfall (Large Mplan)'!BS12 -> 0 | AU10: =SUM(AF10:AT10) -> 0
A11: Forecast/Modelled | B11: Conventional Small Sites | I11: ='Conventional (Small Site)'!H5 -> 424 | J11: ='Conventional (Small Site)'!I5 -> 424 | K11: ='Conventional (Small Site)'!J5 -> 424 | L11: ='Conventional (Small Site)'!K5 -> 424 | M11: ='Conventional (Small Site)'!L5 -> 424 | N11: ='Conventional (Small Site)'!M5 -> 424 | O11: ='Conventional (Small Site)'!N5 -> 424 | P11: ='Conventional (Small Site)'!O5 -> 424 | ... V11: ='Conventional (Small Site)'!U5 -> 424 | W11: =SUM(H11:V11) -> 5936 | Y11: Forecast/Modelled | Z11: Conventional Small Sites | AU11: =SUM(AF11:AT11) -> 0
A12: Totals | Y12: Totals
A13: _ | B13: Conventional Large forecast completions | I13: =I4+I6+I8+I10 -> 1452 | J13: =J4+J6+J8+J10 -> 1719 | K13: =K4+K6+K8+K10 -> 1999 | L13: =L4+L6+L8+L10 -> 1549 | M13: =M4+M6+M8+M10 -> 3145 | N13: =N4+N6+N8+N10 -> 3395 | O13: =O4+O6+O8+O10 -> 3112 | P13: =P4+P6+P8+P10 -> 2844 | ... V13: =V4+V6+V8+V10 -> 979 | W13: =SUM(H13:V13) -> 29310 | Y13: _ | Z13: Conventional Large forecast completions | AF13: =AF4+AF6+AF8+AF10 -> 361 | AG13: =AG4+AG6+AG8+AG10 -> 477 | AH13: =AH4+AH6+AH8+AH10 -> 585 | AI13: =AI4+AI6+AI8+AI10 -> 668 | AJ13: =AJ4+AJ6+AJ8+AJ10 -> 1082 | AK13: =AK4+AK6+AK8+AK10 -> 1287 | AL13: =AL4+AL6+AL8+AL10 -> 1597 | AM13: =AM4+AM6+AM8+AM10 -> 1459 | ... AT13: =AT4+AT6+AT8+AT10 -> 75 | AU13: =SUM(AF13:AT13) -> 10794
A14: _ | B14: Non Conventional forecast completions | I14: =I5+I7+I9 -> 0 | J14: =J5+J7+J9 -> 300 | K14: =K5+K7+K9 -> 170 | L14: =L5+L7+L9 -> 297 | M14: =M5+M7+M9 -> 285 | N14: =N5+N7+N9 -> 185 | O14: =O5+O7+O9 -> 80 | P14: =P5+P7+P9 -> 0 | ... V14: =V5+V7+V9 -> 0 | W14: =SUM(H14:V14) -> 1317 | Y14: _ | Z14: Non Conventional forecast completions | AF14: =AF5+AF7+AF9 -> 0 | AG14: =AG5+AG7+AG9 -> 0 | AH14: =AH5+AH7+AH9 -> 0 | AI14: =AI5+AI7+AI9 -> 0 | AJ14: =AJ5+AJ7+AJ9 -> 0 | AK14: =AK5+AK7+AK9 -> 0 | AL14: =AL5+AL7+AL9 -> 0 | AM14: =AM5+AM7+AM9 -> 0 | ... AT14: =AT5+AT7+AT9 -> 0 | AU14: =SUM(AF14:AT14) -> 0
A15: _ | B15: Conventional Small Sites forecast completions | I15: =I11 -> 424 | J15: =J11 -> 424 | K15: =K11 -> 424 | L15: =L11 -> 424 | M15: =M11 -> 424 | N15: =N11 -> 424 | O15: =O11 -> 424 | P15: =P11 -> 424 | ... V15: =V11 -> 424 | W15: =SUM(H15:V15) -> 5936 | Y15: _ | Z15: Conventional Small Sites forecast completions | AF15: =AF11 -> 0 | AG15: =AG11 -> 0 | AH15: =AH11 -> 0 | AI15: =AI11 -> 0 | AJ15: =AJ11 -> 0 | AK15: =AK11 -> 0 | AL15: =AL11 -> 0 | AM15: =AM11 -> 0 | ... AT15: =AT11 -> 0 | AU15: =SUM(AF15:AT15) -> 0
A16: _ | B16: Total forecast completions | I16: =SUM(I13:I15) -> 1876 | J16: =SUM(J13:J15) -> 2443 | K16: =SUM(K13:K15) -> 2593 | L16: =SUM(L13:L15) -> 2270 | M16: =SUM(M13:M15) -> 3854 | N16: =SUM(N13:N15) -> 4004 | O16: =SUM(O13:O15) -> 3616 | P16: =SUM(P13:P15) -> 3268 | ... V16: =SUM(V13:V15) -> 1403 | W16: =SUM(H16:V16) -> 36563 | Y16: _ | Z16: Total forecast completions | AF16: =SUM(AF13:AF15) -> 361 | AG16: =SUM(AG13:AG15) -> 477 | AH16: =SUM(AH13:AH15) -> 585 | AI16: =SUM(AI13:AI15) -> 668 | AJ16: =SUM(AJ13:AJ15) -> 1082 | AK16: =SUM(AK13:AK15) -> 1287 | AL16: =SUM(AL13:AL15) -> 1597 | AM16: =SUM(AM13:AM15) -> 1459 | ... AT16: =SUM(AT13:AT15) -> 75 | AU16: =SUM(AF16:AT16) -> 10794

Sheet Conventional Pipeline (Large)
BD2: Affordable Component (Nov 2023) To be updated
H3: Unimplemented Units | AH3: 2019-2020 | AI3: 2020-2021 | AJ3: 2021-2022 | AK3: 2022-2023 | AL3: 2023-2024 | AM3: 2024-2025 | AN3: 2025-2026 | AO3: 2026-2027 | AP3: 2027-2028 | AQ3: 2028-2029 | AR3: 2029-2030 | AS3: 2030-2031 | AT3: 2031-2032 | AU3: 2032-2033 | AV3: 2033-2034 | AW3: 2034-2035 | AX3: 2035-2036 | AY3: 2036-2037 | AZ3: 2037-2038 | BA3: 2038-2039 | BE3: 2019-2020 | BF3: 2020-2021 | BG3: 2021-2022 | BH3: 2022-2023 | BI3: 2023-2024 | BJ3: 2024-2025 | BK3: 2025-2026 | BL3: 2026-2027 | BM3: 2027-2028 | BN3: 2028-2029 | BO3: 2029-2030 | BP3: 2030-2031 | BQ3: 2031-2032 | BR3: 2032-2033 | BS3: 2033-2034 | BT3: 2034-2035 | BU3: 2035-2036 | BV3: 2036-2037 | BW3: 2037-2038 | BX3: 2038-2039
A4: Planning Permission No. | B4: Decision | C4: Appeal | D4: Permission Date | E4: Start Date | F4: Site Name / Address | G4: Development Proposal | H4: Units Gained | I4: Units Lost | J4: Net No. Units | K4: Bedrooms (small HMO) | L4: Development Type | M4: Ward | N4: Neighbourhood Area | O4: Easting | P4: Northing | Q4: UPRN | R4: Overlaps Adopted Allocation | S4: Overlaps Emerging Allocation | T4: Unimplemented Capacity Substituted by Allocation | U4: Site Area | V4: Net Capacity to plug into Trajectory | W4: Affordable Low Cost Net (Nov 23) | X4: Affordable Intermediate Net (Nov 23) | Y4: Affordable Total Net (Nov 23) | Z4: Net Percentage % (Nov 23) | AA4: Affordable Notes (Nov 23) | AB4: Scheme Progress | AC4: Notes | AD4: Phasing Notes | AG4: Year of Trajectory | AH4: -5 | AI4: -4 | AJ4: -3 | AK4: -2 | AL4: -1 | AM4: 0 | AN4: 1 | AO4: 2 | AP4: 3 | AQ4: 4 | AR4: 5 | AS4: 6 | AT4: 7 | AU4: 8 | AV4: 9 | AW4: 10 | AX4: 11 | AY4: 12 | AZ4: 13 | BA4: 14 | BB4: Scheme Total | BD4: Year of Trajectory | BE4: -4 | BF4: -3 | BG4: -2 | BH4: -1 | BI4: 0 | BJ4: 1 | BK4: 2 | BL4: 3 | BM4: 4 | BN4: 5 | BO4: 6 | BP4: 7 | BQ4: 8 | BR4: 9 | BS4: 10 | BT4: 11 | BU4: 12 | BV4: 13 | BW4: 14 | BX4: 15 | BY4: Affordable Scheme Total
A5: 223203FUL | B5: Grant with S106 Obligations | D5: 44966 | E5: 45007 | F5: The Steyne Estate, Steyne Road, W3 9NF | H5: 188 | I5: 0 | J5: 188 | M5: South Acton | N5: Acton | O5: 519873 | P5: 180383 | R5: No | S5: Allocation (AC02) not pursued | T5: 0 | U5: 1.42 | V5: 188 | W5: 71 | X5: 90 | Y5: 161 | Z5: =Y5/V5*100 -> 85.638298 | AA5: 71 LAR for older adults 90 LSO No existing units lost. | AB5: Started | AC5: Current plans are progressing infill only scheme. Alterations to existing blocks (Moreton or Rufford Towers) only impact on ground floor space and do not alter numbers. Gross and net figures (188) therefore the same. | AD5: CIL records confirm commencement late March 2023. Bespoke - Phasing informed by scheme specific information - 'topping out achieved September 2025. Completion anticipated Autumn 2026. | AN5: 0 | AO5: 188 | AP5: 0 | AQ5: 0 | AR5: 0 | AS5: 0 | AT5: 0 | AU5: 0 | AV5: 0 | AW5: 0 | AX5: 0 | AY5: 0 | AZ5: 0 | BA5: 0 | BB5: =SUM(AN5:BA5) -> 188 | BJ5: 0 | BK5: 80 | BL5: 81 | BM5: 0 | BN5: 0 | BO5: 0 | BP5: 0 | BQ5: 0 | BR5: 0 | BS5: 0 | BT5: 0 | BU5: 0 | BV5: 0 | BW5: 0 | BX5: 0 | BY5: =SUM(BI5:BX5) -> 161
A6: 182579OUT | B6: Grant with S106 Obligations | D6: 43458 | F6: Acton Gardens (Phases 7-11) | G6: Hybrid application for continued regeneration of South Acton Estate | H6: 1950 | I6: ? | J6: ? | M6: South Acton | N6: Acton | R6: No | S6: 02AC (AC04) | T6: 425 | U6: 13.61 | V6: 0 | Z6: =Y6/V6*100 -> #DIV/0! | AB6: Part Completed Part Superseded | AC6: The capacity associated with this permission is now fully accounted for. In part this capacity has been completed. A proportion has been superseded by reserved matter applications for select phases which are detailed below. The outstanding capacity (approved in outline only currently) is superseded by the allocation input. Based on the original phasing plan the allocation now encapsulates phases 7.2, 7.3, 7.4, 7.5, 8.3, 10.1, 10.2, 11.1 & 11.2. Beyond the allocation boundary the remaining phases to be delivered include Phases 8.1 & 8.2 (part - block C2), 9.3, 9.5 and 9.6. The capacity associated with these permitted phases has been assigned separately under their respective reserve matters applications below. | AD6: NA | AN6: 0 | AO6: 0 | AP6: 0 | AQ6: 0 | AR6: 0 | AS6: 0 | AT6: 0 | AU6: 0 | AV6: 0 | AW6: 0 | AX6: 0 | AY6: 0 | AZ6: 0 | BA6: 0 | BB6: =SUM(AN6:BA6) -> 0 | BY6: =SUM(BI6:BX6) -> 0
A7: 215892REM | B7: Grant with Conditions | D7: 44554 | E7: 45453 | F7: Acton Gardens (Phases 9.3, 9.5 & 9.6) | H7: 207 | I7: 120 | J7: 87 | M7: South Acton | N7: Acton | O7: 520105 | P7: 179616 | R7: No | S7: No | T7: NA | U7: 1.8 | V7: 87 | Z7: =Y7/V7*100 -> 0 | AA7: Gains comprise 116 OMS; 75 LAR; 21 SO and 3 x shared equity for transferring leaseholders. 120 exiting units on site as original, but tenure unclear. Unable to determine net affordable position. Query overall gross total - is it 207 or 215? | AB7: Started | AC7: Note suggested modifications post Reg 19 which propose omitting phases 9.3, 9.5 and 9.6 from the allocation boundary. Phases 9.3, 9.5 and 9.6 are now to be delivered under the approved reserved matters application (215892REM), and the capacity associated with these phases has been assigned here to the pipeline tab. | AD7: Bespoke - Recent approval of piling works in April 2024. Demolition of original blocks commenced in June 2024. The first homes are expected to be delivered late 2026. | AN7: 0 | AO7: 87 | AP7: 0 | AQ7: 0 | AR7: 0 | AS7: 0 | AT7: 0 | AU7: 0 | AV7: 0 | AW7: 0 | AX7: 0 | AY7: 0 | AZ7: 0 | BA7: 0 | BB7: =SUM(AN7:BA7) -> 87 | BY7: =SUM(BI7:BX7) -> 0
A8: 195428REM | B8: Grant with Conditions | D8: 44005 | E8: 44381 | F8: Acton Gardens, Bollo Lane, W3 8TQ (Phases 8.1 & 8.2 part) | G8: Reserved matters application for Phases 8.1 and 8.2. 336 new residential units | H8: 187 | I8: 49 | J8: 138 | M8: South Acton | N8: Acton | O8: 520116 | P8: 179631 | R8: No | S8: No | T8: NA | U8: 2.03 | V8: 138 | Z8: =Y8/V8*100 -> 0 | AA8: 29 Shared Ownership and 99 London Affordable Rent. Some of the supporting documents refer to 98 LAR units. 103 existing units to be replaced, but tenure unclear. Block A1 -21 apartments and maisonettes for shared ownership. Block A2 - 16 apartments for private sale. Block B1 - 32 apartments and maisonettes for affordable rent. Block C1 - 31 maisonettes and apartments for private sale. Block C2 - Four private sale 3-bed mews houses sit at the centre of Phase 8.2. Accessed from the north-south street between Blocks B2 and C1. 2 x 3bed private sale houses west of Block C. Block D1 - 41 maisonettes and apartments for private sale. Block D2 - 16 maisonettes for affordable rent Block D2 sits along the eastern edge of the Phase 8.1 courtyard block between the Blocks of D3 and D1. Block D3 - Block D3 forms the south-eastern corner of the Phase 8.1 courtyard building. It provides 8 maisonettes and apartments for affordable rent. Block D4 - Block D4 forms the south western corner of the Phase 8.1 courtyard building. 24 maisonettes and apartments for private sale and shared ownership. Block D5 - Block D5 forms the north-western corner of the Phase 8.1 courtyard building. It offers 53 maisonettes and apartments for private sale and shared ownership. Block E - Block E marks the most north eastern element of the Phase 8.1 development, it provides 19 maisonettes and apartments for affordable rent. | AB8: Started | AC8: 336 gross gain across both phases (Phase 8.1 = 161 , Phase 8.2 = 149 + 26) 210 gross losses across both phases (Phase 8.1 = 49 , Phase 8.2 = 107 + 54) Phase 8.2 commenced May 2020. Comprises existing units at Carisbrooke Court, Barwick House and Brouncker Road. Phase 8.2 part completed Aug 2023 – blocks A1 & B2 completed (149 gross gain / -107 gross loss / 42 net Block C2 started, due to complete mid 2025 (26 gross gain & -54 gross loss (note 54 units at Carisbrooke Court were demolished and lost during 2024/25) = -28 net) Phase 8.1 not started (indicative start date late Spring 2024) but due to complete in 2026 Phase 8.1 comprises existing units at Ludlow Court (49) to be lost. Remaining unimplemented 8.1 (112 net) and block C2 phase 8.2 (26 net) = 138 net. | AD8: Phase 8.2 commenced May 2020. Comprises existing units at Carisbrooke Court, Barwick House and Brouncker Road. Phase 8.2 part completed Aug 2023 – blocks A1 & B2 completed (149 gross gain / -107 gross loss / 42 net Block C2 started, due to complete mid 2025 (26 gross gain & -54 gross loss = -28 net. Note loss of 54 units recorded in 2024/25 already. Phase 8.1 not started (indicative start date late Spring 2024) but due to complete in 2026 | AN8: 26 | AO8: 112 | AP8: 0 | AQ8: 0 | AR8: 0 | AS8: 0 | AT8: 0 | AU8: 0 | AV8: 0 | AW8: 0 | AX8: 0 | AY8: 0 | AZ8: 0 | BA8: 0 | BB8: =SUM(AN8:BA8) -> 138 | BY8: =SUM(BI8:BX8) -> 0
A9: 181990FUL | B9: Grant with Conditions | D9: 43808 | F9: Acton and West London College Mill Hill Road Acton Ealing W3 8UX | H9: 0 | I9: 0 | J9: 0 | M9: South Acton | N9: Acton | O9: 519694 | P9: 180150 | U9: 1.28 | V9: 0 | AB9: Completed | AC9: 116 units completed 04/12/2024, as per 24/25 HFR submission. | AD9: Fully completed within 2024/25 reporting year | AN9: 0 | AO9: 0 | AP9: 0 | AQ9: 0 | AR9: 0 | AS9: 0 | AT9: 0 | AU9: 0 | AV9: 0 | AW9: 0 | AX9: 0 | AY9: 0 | AZ9: 0 | BA9: 0 | BB9: =SUM(AN9:BA9) -> 0
A10: 232800FUL | B10: Grant with S106 Obligations | D10: 45420 | F10: 1 Stirling Road/1-9 Colville Road And 67-81 Stirling Road Acton W3 8DJ | G10: 95 C3 units proposed. Part supersedes 214611FUL. PBSA 200 studios and 229 clusters also proposed (equates to 429 bedrooms). 252720NMA amends unit size, accessible unit provision, external changes and increases commercial floor area (no change in unit totals of tenure mix). | H10: 95 | I10: 0 | J10: 95 | M10: South Acton | N10: Acton | O10: 519884 | P10: 179182 | R10: No | S10: No | T10: NA (Windfall 001) | U10: 0.329 | V10: 95 | W10: 49 | X10: 46 | Y10: 95 | AA10: A total of 95 affordable C3 units, comprising 49 LAR and 46 Shared Ownership. | AB10: Approval (as of 31/03/2025) | AC10: Previously (in version 2) captured in the pending tab. This permission comprises both C3 and PBSA accommodation. Only C3 units are recorded here, with PBSA assigned to NSC Pipeline tab. The scheme comprises two physically separate sites (Bollo Yard C3 and Bollo Place PBSA), with a combined site area of 0.329 ha. 429 student bed spaces equates to 172 units. When combined with 95 C3 units the overall unit provision equates to 267 units. | AD10: Bespoke - Decision issued May 2024. A number of conditions have been discharged or are pending consideration. These include a construction management plan which indicate that demolition could start in Autumn 2024 with final fit out in Summer 2027 (approx. 33 months). This is adjusted by 12 months to account for delay in securing permission and commencement (confirmed via CIL as Sept 2025). The C3 and PBSA accommodation are located in separate blocks. | AN10: 0 | AO10: 0 | AP10: 0 | AQ10: 95 | AR10: 0 | AS10: 0 | AT10: 0 | AU10: 0 | AV10: 0 | AW10: 0 | AX10: 0 | AY10: 0 | AZ10: 0 | BA10: 0 | BB10: =SUM(AN10:BA10) -> 95
