{"text_format":"1","workbook":"xlsx","n_sheets":6,"sheets":["Project Details","Dashboard","Data","Maps","Site 1","Site 26"],"not_rendered":{"charts":2,"images":16,"macros":1,"external_links":1,"defined_names":16,"comments":0,"pivot_tables":0},"unopened":[],"bounds":{"document_bytes":16777216,"sheet_cells":100000,"rows_first":2000,"rows_last":500,"rows_between":2000,"halvings":0,"cell_chars":16384,"cell_head_chars":4096},"cells_cut":0,"cells_raw":0,"read":"whole","date_system":"1900"}

{"sheet":"Project Details","index":0,"n_rows":25,"n_cols":8,"rows_kept":25,"cut":false,"hidden":false,"merged":[[13,5,13,9],[21,5,22,12]]}
[]
[]
[]
[]
[]
[]
[null,null,null,null,null,null,null,"Junction Turning Count"]
[]
[null,null,"Project Number",null,null,"4780-LON"]
[null,null,"Project Name",null,null,"Chiswick & Turnham Green area"]
[null,null,"Client",null,null,"LB of Ealing"]
[]
[null,null,"Sites:",null,null,"1 & 26"]
[null,null,"Survey Date:",null,null,"2021-04-29"]
[null,null,"Survey Time:",null,null,"07:00-19:00"]
[]
[null,null,"AM Weather:",null,null,"Dry"]
[null,null,"PM Weather:",null,null,"Dry"]
[]
[null,null,"Observations:",null,null,"No incidents or observations during the survey period."]
[]
[]
[]
[null,"Tracsis will retain all personal data relating to this project, including all video images, for a period of three months after receipt of this report and all other data files for one year. "]
[null,"If you would like a copy of the personal data or wish for us to retain for a longer period, please do not hesitate to contact us."]

{"sheet":"Dashboard","index":1,"n_rows":41,"n_cols":55,"rows_kept":41,"cut":false,"hidden":false,"merged":[[3,33,3,36],[7,1,7,9],[55,15,55,16],[55,18,55,30],[56,15,56,16],[8,26,14,31],[56,28,57,28],[58,28,59,28],[71,15,71,20],[71,21,71,30],[56,23,57,23],[58,23,59,23],[60,23,61,23],[62,23,63,23],[64,23,65,23],[66,23,67,23],[68,23,69,23],[56,24,57,24],[58,24,59,24],[60,24,61,24],[62,24,63,24],[64,24,65,24],[65,15,65,16],[66,15,66,16],[66,24,67,24],[68,24,69,24],[56,27,57,27],[58,27,59,27],[67,15,69,16],[57,15,59,16]]}
[null,null,null,null,null,null,null,null,null,null,null,null,null,null,null,null,null,null,null,null,null,null,null,null,null,null,null,null,null,null,null,null,null,null,null,null,null,0,null,null,null,null,null,null,null,null,null,null,null,null,null,null,null,1,1]
[null,null,null,null,null,null,null,null,null,null,null,null,null,null,null,null,null,null,null,null,null,null,null,null,null,null,null,null,null,null,null,null,null,null,null,null,{"$f":"'Project Details'!F9&\" \"&'Project Details'!F10","v":"4780-LON Chiswick & Turnham Green area"},null,null,0]
[null,null,null,null,null,null,null,null,null,null,null,null,null,null,null,null,null,null,null,null,null,null,null,null,null,null,null,null,null,null,null,null,null,null,null,null,"Junction Turning Count"]
[null,null,null,null,null,null,null,null,null,null,null,null,null,null,null,null,null,null,null,null,null,null,null,null,null,null,null,null,null,null,null,null,null,{"$f":"'Project Details'!F14","v":"2021-04-29"}]
[]
[]
[null,null,null,null,null,null,null,null,null,null,null,null,null,null,null,null,"Arm",null,null,null,null,"Location",null,null,null,null,"Observations"]
[]
[null,null,null,null,null,null,null,null,null,null,null,null,null,null,null,null,"A","South Parade (E)",null,null,null,null,null,"51.49535"]
[null,null,null,null,null,null,null,null,null,null,null,null,null,null,null,null,"B","Fisher's Lane",null,null,null,null,null,"-0.26041"]
[null,null,null,null,null,null,null,null,null,null,null,null,null,null,null,null,"C","South Parade (W)"]
[]
[]
[]
[]
[]
[]
[null,null,null,null,null,null,null,null,null,null,null,null,null,null,null,null,"Total Number of Vehicles per Interval"]
[]
[]
[]
[]
[]
[]
[]
[]
[]
[null,null,null,null,null,null,null,null,null,null,null,null,null,null,null,null,null,null,null,null,null,null,null,null,"O-D Movement Matrix",null,null,null,null,null,null,null,null,"Road Names"]
[]
[null,null,null,null,null,null,null,null,null,null,null,null,null,null,null,null,null,null,null,null,null,null,null,null,null,null,null,null,null,null,null,"G"]
[null,null,null,null,null,null,null,null,null,null,null,null,null,null,null,null,"Percentage of Classed Vehicles"]
[]
[null,null,null,null,null,null,null,null,null,null,null,null,null,null,null,null,null,null,null,null,null,null,null,null,null,null,null,null,"A","B","C"]
[null,null,null,null,null,"D","E","F","G",null,null,null,null,null,null,null,null,null,null,null,null,null,null,null,null,null,null,"A",11,247,4565]
[null,null,null,null,null,null,null,null,null,null,null,null,null,null,null,null,null,null,null,null,null,null,null,null,"E",null,null,"B",207,1,231]
[null,null,null,null,null,null,null,null,null,null,null,null,null,null,null,null,null,null,null,null,null,null,null,null,"F",null,null,"C",3614,234,20]
[null,null,null,null,null,null,null,null,null,null,null,null,null,null,null,null,null,null,null,null,null,null,null,null,"G"]
[null,"D"]
[null,"E"]
[null,"F"]
[null,"G"]

{"sheet":"Data","index":2,"n_rows":318,"n_cols":169,"rows_kept":318,"cut":false,"hidden":true,"merged":[]}
["site","x,y","lat,lon",null,null,null,null,null,null,null,null,null,null,"time periods",null,null,null,null,"Class","Colour",null,null,null,null,"Counts for overview Flow diagram, origin and destination ( sheet2)","Site 1",0,0,0,0,0,0,0,0,null,null,null,null,null,null,null,null,null,null,"07:00:00","07:00:00",1,1,1,null,1,2,null,1,1,"ALL","counts for arm flow diagram, arm X- arm Y","A_A","A_B","A_C","B_A","B_B","B_C","C_A","C_B","C_C"]
["Site 1","309.62865493260324,721.4417701996863","51.494259,-0.267497","A,49.513988458,Acton Lane (NE),288.26475,319.253210625","B,161.965714433,Acton Lane (S),251.510994375,409.335945","C,288.121860248,Bollo Lane,185.0542630460168,339.58851513598165",null,null,null,null,null,null,null,"07:00-19:00",null,null,null,null,null,null,null,"Towards is first column",null,null,null,"Site 2",0,0,0,0,0,0,0,0,0,0,null,null,null,null,null,null,null,null,"07:15:00","07:15:00",1,48,null,"Car",1,1,null,null,null,"A",null,11,247,4565,207,1,231,3614,234,20,0,0,0,0,0,0,0,0,0,0,0,0,0,0,0,0,0,0,0,0,0,0,0,0,0,0,0,0,0,0,0,0,0,0,0,0,0,0,0,0,0,0,0,0,0,0,0,0,0,0,0,0,0,0,0,0,0,0,0,0,0,0,0,0,0,0,0,0,0]
["Site 26","970.3713450673968,558.5582297965884","51.495347,-0.260408","A,80.537677792,South Parade (E),438.883081875,287.544088125","B,183.503531645,Fisher's Lane,356.72762812499997,368.97888","C,280.491477012,South Parade (W),296.19203062500003,281.05813125000003",null,null,null,null,null,null,null,"15",null,null,null,null,"CAR",null,null,"Away is second column ",null,null,null,null,null,null,null,null,null,null,null,null,null,null,null,null,null,null,null,null,null,null,"07:30:00","07:30:00",null,null,null,"LGV",1,1,null,null,null,"B"]
[null,null,null,null,null,null,null,null,null,null,null,null,null,"'4780-LON",null,null,null,null,null,null,null,"For each arm",null,null,null,null,null,null,null,null,null,null,null,null,null,null,null,null,null,null,null,null,null,null,"07:45:00","07:45:00",null,null,null,"OGV1",1,1.5,null,null,null,"C"]
[null,null,null,null,null,null,null,null,null,null,null,null,null,"Chiswick & Turnham Green area",null,null,null,null,"LGV",null,null,null,null,null,null,null,null,null,null,null,null,null,null,null,null,null,null,null,null,null,null,null,null,null,"08:00:00","08:00:00",null,null,null,"OGV2",1,2.2999999999999998]
[null,null,null,null,null,null,null,null,null,null,null,null,null,"29/04/2021",null,null,null,null,null,null,null,null,null,null,null,null,null,null,null,null,null,null,null,null,null,null,null,null,null,null,null,null,null,null,"08:15:00","08:15:00",null,null,null,"PSV",1,2]
[null,null,null,null,null,null,null,null,null,null,null,null,null,600,"<--overview map size",null,null,null,"OGV1",null,null,null,null,null,null,null,null,null,null,null,null,null,null,null,null,null,null,null,null,null,null,null,null,null,"08:30:00","08:30:00",null,null,null,"MC",1,0.4]
[null,null,null,null,null,null,null,null,null,null,null,null,null,true,null,null,null,null,null,null,null,null,null,null,null,null,null,null,null,null,null,null,null,null,null,null,null,null,null,null,null,null,null,null,"08:45:00","08:45:00",null,null,null,"PC",1,0.2]
[null,null,null,null,null,null,null,null,null,null,null,null,null,null,null,null,null,null,"OGV2",null,null,null,null,null,null,null,null,null,null,null,null,null,null,null,null,null,null,null,null,null,null,null,null,null,"09:00:00","09:00:00",null,null,null,null,1,2]
[null,null,null,null,null,null,null,null,null,null,null,null,null,null,null,null,null,null,null,null,null,null,null,null,null,null,null,null,null,null,null,null,null,null,null,null,null,null,null,null,null,null,null,null,"09:15:00","09:15:00",null,null,null,null,1]
[null,null,null,null,null,null,null,null,null,null,null,null,null,null,null,null,null,null,"PSV",null,null,null,null,null,null,null,null,null,null,null,null,null,null,null,null,null,null,null,null,null,null,null,null,null,"09:30:00","09:30:00",null,null,null,null,1]
[null,null,null,null,null,null,null,null,null,null,null,null,null,null,null,null,null,null,null,null,null,null,null,null,null,null,null,null,null,null,null,null,null,null,null,null,null,null,null,null,null,null,null,null,"09:45:00","09:45:00",null,null,null,null,1]
[null,null,null,null,null,null,null,null,null,null,null,null,null,null,null,null,null,null,"MCL",null,null,null,null,null,null,null,null,null,null,null,null,null,null,null,null,null,null,null,null,null,null,null,null,null,"10:00:00","10:00:00",null,null,null,null,1]
[null,null,null,null,null,null,null,null,null,null,null,null,null,null,null,null,null,null,null,null,null,null,null,null,null,null,null,null,null,null,null,null,null,null,null,null,null,null,null,null,null,null,null,null,"10:15:00","10:15:00",null,null,null,null,1]
[null,null,null,null,null,null,null,null,null,null,null,null,null,null,null,null,null,null,"PCL",null,null,null,null,null,null,null,null,null,null,null,null,null,null,null,null,null,null,null,null,null,null,null,null,null,"10:30:00","10:30:00",null,null,null,null,1]
[null,null,null,null,null,null,null,null,null,null,null,null,null,null,null,null,null,null,null,null,null,null,null,null,null,null,null,null,null,null,null,null,null,null,null,null,null,null,null,null,null,null,null,null,"10:45:00","10:45:00",null,null,null,null,1]
[null,null,null,null,null,null,null,null,null,null,null,null,null,null,null,null,null,null,"OGV",null,null,null,null,null,null,null,null,null,null,null,null,null,null,null,null,null,null,null,null,null,null,null,null,null,"11:00:00","11:00:00"]
[null,null,null,null,null,null,null,null,null,null,null,null,null,null,null,null,null,null,null,null,null,null,null,null,null,null,null,null,null,null,null,null,null,null,null,null,null,null,null,null,null,null,null,null,"11:15:00","11:15:00"]
[null,null,null,null,null,null,null,null,null,null,null,null,null,null,null,null,null,null,"MGV2",null,null,null,null,null,null,null,null,null,null,null,null,null,null,null,null,null,null,null,null,null,null,null,null,null,"11:30:00","11:30:00"]
[null,null,null,null,null,null,null,null,null,null,null,null,null,null,null,null,null,null,null,null,null,null,null,null,null,null,null,null,null,null,null,null,null,null,null,null,null,null,null,null,null,null,null,null,"11:45:00","11:45:00"]
[null,null,null,null,null,null,null,null,null,null,null,null,null,null,null,null,null,null,"PC",null,null,null,null,null,null,null,null,null,null,null,null,null,null,null,null,null,null,null,null,null,null,null,null,null,"12:00:00","12:00:00"]
[null,null,null,null,null,null,null,null,null,null,null,null,null,null,null,null,null,null,null,null,null,null,null,null,null,null,null,null,null,null,null,null,null,null,null,null,null,null,null,null,null,null,null,null,"12:15:00","12:15:00"]
[null,null,null,null,null,null,null,null,null,null,null,null,null,null,null,null,null,null,"BUS",null,null,null,null,null,null,null,null,null,null,null,null,null,null,null,null,null,null,null,null,null,null,null,null,null,"12:30:00","12:30:00"]
[null,null,null,null,null,null,null,null,null,null,null,null,null,null,null,null,null,null,null,null,null,null,null,null,null,null,null,null,null,null,null,null,null,null,null,null,null,null,null,null,null,null,null,null,"12:45:00","12:45:00"]
[null,null,null,null,null,null,null,null,null,null,null,null,null,null,null,null,null,null,"MC",null,null,null,null,null,null,null,null,null,null,null,null,null,null,null,null,null,null,null,null,null,null,null,null,null,"13:00:00","13:00:00"]
[null,null,null,null,null,null,null,null,null,null,null,null,null,null,null,null,null,null,null,null,null,null,null,null,null,null,null,null,null,null,null,null,null,null,null,null,null,null,null,null,null,null,null,null,"13:15:00","13:15:00"]
[null,null,null,null,null,null,null,null,null,null,null,null,null,null,null,null,null,null,"HGV",null,null,null,null,null,null,null,null,null,null,null,null,null,null,null,null,null,null,null,null,null,null,null,null,null,"13:30:00","13:30:00"]
[null,null,null,null,null,null,null,null,null,null,null,null,null,null,null,null,null,null,null,null,null,null,null,null,null,null,null,null,null,null,null,null,null,null,null,null,null,null,null,null,null,null,null,null,"13:45:00","13:45:00"]
[null,null,null,null,null,null,null,null,null,null,null,null,null,null,null,null,null,null,"MGV",null,null,null,null,null,null,null,null,null,null,null,null,null,null,null,null,null,null,null,null,null,null,null,null,null,"14:00:00","14:00:00"]
[null,null,null,null,null,null,null,null,null,null,null,null,null,null,null,null,null,null,null,null,null,null,null,null,null,null,null,null,null,null,null,null,null,null,null,null,null,null,null,null,null,null,null,null,"14:15:00","14:15:00"]
[null,null,null,null,null,null,null,null,null,null,null,null,null,null,null,null,null,null,"LTAX",null,null,null,null,null,null,null,null,null,null,null,null,null,null,null,null,null,null,null,null,null,null,null,null,null,"14:30:00","14:30:00"]
[null,null,null,null,null,null,null,null,null,null,null,null,null,null,null,null,null,null,null,null,null,null,null,null,null,null,null,null,null,null,null,null,null,null,null,null,null,null,null,null,null,null,null,null,"14:45:00","14:45:00"]
[null,null,null,null,null,null,null,null,null,null,null,null,null,null,null,null,null,null,"CVN",null,null,null,null,null,null,null,null,null,null,null,null,null,null,null,null,null,null,null,null,null,null,null,null,null,"15:00:00","15:00:00"]
[null,null,null,null,null,null,null,null,null,null,null,null,null,null,null,null,null,null,null,null,null,null,null,null,null,null,null,null,null,null,null,null,null,null,null,null,null,null,null,null,null,null,null,null,"15:15:00","15:15:00"]
[null,null,null,null,null,null,null,null,null,null,null,null,null,null,null,null,null,null,"AGR",null,null,null,null,null,null,null,null,null,null,null,null,null,null,null,null,null,null,null,null,null,null,null,null,null,"15:30:00","15:30:00"]
[null,null,null,null,null,null,null,null,null,null,null,null,null,null,null,null,null,null,null,null,null,null,null,null,null,null,null,null,null,null,null,null,null,null,null,null,null,null,null,null,null,null,null,null,"15:45:00","15:45:00"]
[null,null,null,null,null,null,null,null,null,null,null,null,null,null,null,null,null,null,"OTH",null,null,null,null,null,null,null,null,null,null,null,null,null,null,null,null,null,null,null,null,null,null,null,null,null,"16:00:00","16:00:00"]
[null,null,null,null,null,null,null,null,null,null,null,null,null,null,null,null,null,null,null,null,null,null,null,null,null,null,null,null,null,null,null,null,null,null,null,null,null,null,null,null,null,null,null,null,"16:15:00","16:15:00"]
[null,null,null,null,null,null,null,null,null,null,null,null,null,null,null,null,null,null,"PCLRed",null,null,null,null,null,null,null,null,null,null,null,null,null,null,null,null,null,null,null,null,null,null,null,null,null,"16:30:00","16:30:00"]
[null,null,null,null,null,null,null,null,null,null,null,null,null,null,null,null,null,null,null,null,null,null,null,null,null,null,null,null,null,null,null,null,null,null,null,null,null,null,null,null,null,null,null,null,"16:45:00","16:45:00"]
[null,null,null,null,null,null,null,null,null,null,null,null,null,null,null,null,null,null,"R3",null,null,null,null,null,null,null,null,null,null,null,null,null,null,null,null,null,null,null,null,null,null,null,null,null,"17:00:00","17:00:00"]
[null,null,null,null,null,null,null,null,null,null,null,null,null,null,null,null,null,null,null,null,null,null,null,null,null,null,null,null,null,null,null,null,null,null,null,null,null,null,null,null,null,null,null,null,"17:15:00","17:15:00"]
[null,null,null,null,null,null,null,null,null,null,null,null,null,null,null,null,null,null,"R4",null,null,null,null,null,null,null,null,null,null,null,null,null,null,null,null,null,null,null,null,null,null,null,null,null,"17:30:00","17:30:00"]
[null,null,null,null,null,null,null,null,null,null,null,null,null,null,null,null,null,null,null,null,null,null,null,null,null,null,null,null,null,null,null,null,null,null,null,null,null,null,null,null,null,null,null,null,"17:45:00","17:45:00"]
[null,null,null,null,null,null,null,null,null,null,null,null,null,null,null,null,null,null,"A5",null,null,null,null,null,null,null,null,null,null,null,null,null,null,null,null,null,null,null,null,null,null,null,null,null,"18:00:00","18:00:00"]
[null,null,null,null,null,null,null,null,null,null,null,null,null,null,null,null,null,null,null,null,null,null,null,null,null,null,null,null,null,null,null,null,null,null,null,null,null,null,null,null,null,null,null,null,"18:15:00","18:15:00"]
[null,null,null,null,null,null,null,null,null,null,null,null,null,null,null,null,null,null,"A6",null,null,null,null,null,null,null,null,null,null,null,null,null,null,null,null,null,null,null,null,null,null,null,null,null,"18:30:00","18:30:00"]
[null,null,null,null,null,null,null,null,null,null,null,null,null,null,null,null,null,null,null,null,null,null,null,null,null,null,null,null,null,null,null,null,null,null,null,null,null,null,null,null,null,null,null,null,"18:45:00","18:45:00"]
[null,null,null,null,null,null,null,null,null,null,null,null,null,null,null,null,null,null,"PED",null,null,null,null,null,null,null,null,null,null,null,null,null,null,null,null,null,null,null,null,null,null,null,null,null,"19:00:00","19:00:00"]
[]
[null,null,null,null,null,null,null,null,null,null,null,null,null,null,null,null,null,null,"WCH"]
[]
[null,null,null,null,null,null,null,null,null,null,null,null,null,null,null,null,null,null,"MOB"]
[]
[null,null,null,null,null,null,null,null,null,null,null,null,null,null,null,null,null,null,"EQU"]
[]
[null,null,null,null,null,null,null,null,null,null,null,null,null,null,null,null,null,null,"PWC"]
[]
[null,null,null,null,null,null,null,null,null,null,null,null,null,null,null,null,null,null,"PWD"]
[]
[null,null,null,null,null,null,null,null,null,null,null,null,null,null,null,null,null,null,"PUSH"]
[]
[null,null,null,null,null,null,null,null,null,null,null,null,null,null,null,null,null,null,"ALLPED"]
[]
[null,null,null,null,null,null,null,null,null,null,null,null,null,null,null,null,null,null,"PCLBlue"]
[]
[]
[]
[]
[]
[]
[]
[]
[]
[]
[]
[]
[]
[]
[null,null,null,null,null,null,null,null,null,null,null,null,null,null,null,null,null,null,null,null,null,null,null,null,null,"a","v","b","n","m","m,",",",",.",".","."]
[null,null,null,null,null,null,null,null,null,null,null,null,null,null,null,null,null,null,null,null,null,"07:00:00","07:15:00"]
[null,null,null,null,null,null,null,null,null,null,null,null,null,null,null,null,null,null,null,null,null,"07:15:00","07:30:00"]
[null,null,null,null,null,null,null,null,null,null,null,null,null,null,null,null,null,null,null,null,null,"07:30:00","07:45:00"]
[null,null,null,null,null,null,null,null,null,null,null,null,null,null,null,null,null,null,null,null,null,"07:45:00","08:00:00"]
[null,null,null,null,null,null,null,null,null,null,null,null,null,null,null,null,null,null,null,null,null,"08:00:00","08:15:00"]
[null,null,null,null,null,null,null,null,null,null,null,null,null,null,null,null,null,null,null,null,null,"08:15:00","08:30:00"]
[null,null,null,null,null,null,null,null,null,null,null,null,null,null,null,null,null,null,null,null,null,"08:30:00","08:45:00"]
[null,null,null,null,null,null,null,null,null,null,null,null,null,null,null,null,null,null,null,null,null,"08:45:00","09:00:00"]
[null,null,null,null,null,null,null,null,null,null,null,null,null,null,null,null,null,null,null,null,null,"09:00:00","09:15:00"]
[null,null,null,null,null,null,null,null,null,null,null,null,null,null,null,null,null,null,null,null,null,"09:15:00","09:30:00"]
[null,null,null,null,null,null,null,null,null,null,null,null,null,null,null,null,null,null,null,null,null,"09:30:00","09:45:00"]
[null,null,null,null,null,null,null,null,null,null,null,null,null,null,null,null,null,null,null,null,null,"09:45:00","10:00:00"]
[null,null,null,null,null,null,null,null,null,null,null,null,null,null,null,null,null,null,null,null,null,"10:00:00","10:15:00"]
[null,null,null,null,null,null,null,null,null,null,null,null,null,null,null,null,null,null,null,null,null,"10:15:00","10:30:00"]
[null,null,null,null,null,null,null,null,null,null,null,null,null,null,null,null,null,null,null,null,null,"10:30:00","10:45:00"]
[null,null,null,null,null,null,null,null,null,null,null,null,null,null,null,null,null,null,null,null,null,"10:45:00","11:00:00"]
[null,null,null,null,null,null,null,null,null,null,null,null,null,null,null,null,null,null,null,null,null,"11:00:00","11:15:00"]
[null,null,null,null,null,null,null,null,null,null,null,null,null,null,null,null,null,null,null,null,null,"11:15:00","11:30:00"]
[null,null,null,null,null,null,null,null,null,null,null,null,null,null,null,null,null,null,null,null,null,"11:30:00","11:45:00",null,null,null,"07:00:00","07:15:00","07:30:00","07:45:00","08:00:00","08:15:00","08:30:00","08:45:00","09:00:00","09:15:00","09:30:00","09:45:00","10:00:00","10:15:00","10:30:00","10:45:00","11:00:00","11:15:00","11:30:00","11:45:00","12:00:00","12:15:00","12:30:00","12:45:00","13:00:00","13:15:00","13:30:00","13:45:00","14:00:00","14:15:00","14:30:00","14:45:00","15:00:00","15:15:00","15:30:00","15:45:00","16:00:00","16:15:00","16:30:00","16:45:00","17:00:00","17:15:00","17:30:00","17:45:00","18:00:00","18:15:00","18:30:00","18:45:00"]
["ALL","Site 1,309.62865493260324,721.4417701996863,A,1.375,3.75,B,-6.499999999068677,21.875,C,-18.999999999068677,8.5","Site 26,970.3713450673968,558.5582297965884,A,28.25,-1.125,B,11.75,14.375,C,-0.4999999990686774,-2.124999998137355",null,null,null,null,null,null,null,null,null,null,null,null,null,null,null,null,null,null,"11:45:00","12:00:00",null,"Counts for graph on dashboard, volume counts","Car",97,93,104,129,130,137,144,125,134,120,112,112,100,111,104,104,100,103,101,115,89,88,116,140,124,131,106,110,133,130,127,164,125,126,155,136,145,143,182,137,169,184,171,154,160,134,163,189]
[null,null,null,null,null,null,null,null,null,null,null,null,null,null,null,null,null,null,null,null,null,"12:00:00","12:15:00",null,null,"LGV",19,31,33,20,24,27,21,24,18,15,28,36,32,23,23,29,35,25,21,27,25,36,34,18,31,33,35,27,29,21,27,24,32,23,24,25,35,19,31,25,22,24,17,23,17,10,11,12]
[null,null,null,null,null,null,null,null,null,null,null,null,null,null,null,null,null,null,null,null,null,"12:15:00","12:30:00",null,null,"OGV1",5,4,4,2,1,1,1,4,2,2,2,3,3,2,2,2,6,0,1,4,3,2,2,2,4,3,1,2,3,1,5,5,4,0,2,2,3,1,4,1,0,0,1,0,1,1,1,0]
[null,null,null,null,null,null,null,null,null,null,null,null,null,null,null,null,null,null,null,null,null,"12:30:00","12:45:00",null,null,"OGV2",0,0,1,1,0,0,0,1,0,0,0,0,0,0,0,0,0,0,0,0,0,0,0,0,0,0,0,1,1,0,0,0,1,0,0,0,0,0,0,0,0,0,0,0,0,0,0,0]
[null,null,null,null,null,null,null,null,null,null,null,null,null,null,null,null,null,null,null,null,null,"12:45:00","13:00:00",null,null,"PSV",14,8,13,14,8,7,7,9,7,7,7,7,9,7,8,7,10,7,6,6,7,7,7,8,6,10,7,8,6,8,9,8,8,5,8,4,2,6,6,10,7,7,7,8,11,9,7,8]
[null,null,null,null,null,null,null,null,null,null,null,null,null,null,null,null,null,null,null,null,null,"13:00:00","13:15:00",null,null,"MC",1,3,3,2,5,8,1,3,1,8,7,9,6,6,9,7,10,13,15,13,12,6,20,12,15,17,21,13,20,15,11,14,7,8,10,14,12,3,9,11,11,16,13,18,14,15,16,29]
[null,null,null,null,null,null,null,null,null,null,null,null,null,null,null,null,null,null,null,null,null,"13:15:00","13:30:00",null,null,"PC",7,11,21,20,20,12,26,20,18,15,18,9,7,10,10,13,10,13,3,16,10,9,11,17,9,16,11,9,15,9,9,17,13,8,23,17,17,18,18,20,21,24,20,26,17,27,14,24]
[null,null,null,null,null,null,null,null,null,null,null,null,null,null,null,null,null,null,null,null,null,"13:30:00","13:45:00"]
[null,null,null,null,null,null,null,null,null,null,null,null,null,null,null,null,null,null,null,null,null,"13:45:00","14:00:00"]
[null,null,null,null,null,null,null,null,null,null,null,null,null,null,null,null,null,null,null,null,null,"14:00:00","14:15:00"]
[null,null,null,null,null,null,null,null,null,null,null,null,null,null,null,null,null,null,null,null,null,"14:15:00","14:30:00"]
[null,null,null,null,null,null,null,null,null,null,null,null,null,null,null,null,null,null,null,null,null,"14:30:00","14:45:00"]
[null,null,null,null,null,null,null,null,null,null,null,null,null,null,null,null,null,null,null,null,null,"14:45:00","15:00:00"]
[null,null,null,null,null,null,null,null,null,null,null,null,null,null,null,null,null,null,null,null,null,"15:00:00","15:15:00"]
[null,null,null,null,null,null,null,null,null,null,null,null,null,null,null,null,null,null,null,null,null,"15:15:00","15:30:00"]
[null,null,null,null,null,null,null,null,null,null,null,null,null,null,null,null,null,null,null,null,null,"15:30:00","15:45:00"]
[null,null,null,null,null,null,null,null,null,null,null,null,null,null,null,null,null,null,null,null,null,"15:45:00","16:00:00"]
[null,null,null,null,null,null,null,null,null,null,null,null,null,null,null,null,null,null,null,null,null,"16:00:00","16:15:00"]
[null,null,null,null,null,null,null,null,null,null,null,null,null,null,null,null,null,null,null,null,null,"16:15:00","16:30:00"]
[null,null,null,null,null,null,null,null,null,null,null,null,null,null,null,null,null,null,null,null,null,"16:30:00","16:45:00"]
[null,null,null,null,null,null,null,null,null,null,null,null,null,null,null,null,null,null,null,null,null,"16:45:00","17:00:00",null,"Counts for pie chart","Car",0.67973713033953997]
[null,null,null,null,null,null,null,null,null,null,null,null,null,null,null,null,null,null,null,null,null,"17:00:00","17:15:00",null,null,"LGV",0.13154435925520264]
[null,null,null,null,null,null,null,null,null,null,null,null,null,null,null,null,null,null,null,null,null,"17:15:00","17:30:00",null,null,"OGV1",1.1500547645125958E-2]
[null,null,null,null,null,null,null,null,null,null,null,null,null,null,null,null,null,null,null,null,null,"17:30:00","17:45:00",null,null,"OGV2",6.5717415115005477E-4]
[null,null,null,null,null,null,null,null,null,null,null,null,null,null,null,null,null,null,null,null,null,"17:45:00","18:00:00",null,null,"PSV",4.0744797371303397E-2]
[null,null,null,null,null,null,null,null,null,null,null,null,null,null,null,null,null,null,null,null,null,"18:00:00","18:15:00",null,null,"MC",5.607886089813801E-2]
[null,null,null,null,null,null,null,null,null,null,null,null,null,null,null,null,null,null,null,null,null,"18:15:00","18:30:00",null,null,"PC",7.9737130339539983E-2]
[null,null,null,null,null,null,null,null,null,null,null,null,null,null,null,null,null,null,null,null,null,"18:30:00","18:45:00"]
[null,null,null,null,null,null,null,null,null,null,null,null,null,null,null,null,null,null,null,null,null,"18:45:00","19:00:00"]
[]
[]
[]
[]
[]
[]
[]
[]
[]
[]
[]
[null,null,null,null,null,null,null,null,null,null,null,null,null,null,null,null,null,null,null,null,null,null,null,null,null,"07:00:00","07:15:00","07:30:00","07:45:00","08:00:00","08:15:00","08:30:00","08:45:00","09:00:00","09:15:00","09:30:00","09:45:00","10:00:00","10:15:00","10:30:00","10:45:00","11:00:00","11:15:00","11:30:00","11:45:00","12:00:00","12:15:00","12:30:00","12:45:00","13:00:00","13:15:00","13:30:00","13:45:00","14:00:00","14:15:00","14:30:00","14:45:00","15:00:00","15:15:00","15:30:00","15:45:00","16:00:00","16:15:00","16:30:00","16:45:00","17:00:00","17:15:00","17:30:00","17:45:00","18:00:00","18:15:00","18:30:00","18:45:00"]
[null,null,null,null,null,null,null,null,null,null,null,null,null,null,null,null,null,null,null,null,null,null,null,null,0,143,150,179,188,188,192,200,186,180,167,174,176,157,159,156,162,171,161,147,181,146,148,190,197,189,210,181,170,207,184,188,232,190,170,222,198,214,190,250,204,230,255,229,229,220,196,212,262,0,0,0,0,0,0,0,0,0,0,0,0,0,0,0,0,0,0,0,0,0,0,0,0,0,0,0,0,0,0,0,0,0,0,0,0,0,0,0,0,0,0,0,0,0,0,0,0,0,0,0,0,0,0,0,0,0,0,0,0,0,0,0,0,0,0,0,0,0,0,0,0,0,0,0,0,0,0,0,0,0,0,0,0,0,0,0,0,0,0,0,0,0,0,0,0]
[]
[]
[]
[]
[]
[]
[]
[]
[]
[]
[]
[]
[]
[]
[]
[]
[]
[]
[]
[]
[]
[]
[]
[]
[]
[]
[]
[]
[]
[]
[]
[]
[]
[]
[]
[null,null,null,null,null,null,null,null,null,null,null,null,null,null,null,null,null,null,null,null,null,null,null,null,null,null,null,null,null,null,null,null,null,null,null,null,null,null,null,null,null,null,null,null,{"$f":"AS176+\"00:15:00\"","v":1.0416666666666666E-2}]
[null,null,null,null,null,null,null,null,null,null,null,null,null,null,null,null,null,null,null,null,null,null,null,null,null,null,null,null,null,null,null,null,null,null,null,null,null,null,null,null,null,null,null,null,2.0833333333333332E-2]
[null,null,null,null,null,null,null,null,null,null,null,null,null,null,null,null,null,null,null,null,null,null,null,null,null,null,null,null,null,null,null,null,null,null,null,null,null,null,null,null,null,null,null,null,3.125E-2]
[null,null,null,null,null,null,null,null,null,null,null,null,null,null,null,null,null,null,null,null,null,null,null,null,null,null,null,null,null,null,null,null,null,null,null,null,null,null,null,null,null,null,null,null,4.1666666666666664E-2]
[null,null,null,null,null,null,null,null,null,null,null,null,null,null,null,null,null,null,null,null,null,null,null,null,null,null,null,null,null,null,null,null,null,null,null,null,null,null,null,null,null,null,null,null,5.2083333333333329E-2]
[null,null,null,null,null,null,null,null,null,null,null,null,null,null,null,null,null,null,null,null,null,null,null,null,null,null,null,null,null,null,null,null,null,null,null,null,null,null,null,null,null,null,null,null,6.2499999999999993E-2]
[null,null,null,null,null,null,null,null,null,null,null,null,null,null,null,null,null,null,null,null,null,null,null,null,null,null,null,null,null,null,null,null,null,null,null,null,null,null,null,null,null,null,null,null,7.2916666666666657E-2]
[null,null,null,null,null,null,null,null,null,null,null,null,null,null,null,null,null,null,null,null,null,null,null,null,null,null,null,null,null,null,null,null,null,null,null,null,null,null,null,null,null,null,null,null,8.3333333333333329E-2]
[null,null,null,null,null,null,null,null,null,null,null,null,null,null,null,null,null,null,null,null,null,null,null,null,null,null,null,null,null,null,null,null,null,null,null,null,null,null,null,null,null,null,null,null,9.375E-2]
[null,null,null,null,null,null,null,null,null,null,null,null,null,null,null,null,null,null,null,null,null,null,null,null,null,null,null,null,null,null,null,null,null,null,null,null,null,null,null,null,null,null,null,null,0.10416666666666667]
[null,null,null,null,null,null,null,null,null,null,null,null,null,null,null,null,null,null,null,null,null,null,null,null,null,null,null,null,null,null,null,null,null,null,null,null,null,null,null,null,null,null,null,null,0.11458333333333334]
[null,null,null,null,null,null,null,null,null,null,null,null,null,null,null,null,null,null,null,null,null,null,null,null,null,null,null,null,null,null,null,null,null,null,null,null,null,null,null,null,null,null,null,null,0.125]
[null,null,null,null,null,null,null,null,null,null,null,null,null,null,null,null,null,null,null,null,null,null,null,null,null,null,null,null,null,null,null,null,null,null,null,null,null,null,null,null,null,null,null,null,0.13541666666666666]
[null,null,null,null,null,null,null,null,null,null,null,null,null,null,null,null,null,null,null,null,null,null,null,null,null,null,null,null,null,null,null,null,null,null,null,null,null,null,null,null,null,null,null,null,0.14583333333333331]
[null,null,null,null,null,null,null,null,null,null,null,null,null,null,null,null,null,null,null,null,null,null,null,null,null,null,null,null,null,null,null,null,null,null,null,null,null,null,null,null,null,null,null,null,0.15624999999999997]
[null,null,null,null,null,null,null,null,null,null,null,null,null,null,null,null,null,null,null,null,null,null,null,null,null,null,null,null,null,null,null,null,null,null,null,null,null,null,null,null,null,null,null,null,0.16666666666666663]
[null,null,null,null,null,null,null,null,null,null,null,null,null,null,null,null,null,null,null,null,null,null,null,null,null,null,null,null,null,null,null,null,null,null,null,null,null,null,null,null,null,null,null,null,0.17708333333333329]
[null,null,null,null,null,null,null,null,null,null,null,null,null,null,null,null,null,null,null,null,null,null,null,null,null,null,null,null,null,null,null,null,null,null,null,null,null,null,null,null,null,null,null,null,0.18749999999999994]
[null,null,null,null,null,null,null,null,null,null,null,null,null,null,null,null,null,null,null,null,null,null,null,null,null,null,null,null,null,null,null,null,null,null,null,null,null,null,null,null,null,null,null,null,0.1979166666666666]
[null,null,null,null,null,null,null,null,null,null,null,null,null,null,null,null,null,null,null,null,null,null,null,null,null,null,null,null,null,null,null,null,null,null,null,null,null,null,null,null,null,null,null,null,0.20833333333333326]
[null,null,null,null,null,null,null,null,null,null,null,null,null,null,null,null,null,null,null,null,null,null,null,null,null,null,null,null,null,null,null,null,null,null,null,null,null,null,null,null,null,null,null,null,0.21874999999999992]
[null,null,null,null,null,null,null,null,null,null,null,null,null,null,null,null,null,null,null,null,null,null,null,null,null,null,null,null,null,null,null,null,null,null,null,null,null,null,null,null,null,null,null,null,0.22916666666666657]
[null,null,null,null,null,null,null,null,null,null,null,null,null,null,null,null,null,null,null,null,null,null,null,null,null,null,null,null,null,null,null,null,null,null,null,null,null,null,null,null,null,null,null,null,0.23958333333333323]
[null,null,null,null,null,null,null,null,null,null,null,null,null,null,null,null,null,null,null,null,null,null,null,null,null,null,null,null,null,null,null,null,null,null,null,null,null,null,null,null,null,null,null,null,0.24999999999999989]
[null,null,null,null,null,null,null,null,null,null,null,null,null,null,null,null,null,null,null,null,null,null,null,null,null,null,null,null,null,null,null,null,null,null,null,null,null,null,null,null,null,null,null,null,0.26041666666666657]
[null,null,null,null,null,null,null,null,null,null,null,null,null,null,null,null,null,null,null,null,null,null,null,null,null,null,null,null,null,null,null,null,null,null,null,null,null,null,null,null,null,null,null,null,0.27083333333333326]
[null,null,null,null,null,null,null,null,null,null,null,null,null,null,null,null,null,null,null,null,null,null,null,null,null,null,null,null,null,null,null,null,null,null,null,null,null,null,null,null,null,null,null,null,0.28124999999999994]
[null,null,null,null,null,null,null,null,null,null,null,null,null,null,null,null,null,null,null,null,null,null,null,null,null,null,null,null,null,null,null,null,null,null,null,null,null,null,null,null,null,null,null,null,"07:00:00"]
[null,null,null,null,null,null,null,null,null,null,null,null,null,null,null,null,null,null,null,null,null,null,null,null,null,null,null,null,null,null,null,null,null,null,null,null,null,null,null,null,null,null,null,null,"07:15:00"]
[null,null,null,null,null,null,null,null,null,null,null,null,null,null,null,null,null,null,null,null,null,null,null,null,null,null,null,null,null,null,null,null,null,null,null,null,null,null,null,null,null,null,null,null,"07:30:00"]
[null,null,null,null,null,null,null,null,null,null,null,null,null,null,null,null,null,null,null,null,null,null,null,null,null,null,null,null,null,null,null,null,null,null,null,null,null,null,null,null,null,null,null,null,"07:45:00"]
[null,null,null,null,null,null,null,null,null,null,null,null,null,null,null,null,null,null,null,null,null,null,null,null,null,null,null,null,null,null,null,null,null,null,null,null,null,null,null,null,null,null,null,null,"08:00:00"]
[null,null,null,null,null,null,null,null,null,null,null,null,null,null,null,null,null,null,null,null,null,null,null,null,null,null,null,null,null,null,null,null,null,null,null,null,null,null,null,null,null,null,null,null,{"$f":"AS208+\"00:15:00\"","v":"08:15:00"}]
[null,null,null,null,null,null,null,null,null,null,null,null,null,null,null,null,null,null,null,null,null,null,null,null,null,null,null,null,null,null,null,null,null,null,null,null,null,null,null,null,null,null,null,null,"08:30:00"]
[null,null,null,null,null,null,null,null,null,null,null,null,null,null,null,null,null,null,null,null,null,null,null,null,null,null,null,null,null,null,null,null,null,null,null,null,null,null,null,null,null,null,null,null,"08:45:00"]
[null,null,null,null,null,null,null,null,null,null,null,null,null,null,null,null,null,null,null,null,null,null,null,null,null,null,null,null,null,null,null,null,null,null,null,null,null,null,null,null,null,null,null,null,"09:00:00"]
[null,null,null,null,null,null,null,null,null,null,null,null,null,null,null,null,null,null,null,null,null,null,null,null,null,null,null,null,null,null,null,null,null,null,null,null,null,null,null,null,null,null,null,null,"09:15:00"]
[null,null,null,null,null,null,null,null,null,null,null,null,null,null,null,null,null,null,null,null,null,null,null,null,null,null,null,null,null,null,null,null,null,null,null,null,null,null,null,null,null,null,null,null,"09:30:00"]
[null,null,null,null,null,null,null,null,null,null,null,null,null,null,null,null,null,null,null,null,null,null,null,null,null,null,null,null,null,null,null,null,null,null,null,null,null,null,null,null,null,null,null,null,"09:45:00"]
[null,null,null,null,null,null,null,null,null,null,null,null,null,null,null,null,null,null,null,null,null,null,null,null,null,null,null,null,null,null,null,null,null,null,null,null,null,null,null,null,null,null,null,null,"10:00:00"]
[null,null,null,null,null,null,null,null,null,null,null,null,null,null,null,null,null,null,null,null,null,null,null,null,null,null,null,null,null,null,null,null,null,null,null,null,null,null,null,null,null,null,null,null,"10:15:00"]
[null,null,null,null,null,null,null,null,null,null,null,null,null,null,null,null,null,null,null,null,null,null,null,null,null,null,null,null,null,null,null,null,null,null,null,null,null,null,null,null,null,null,null,null,"10:30:00"]
[null,null,null,null,null,null,null,null,null,null,null,null,null,null,null,null,null,null,null,null,null,null,null,null,null,null,null,null,null,null,null,null,null,null,null,null,null,null,null,null,null,null,null,null,"10:45:00"]
[null,null,null,null,null,null,null,null,null,null,null,null,null,null,null,null,null,null,null,null,null,null,null,null,null,null,null,null,null,null,null,null,null,null,null,null,null,null,null,null,null,null,null,null,"11:00:00"]
[null,null,null,null,null,null,null,null,null,null,null,null,null,null,null,null,null,null,null,null,null,null,null,null,null,null,null,null,null,null,null,null,null,null,null,null,null,null,null,null,null,null,null,null,"11:15:00"]
[null,null,null,null,null,null,null,null,null,null,null,null,null,null,null,null,null,null,null,null,null,null,null,null,null,null,null,null,null,null,null,null,null,null,null,null,null,null,null,null,null,null,null,null,"11:30:00"]
[null,null,null,null,null,null,null,null,null,null,null,null,null,null,null,null,null,null,null,null,null,null,null,null,null,null,null,null,null,null,null,null,null,null,null,null,null,null,null,null,null,null,null,null,"11:45:00"]
[null,null,null,null,null,null,null,null,null,null,null,null,null,null,null,null,null,null,null,null,null,null,null,null,null,null,null,null,null,null,null,null,null,null,null,null,null,null,null,null,null,null,null,null,"12:00:00"]
[null,null,null,null,null,null,null,null,null,null,null,null,null,null,null,null,null,null,null,null,null,null,null,null,null,null,null,null,null,null,null,null,null,null,null,null,null,null,null,null,null,null,null,null,"12:15:00"]
[null,null,null,null,null,null,null,null,null,null,null,null,null,null,null,null,null,null,null,null,null,null,null,null,null,null,null,null,null,null,null,null,null,null,null,null,null,null,null,null,null,null,null,null,"12:30:00"]
[null,null,null,null,null,null,null,null,null,null,null,null,null,null,null,null,null,null,null,null,null,null,null,null,null,null,null,null,null,null,null,null,null,null,null,null,null,null,null,null,null,null,null,null,"12:45:00"]
[null,null,null,null,null,null,null,null,null,null,null,null,null,null,null,null,null,null,null,null,null,null,null,null,null,null,null,null,null,null,null,null,null,null,null,null,null,null,null,null,null,null,null,null,"13:00:00"]
[null,null,null,null,null,null,null,null,null,null,null,null,null,null,null,null,null,null,null,null,null,null,null,null,null,null,null,null,null,null,null,null,null,null,null,null,null,null,null,null,null,null,null,null,"13:15:00"]
[null,null,null,null,null,null,null,null,null,null,null,null,null,null,null,null,null,null,null,null,null,null,null,null,null,null,null,null,null,null,null,null,null,null,null,null,null,null,null,null,null,null,null,null,"13:30:00"]
[null,null,null,null,null,null,null,null,null,null,null,null,null,null,null,null,null,null,null,null,null,null,null,null,null,null,null,null,null,null,null,null,null,null,null,null,null,null,null,null,null,null,null,null,"13:45:00"]
[null,null,null,null,null,null,null,null,null,null,null,null,null,null,null,null,null,null,null,null,null,null,null,null,null,null,null,null,null,null,null,null,null,null,null,null,null,null,null,null,null,null,null,null,"14:00:00"]
[null,null,null,null,null,null,null,null,null,null,null,null,null,null,null,null,null,null,null,null,null,null,null,null,null,null,null,null,null,null,null,null,null,null,null,null,null,null,null,null,null,null,null,null,"14:15:00"]
[null,null,null,null,null,null,null,null,null,null,null,null,null,null,null,null,null,null,null,null,null,null,null,null,null,null,null,null,null,null,null,null,null,null,null,null,null,null,null,null,null,null,null,null,"14:30:00"]
[null,null,null,null,null,null,null,null,null,null,null,null,null,null,null,null,null,null,null,null,null,null,null,null,null,null,null,null,null,null,null,null,null,null,null,null,null,null,null,null,null,null,null,null,"14:45:00"]
[null,null,null,null,null,null,null,null,null,null,null,null,null,null,null,null,null,null,null,null,null,null,null,null,null,null,null,null,null,null,null,null,null,null,null,null,null,null,null,null,null,null,null,null,"15:00:00"]
[null,null,null,null,null,null,null,null,null,null,null,null,null,null,null,null,null,null,null,null,null,null,null,null,null,null,null,null,null,null,null,null,null,null,null,null,null,null,null,null,null,null,null,null,"15:15:00"]
[null,null,null,null,null,null,null,null,null,null,null,null,null,null,null,null,null,null,null,null,null,null,null,null,null,null,null,null,null,null,null,null,null,null,null,null,null,null,null,null,null,null,null,null,"15:30:00"]
[null,null,null,null,null,null,null,null,null,null,null,null,null,null,null,null,null,null,null,null,null,null,null,null,null,null,null,null,null,null,null,null,null,null,null,null,null,null,null,null,null,null,null,null,"15:45:00"]
[null,null,null,null,null,null,null,null,null,null,null,null,null,null,null,null,null,null,null,null,null,null,null,null,null,null,null,null,null,null,null,null,null,null,null,null,null,null,null,null,null,null,null,null,"16:00:00"]
[null,null,null,null,null,null,null,null,null,null,null,null,null,null,null,null,null,null,null,null,null,null,null,null,null,null,null,null,null,null,null,null,null,null,null,null,null,null,null,null,null,null,null,null,{"$f":"AS240+\"00:15:00\"","v":"16:15:00"}]
[null,null,null,null,null,null,null,null,null,null,null,null,null,null,null,null,null,null,null,null,null,null,null,null,null,null,null,null,null,null,null,null,null,null,null,null,null,null,null,null,null,null,null,null,"16:30:00"]
[null,null,null,null,null,null,null,null,null,null,null,null,null,null,null,null,null,null,null,null,null,null,null,null,null,null,null,null,null,null,null,null,null,null,null,null,null,null,null,null,null,null,null,null,"16:45:00"]
[null,null,null,null,null,null,null,null,null,null,null,null,null,null,null,null,null,null,null,null,null,null,null,null,null,null,null,null,null,null,null,null,null,null,null,null,null,null,null,null,null,null,null,null,"17:00:00"]
[null,null,null,null,null,null,null,null,null,null,null,null,null,null,null,null,null,null,null,null,null,null,null,null,null,null,null,null,null,null,null,null,null,null,null,null,null,null,null,null,null,null,null,null,"17:15:00"]
[null,null,null,null,null,null,null,null,null,null,null,null,null,null,null,null,null,null,null,null,null,null,null,null,null,null,null,null,null,null,null,null,null,null,null,null,null,null,null,null,null,null,null,null,"17:30:00"]
[null,null,null,null,null,null,null,null,null,null,null,null,null,null,null,null,null,null,null,null,null,null,null,null,null,null,null,null,null,null,null,null,null,null,null,null,null,null,null,null,null,null,null,null,"17:45:00"]
[null,null,null,null,null,null,null,null,null,null,null,null,null,null,null,null,null,null,null,null,null,null,null,null,null,null,null,null,null,null,null,null,null,null,null,null,null,null,null,null,null,null,null,null,"18:00:00"]
[null,null,null,null,null,null,null,null,null,null,null,null,null,null,null,null,null,null,null,null,null,null,null,null,null,null,null,null,null,null,null,null,null,null,null,null,null,null,null,null,null,null,null,null,"18:15:00"]
[null,null,null,null,null,null,null,null,null,null,null,null,null,null,null,null,null,null,null,null,null,null,null,null,null,null,null,null,null,null,null,null,null,null,null,null,null,null,null,null,null,null,null,null,"18:30:00"]
[null,null,null,null,null,null,null,null,null,null,null,null,null,null,null,null,null,null,null,null,null,null,null,null,null,null,null,null,null,null,null,null,null,null,null,null,null,null,null,null,null,null,null,null,"18:45:00"]
[null,null,null,null,null,null,null,null,null,null,null,null,null,null,null,null,null,null,null,null,null,null,null,null,null,null,null,null,null,null,null,null,null,null,null,null,null,null,null,null,null,null,null,null,"19:00:00"]
[null,null,null,null,null,null,null,null,null,null,null,null,null,null,null,null,null,null,null,null,null,null,null,null,null,null,null,null,null,null,null,null,null,null,null,null,null,null,null,null,null,null,null,null,"19:15:00"]
[null,null,null,null,null,null,null,null,null,null,null,null,null,null,null,null,null,null,null,null,null,null,null,null,null,null,null,null,null,null,null,null,null,null,null,null,null,null,null,null,null,null,null,null,"19:30:00"]
[null,null,null,null,null,null,null,null,null,null,null,null,null,null,null,null,null,null,null,null,null,null,null,null,null,null,null,null,null,null,null,null,null,null,null,null,null,null,null,null,null,null,null,null,"19:45:00"]
[null,null,null,null,null,null,null,null,null,null,null,null,null,null,null,null,null,null,null,null,null,null,null,null,null,null,null,null,null,null,null,null,null,null,null,null,null,null,null,null,null,null,null,null,"20:00:00"]
[null,null,null,null,null,null,null,null,null,null,null,null,null,null,null,null,null,null,null,null,null,null,null,null,null,null,null,null,null,null,null,null,null,null,null,null,null,null,null,null,null,null,null,null,"20:15:00"]
[null,null,null,null,null,null,null,null,null,null,null,null,null,null,null,null,null,null,null,null,null,null,null,null,null,null,null,null,null,null,null,null,null,null,null,null,null,null,null,null,null,null,null,null,"20:30:00"]
[null,null,null,null,null,null,null,null,null,null,null,null,null,null,null,null,null,null,null,null,null,null,null,null,null,null,null,null,null,null,null,null,null,null,null,null,null,null,null,null,null,null,null,null,"20:45:00"]
[null,null,null,null,null,null,null,null,null,null,null,null,null,null,null,null,null,null,null,null,null,null,null,null,null,null,null,null,null,null,null,null,null,null,null,null,null,null,null,null,null,null,null,null,"21:00:00"]
[null,null,null,null,null,null,null,null,null,null,null,null,null,null,null,null,null,null,null,null,null,null,null,null,null,null,null,null,null,null,null,null,null,null,null,null,null,null,null,null,null,null,null,null,"21:15:00"]
[null,null,null,null,null,null,null,null,null,null,null,null,null,null,null,null,null,null,null,null,null,null,null,null,null,null,null,null,null,null,null,null,null,null,null,null,null,null,null,null,null,null,null,null,"21:30:00"]
[null,null,null,null,null,null,null,null,null,null,null,null,null,null,null,null,null,null,null,null,null,null,null,null,null,null,null,null,null,null,null,null,null,null,null,null,null,null,null,null,null,null,null,null,"21:45:00"]
[null,null,null,null,null,null,null,null,null,null,null,null,null,null,null,null,null,null,null,null,null,null,null,null,null,null,null,null,null,null,null,null,null,null,null,null,null,null,null,null,null,null,null,null,"22:00:00"]
[null,null,null,null,null,null,null,null,null,null,null,null,null,null,null,null,null,null,null,null,null,null,null,null,null,null,null,null,null,null,null,null,null,null,null,null,null,null,null,null,null,null,null,null,"22:15:00"]
[null,null,null,null,null,null,null,null,null,null,null,null,null,null,null,null,null,null,null,null,null,null,null,null,null,null,null,null,null,null,null,null,null,null,null,null,null,null,null,null,null,null,null,null,"22:30:00"]
[null,null,null,null,null,null,null,null,null,null,null,null,null,null,null,null,null,null,null,null,null,null,null,null,null,null,null,null,null,null,null,null,null,null,null,null,null,null,null,null,null,null,null,null,"22:45:00"]
[null,null,null,null,null,null,null,null,null,null,null,null,null,null,null,null,null,null,null,null,null,null,null,null,null,null,null,null,null,null,null,null,null,null,null,null,null,null,null,null,null,null,null,null,"23:00:00"]
[null,null,null,null,null,null,null,null,null,null,null,null,null,null,null,null,null,null,null,null,null,null,null,null,null,null,null,null,null,null,null,null,null,null,null,null,null,null,null,null,null,null,null,null,"23:15:00"]
[null,null,null,null,null,null,null,null,null,null,null,null,null,null,null,null,null,null,null,null,null,null,null,null,null,null,null,null,null,null,null,null,null,null,null,null,null,null,null,null,null,null,null,null,"23:30:00"]
[null,null,null,null,null,null,null,null,null,null,null,null,null,null,null,null,null,null,null,null,null,null,null,null,null,null,null,null,null,null,null,null,null,null,null,null,null,null,null,null,null,null,null,null,"23:45:00"]
[null,null,null,null,null,null,null,null,null,null,null,null,null,null,null,null,null,null,null,null,null,null,null,null,null,null,null,null,null,null,null,null,null,null,null,null,null,null,null,null,null,null,null,null,0.99999999999999856]
[null,null,null,null,null,null,null,null,null,null,null,null,null,null,null,null,null,null,null,null,null,null,null,null,null,null,null,null,null,null,null,null,null,null,null,null,null,null,null,null,null,null,null,null,{"$f":"AS272+\"00:15:00\"","v":1.0104166666666652}]
[null,null,null,null,null,null,null,null,null,null,null,null,null,null,null,null,null,null,null,null,null,null,null,null,null,null,null,null,null,null,null,null,null,null,null,null,null,null,null,null,null,null,null,null,1.0208333333333319]
[null,null,null,null,null,null,null,null,null,null,null,null,null,null,null,null,null,null,null,null,null,null,null,null,null,null,null,null,null,null,null,null,null,null,null,null,null,null,null,null,null,null,null,null,1.0312499999999987]
[null,null,null,null,null,null,null,null,null,null,null,null,null,null,null,null,null,null,null,null,null,null,null,null,null,null,null,null,null,null,null,null,null,null,null,null,null,null,null,null,null,null,null,null,1.0416666666666654]
[null,null,null,null,null,null,null,null,null,null,null,null,null,null,null,null,null,null,null,null,null,null,null,null,null,null,null,null,null,null,null,null,null,null,null,null,null,null,null,null,null,null,null,null,1.0520833333333321]
[null,null,null,null,null,null,null,null,null,null,null,null,null,null,null,null,null,null,null,null,null,null,null,null,null,null,null,null,null,null,null,null,null,null,null,null,null,null,null,null,null,null,null,null,1.0624999999999989]
[null,null,null,null,null,null,null,null,null,null,null,null,null,null,null,null,null,null,null,null,null,null,null,null,null,null,null,null,null,null,null,null,null,null,null,null,null,null,null,null,null,null,null,null,1.0729166666666656]
[null,null,null,null,null,null,null,null,null,null,null,null,null,null,null,null,null,null,null,null,null,null,null,null,null,null,null,null,null,null,null,null,null,null,null,null,null,null,null,null,null,null,null,null,1.0833333333333324]
[null,null,null,null,null,null,null,null,null,null,null,null,null,null,null,null,null,null,null,null,null,null,null,null,null,null,null,null,null,null,null,null,null,null,null,null,null,null,null,null,null,null,null,null,1.0937499999999991]
[null,null,null,null,null,null,null,null,null,null,null,null,null,null,null,null,null,null,null,null,null,null,null,null,null,null,null,null,null,null,null,null,null,null,null,null,null,null,null,null,null,null,null,null,1.1041666666666659]
[null,null,null,null,null,null,null,null,null,null,null,null,null,null,null,null,null,null,null,null,null,null,null,null,null,null,null,null,null,null,null,null,null,null,null,null,null,null,null,null,null,null,null,null,1.1145833333333326]
[null,null,null,null,null,null,null,null,null,null,null,null,null,null,null,null,null,null,null,null,null,null,null,null,null,null,null,null,null,null,null,null,null,null,null,null,null,null,null,null,null,null,null,null,1.1249999999999993]
[null,null,null,null,null,null,null,null,null,null,null,null,null,null,null,null,null,null,null,null,null,null,null,null,null,null,null,null,null,null,null,null,null,null,null,null,null,null,null,null,null,null,null,null,1.1354166666666661]
[null,null,null,null,null,null,null,null,null,null,null,null,null,null,null,null,null,null,null,null,null,null,null,null,null,null,null,null,null,null,null,null,null,null,null,null,null,null,null,null,null,null,null,null,1.1458333333333328]
[null,null,null,null,null,null,null,null,null,null,null,null,null,null,null,null,null,null,null,null,null,null,null,null,null,null,null,null,null,null,null,null,null,null,null,null,null,null,null,null,null,null,null,null,1.1562499999999996]
[null,null,null,null,null,null,null,null,null,null,null,null,null,null,null,null,null,null,null,null,null,null,null,null,null,null,null,null,null,null,null,null,null,null,null,null,null,null,null,null,null,null,null,null,1.1666666666666663]
[null,null,null,null,null,null,null,null,null,null,null,null,null,null,null,null,null,null,null,null,null,null,null,null,null,null,null,null,null,null,null,null,null,null,null,null,null,null,null,null,null,null,null,null,1.177083333333333]
[null,null,null,null,null,null,null,null,null,null,null,null,null,null,null,null,null,null,null,null,null,null,null,null,null,null,null,null,null,null,null,null,null,null,null,null,null,null,null,null,null,null,null,null,1.1874999999999998]
[null,null,null,null,null,null,null,null,null,null,null,null,null,null,null,null,null,null,null,null,null,null,null,null,null,null,null,null,null,null,null,null,null,null,null,null,null,null,null,null,null,null,null,null,1.1979166666666665]
[null,null,null,null,null,null,null,null,null,null,null,null,null,null,null,null,null,null,null,null,null,null,null,null,null,null,null,null,null,null,null,null,null,null,null,null,null,null,null,null,null,null,null,null,1.2083333333333333]
[null,null,null,null,null,null,null,null,null,null,null,null,null,null,null,null,null,null,null,null,null,null,null,null,null,null,null,null,null,null,null,null,null,null,null,null,null,null,null,null,null,null,null,null,1.21875]
[null,null,null,null,null,null,null,null,null,null,null,null,null,null,null,null,null,null,null,null,null,null,null,null,null,null,null,null,null,null,null,null,null,null,null,null,null,null,null,null,null,null,null,null,1.2291666666666667]
[null,null,null,null,null,null,null,null,null,null,null,null,null,null,null,null,null,null,null,null,null,null,null,null,null,null,null,null,null,null,null,null,null,null,null,null,null,null,null,null,null,null,null,null,1.2395833333333335]
[null,null,null,null,null,null,null,null,null,null,null,null,null,null,null,null,null,null,null,null,null,null,null,null,null,null,null,null,null,null,null,null,null,null,null,null,null,null,null,null,null,null,null,null,1.2500000000000002]
[null,null,null,null,null,null,null,null,null,null,null,null,null,null,null,null,null,null,null,null,null,null,null,null,null,null,null,null,null,null,null,null,null,null,null,null,null,null,null,null,null,null,null,null,1.260416666666667]
[null,null,null,null,null,null,null,null,null,null,null,null,null,null,null,null,null,null,null,null,null,null,null,null,null,null,null,null,null,null,null,null,null,null,null,null,null,null,null,null,null,null,null,null,1.2708333333333337]
[null,null,null,null,null,null,null,null,null,null,null,null,null,null,null,null,null,null,null,null,null,null,null,null,null,null,null,null,null,null,null,null,null,null,null,null,null,null,null,null,null,null,null,null,1.2812500000000004]
[null,null,null,null,null,null,null,null,null,null,null,null,null,null,null,null,null,null,null,null,null,null,null,null,null,null,null,null,null,null,null,null,null,null,null,null,null,null,null,null,null,null,null,null,1.2916666666666672]
[null,null,null,null,null,null,null,null,null,null,null,null,null,null,null,null,null,null,null,null,null,null,null,null,null,null,null,null,null,null,null,null,null,null,null,null,null,null,null,null,null,null,null,null,1.3020833333333339]
[null,null,null,null,null,null,null,null,null,null,null,null,null,null,null,null,null,null,null,null,null,null,null,null,null,null,null,null,null,null,null,null,null,null,null,null,null,null,null,null,null,null,null,null,1.3125000000000007]
[null,null,null,null,null,null,null,null,null,null,null,null,null,null,null,null,null,null,null,null,null,null,null,null,null,null,null,null,null,null,null,null,null,null,null,null,null,null,null,null,null,null,null,null,1.3229166666666674]
[null,null,null,null,null,null,null,null,null,null,null,null,null,null,null,null,null,null,null,null,null,null,null,null,null,null,null,null,null,null,null,null,null,null,null,null,null,null,null,null,null,null,null,null,1.3333333333333341]
[null,null,null,null,null,null,null,null,null,null,null,null,null,null,null,null,null,null,null,null,null,null,null,null,null,null,null,null,null,null,null,null,null,null,null,null,null,null,null,null,null,null,null,null,{"$f":"AS304+\"00:15:00\"","v":1.3437500000000009}]
[null,null,null,null,null,null,null,null,null,null,null,null,null,null,null,null,null,null,null,null,null,null,null,null,null,null,null,null,null,null,null,null,null,null,null,null,null,null,null,null,null,null,null,null,1.3541666666666676]
[null,null,null,null,null,null,null,null,null,null,null,null,null,null,null,null,null,null,null,null,null,null,null,null,null,null,null,null,null,null,null,null,null,null,null,null,null,null,null,null,null,null,null,null,1.3645833333333344]
[null,null,null,null,null,null,null,null,null,null,null,null,null,null,null,null,null,null,null,null,null,null,null,null,null,null,null,null,null,null,null,null,null,null,null,null,null,null,null,null,null,null,null,null,1.3750000000000011]
[null,null,null,null,null,null,null,null,null,null,null,null,null,null,null,null,null,null,null,null,null,null,null,null,null,null,null,null,null,null,null,null,null,null,null,null,null,null,null,null,null,null,null,null,1.3854166666666679]
[null,null,null,null,null,null,null,null,null,null,null,null,null,null,null,null,null,null,null,null,null,null,null,null,null,null,null,null,null,null,null,null,null,null,null,null,null,null,null,null,null,null,null,null,1.3958333333333346]
[null,null,null,null,null,null,null,null,null,null,null,null,null,null,null,null,null,null,null,null,null,null,null,null,null,null,null,null,null,null,null,null,null,null,null,null,null,null,null,null,null,null,null,null,1.4062500000000013]
[null,null,null,null,null,null,null,null,null,null,null,null,null,null,null,null,null,null,null,null,null,null,null,null,null,null,null,null,null,null,null,null,null,null,null,null,null,null,null,null,null,null,null,null,1.4166666666666681]
[null,null,null,null,null,null,null,null,null,null,null,null,null,null,null,null,null,null,null,null,null,null,null,null,null,null,null,null,null,null,null,null,null,null,null,null,null,null,null,null,null,null,null,null,1.4270833333333348]
[null,null,null,null,null,null,null,null,null,null,null,null,null,null,null,null,null,null,null,null,null,null,null,null,null,null,null,null,null,null,null,null,null,null,null,null,null,null,null,null,null,null,null,null,1.4375000000000016]
[null,null,null,null,null,null,null,null,null,null,null,null,null,null,null,null,null,null,null,null,null,null,null,null,null,null,null,null,null,null,null,null,null,null,null,null,null,null,null,null,null,null,null,null,1.4479166666666683]
[null,null,null,null,null,null,null,null,null,null,null,null,null,null,null,null,null,null,null,null,null,null,null,null,null,null,null,null,null,null,null,null,null,null,null,null,null,null,null,null,null,null,null,null,1.458333333333335]
[null,null,null,null,null,null,null,null,null,null,null,null,null,null,null,null,null,null,null,null,null,null,null,null,null,null,null,null,null,null,null,null,null,null,null,null,null,null,null,null,null,null,null,null,1.4687500000000018]
[null,null,null,null,null,null,null,null,null,null,null,null,null,null,null,null,null,null,null,null,null,null,null,null,null,null,null,null,null,null,null,null,null,null,null,null,null,null,null,null,null,null,null,null,1.4791666666666685]

{"sheet":"Maps","index":3,"n_rows":3,"n_cols":39,"rows_kept":3,"cut":false,"hidden":true,"merged":[]}
[]
["Site 1",null,null,null,null,"ALL",null,null,null,null,null,null,"No relevant observations",null,null,null,null,null,null,null,null,null,null,null,null,null,null,null,null,null,null,null,null,null,null,null,null,null,25]
["Site 26",null,null,null,null,null,null,null,null,null,null,null,"No relevant observations"]

{"sheet":"Site 1","index":4,"n_rows":341,"n_cols":29,"rows_kept":341,"cut":false,"hidden":false,"merged":[[2,25,2,28],[8,8,9,8],[75,8,76,8],[142,8,143,8],[209,8,210,8],[8,26,9,26],[75,26,76,26],[142,26,143,26],[209,26,210,26],[276,8,277,8],[8,17,9,17],[75,17,76,17],[142,17,143,17],[209,17,210,17],[276,17,277,17],[276,26,277,26],[8,28,9,28],[75,28,76,28],[142,28,143,28],[209,28,210,28],[276,28,277,28]]}
[null,null,null,null,null,null,null,null,null,null,null,null,null,null,null,null,null,null,null,null,null,null,null,null,null,null,null,null,{"$f":"'Project Details'!F9&\" \"&'Project Details'!F10","v":"4780-LON Chiswick & Turnham Green area"}]
[null,null,null,null,null,null,null,null,null,null,null,null,null,null,null,null,null,null,null,null,null,null,null,null,null,null,null,null,"Junction Turning Count"]
[null,null,null,null,null,null,null,null,null,null,null,null,null,null,null,null,null,null,null,null,null,null,null,null,null,{"$f":"'Project Details'!F14","v":"2021-04-29"}]
[]
[null,null,null,null,null,null,null,null,null,null,null,null,null,null,null,null,null,null,null,null,null,null,null,null,null,null,null,null,"Site 1 -  Acton Lane (NE) /  Acton Lane (S) /  Bollo Lane"]
[]
[]
["Origin :","Arm A","Acton Lane (NE)"]
[null,"Destination :",null,"Arm A","Acton Lane (NE)",null,null,null,"Total",null,"Destination :",null,"Arm B","Acton Lane (S)",null,null,null,"Total",null,"Destination :",null,"Arm C","Bollo Lane",null,null,null,"Total",null,"Arm Totals"]
[null,"Car","LGV","OGV1","OGV2","PSV","MC","PC",null,null,{"$f":"$B$10","v":"Car"},{"$f":"$C$10","v":"LGV"},{"$f":"$D$10","v":"OGV1"},{"$f":"$E$10","v":"OGV2"},{"$f":"$F$10","v":"PSV"},{"$f":"$G$10","v":"MC"},{"$f":"$H$10","v":"PC"},null,null,{"$f":"$B$10","v":"Car"},{"$f":"$C$10","v":"LGV"},{"$f":"$D$10","v":"OGV1"},{"$f":"$E$10","v":"OGV2"},{"$f":"$F$10","v":"PSV"},{"$f":"$G$10","v":"MC"},{"$f":"$H$10","v":"PC"}]
[]
["07:00:00",0,0,0,0,0,0,0,{"$f":"SUM(B12:H12)","v":0},null,58,5,1,0,1,1,6,{"$f":"SUM(K12:Q12)","v":72},null,2,1,0,0,0,0,0,{"$f":"SUM(T12:Z12)","v":3},null,{"$f":"SUM(I12+R12+AA12)","v":75}]
["07:15:00",0,0,0,0,0,0,0,0,null,73,11,1,0,1,0,4,90,null,2,0,0,0,0,0,1,3,null,{"$f":"SUM(I13+R13+AA13)","v":93}]
["07:30:00",0,0,0,0,0,0,0,0,null,84,11,0,0,1,0,10,106,null,3,4,1,0,0,2,0,10,null,{"$f":"SUM(I14+R14+AA14)","v":116}]
["07:45:00",0,0,0,0,0,0,0,0,null,112,10,2,0,3,2,2,131,null,8,0,0,0,0,0,0,8,null,{"$f":"SUM(I15+R15+AA15)","v":139}]
["1 Hr",{"$f":"SUM(B12:B15)","v":0},0,0,0,0,0,0,0,null,{"$f":"SUM(K12:K15)","v":327},37,4,0,6,3,22,399,null,{"$f":"SUM(T12:T15)","v":15},5,1,0,0,2,1,24,null,{"$f":"SUM(AC12:AC15)","v":423}]
["08:00:00",1,0,0,0,0,0,0,{"$f":"SUM(B17:H17)","v":1},null,98,16,1,0,1,1,8,{"$f":"SUM(K17:Q17)","v":125},null,7,2,0,0,0,1,0,{"$f":"SUM(T17:Z17)","v":10},null,{"$f":"SUM(I17+R17+AA17)","v":136}]
["08:15:00",0,0,0,0,0,0,0,0,null,116,9,1,0,0,3,6,135,null,1,1,0,0,0,1,1,4,null,{"$f":"SUM(I18+R18+AA18)","v":139}]
["08:30:00",0,0,0,0,0,0,0,0,null,109,9,3,1,0,1,4,127,null,5,3,0,0,0,0,0,8,null,{"$f":"SUM(I19+R19+AA19)","v":135}]
["08:45:00",0,0,0,0,0,0,0,0,null,112,8,3,0,0,5,8,136,null,7,0,0,0,0,0,1,8,null,{"$f":"SUM(I20+R20+AA20)","v":144}]
["1 Hr",{"$f":"SUM(B17:B20)","v":1},0,0,0,0,0,0,1,null,{"$f":"SUM(K17:K20)","v":435},42,8,1,1,10,26,523,null,{"$f":"SUM(T17:T20)","v":20},6,0,0,0,2,2,30,null,{"$f":"SUM(AC17:AC20)","v":554}]
["09:00:00",0,0,0,0,0,0,0,{"$f":"SUM(B22:H22)","v":0},null,90,11,1,0,2,1,3,{"$f":"SUM(K22:Q22)","v":108},null,8,0,1,0,0,0,2,{"$f":"SUM(T22:Z22)","v":11},null,{"$f":"SUM(I22+R22+AA22)","v":119}]
["09:15:00",0,0,0,0,0,0,0,0,null,83,14,5,0,0,1,4,107,null,4,1,0,0,0,1,1,7,null,{"$f":"SUM(I23+R23+AA23)","v":114}]
["09:30:00",0,0,0,0,0,0,0,0,null,91,17,2,0,0,0,3,113,null,6,2,1,0,0,1,0,10,null,{"$f":"SUM(I24+R24+AA24)","v":123}]
["09:45:00",0,1,0,0,0,0,0,1,null,80,9,4,0,0,1,10,104,null,7,1,0,0,1,0,0,9,null,{"$f":"SUM(I25+R25+AA25)","v":114}]
["1 Hr",{"$f":"SUM(B22:B25)","v":0},1,0,0,0,0,0,1,null,{"$f":"SUM(K22:K25)","v":344},51,12,0,2,3,20,432,null,{"$f":"SUM(T22:T25)","v":25},4,2,0,1,2,3,37,null,{"$f":"SUM(AC22:AC25)","v":470}]
["10:00:00",0,0,0,0,0,0,0,{"$f":"SUM(B27:H27)","v":0},null,85,20,0,0,0,2,0,{"$f":"SUM(K27:Q27)","v":107},null,6,2,0,0,0,1,0,{"$f":"SUM(T27:Z27)","v":9},null,{"$f":"SUM(I27+R27+AA27)","v":116}]
["10:15:00",0,0,0,0,0,0,0,0,null,68,12,1,0,0,2,2,85,null,8,2,0,0,0,0,0,10,null,{"$f":"SUM(I28+R28+AA28)","v":95}]
["10:30:00",0,0,0,0,0,0,0,0,null,75,21,2,0,0,2,1,101,null,7,2,0,0,0,1,1,11,null,{"$f":"SUM(I29+R29+AA29)","v":112}]
["10:45:00",0,0,0,0,0,0,0,0,null,85,14,1,0,0,2,3,105,null,8,4,1,0,0,0,2,15,null,{"$f":"SUM(I30+R30+AA30)","v":120}]
["1 Hr",{"$f":"SUM(B27:B30)","v":0},0,0,0,0,0,0,0,null,{"$f":"SUM(K27:K30)","v":313},67,4,0,0,8,6,398,null,{"$f":"SUM(T27:T30)","v":29},10,1,0,0,2,3,45,null,{"$f":"SUM(AC27:AC30)","v":443}]
["11:00:00",1,0,0,0,0,0,0,{"$f":"SUM(B32:H32)","v":1},null,77,18,4,1,0,7,3,{"$f":"SUM(K32:Q32)","v":110},null,7,3,0,0,0,1,1,{"$f":"SUM(T32:Z32)","v":12},null,{"$f":"SUM(I32+R32+AA32)","v":123}]
["11:15:00",0,0,0,0,0,0,0,0,null,69,17,1,0,1,6,9,103,null,7,0,0,0,0,0,0,7,null,{"$f":"SUM(I33+R33+AA33)","v":110}]
["11:30:00",0,0,0,0,0,0,0,0,null,80,22,0,0,0,6,2,110,null,6,1,0,0,0,0,1,8,null,{"$f":"SUM(I34+R34+AA34)","v":118}]
["11:45:00",1,0,0,0,0,0,0,1,null,93,18,4,0,0,5,1,121,null,7,0,1,0,0,0,0,8,null,{"$f":"SUM(I35+R35+AA35)","v":130}]
["1 Hr",{"$f":"SUM(B32:B35)","v":2},0,0,0,0,0,0,2,null,{"$f":"SUM(K32:K35)","v":319},75,9,1,1,24,15,444,null,{"$f":"SUM(T32:T35)","v":27},4,1,0,0,1,2,35,null,{"$f":"SUM(AC32:AC35)","v":481}]
["12:00:00",0,0,0,0,0,0,0,{"$f":"SUM(B37:H37)","v":0},null,84,13,3,0,1,8,4,{"$f":"SUM(K37:Q37)","v":113},null,6,3,0,0,0,1,1,{"$f":"SUM(T37:Z37)","v":11},null,{"$f":"SUM(I37+R37+AA37)","v":124}]
["12:15:00",0,0,0,0,0,0,0,0,null,78,23,3,0,1,2,8,115,null,11,0,0,0,0,1,0,12,null,{"$f":"SUM(I38+R38+AA38)","v":127}]
["12:30:00",0,0,0,0,0,0,0,0,null,72,16,2,0,0,5,2,97,null,1,1,1,0,0,1,0,4,null,{"$f":"SUM(I39+R39+AA39)","v":101}]
["12:45:00",0,0,0,0,0,0,0,0,null,97,16,2,0,0,5,1,121,null,5,4,1,0,0,1,1,12,null,{"$f":"SUM(I40+R40+AA40)","v":133}]
["1 Hr",{"$f":"SUM(B37:B40)","v":0},0,0,0,0,0,0,0,null,{"$f":"SUM(K37:K40)","v":331},68,10,0,2,20,15,446,null,{"$f":"SUM(T37:T40)","v":23},8,2,0,0,4,2,39,null,{"$f":"SUM(AC37:AC40)","v":485}]
["13:00:00",0,0,0,0,0,0,0,{"$f":"SUM(B42:H42)","v":0},null,93,14,4,0,1,3,2,{"$f":"SUM(K42:Q42)","v":117},null,5,1,0,0,0,2,0,{"$f":"SUM(T42:Z42)","v":8},null,{"$f":"SUM(I42+R42+AA42)","v":125}]
["13:15:00",0,0,0,0,0,0,0,0,null,89,21,1,0,0,10,4,125,null,10,1,1,0,0,0,0,12,null,{"$f":"SUM(I43+R43+AA43)","v":137}]
["13:30:00",0,0,0,0,0,0,0,0,null,105,24,2,0,0,3,0,134,null,6,1,1,0,0,2,1,11,null,{"$f":"SUM(I44+R44+AA44)","v":145}]
["13:45:00",0,0,0,0,0,0,0,0,null,96,22,0,1,1,4,1,125,null,5,0,1,0,0,1,1,8,null,{"$f":"SUM(I45+R45+AA45)","v":133}]
["1 Hr",{"$f":"SUM(B42:B45)","v":0},0,0,0,0,0,0,0,null,{"$f":"SUM(K42:K45)","v":383},81,7,1,2,20,7,501,null,{"$f":"SUM(T42:T45)","v":26},3,3,0,0,5,2,39,null,{"$f":"SUM(AC42:AC45)","v":540}]
["14:00:00",0,0,0,0,0,0,0,{"$f":"SUM(B47:H47)","v":0},null,94,28,2,2,1,8,3,{"$f":"SUM(K47:Q47)","v":138},null,4,1,1,0,0,6,0,{"$f":"SUM(T47:Z47)","v":12},null,{"$f":"SUM(I47+R47+AA47)","v":150}]
["14:15:00",0,0,0,0,0,0,0,0,null,95,16,2,0,0,6,3,122,null,9,1,1,0,0,1,0,12,null,{"$f":"SUM(I48+R48+AA48)","v":134}]
["14:30:00",0,0,0,0,0,0,0,0,null,101,28,2,0,1,4,3,139,null,4,1,1,0,0,0,0,6,null,{"$f":"SUM(I49+R49+AA49)","v":145}]
["14:45:00",1,0,0,0,0,0,0,1,null,120,27,5,0,1,4,6,163,null,3,2,0,0,0,1,0,6,null,{"$f":"SUM(I50+R50+AA50)","v":170}]
["1 Hr",{"$f":"SUM(B47:B50)","v":1},0,0,0,0,0,0,1,null,{"$f":"SUM(K47:K50)","v":410},99,11,2,3,22,15,562,null,{"$f":"SUM(T47:T50)","v":20},5,3,0,0,8,0,36,null,{"$f":"SUM(AC47:AC50)","v":599}]
["15:00:00",2,0,0,0,0,0,0,{"$f":"SUM(B52:H52)","v":2},null,121,27,2,0,0,5,3,{"$f":"SUM(K52:Q52)","v":158},null,9,0,1,0,0,4,0,{"$f":"SUM(T52:Z52)","v":14},null,{"$f":"SUM(I52+R52+AA52)","v":174}]
["15:15:00",0,0,0,0,0,0,0,0,null,108,17,1,1,0,5,2,134,null,1,2,0,0,0,0,1,4,null,{"$f":"SUM(I53+R53+AA53)","v":138}]
["15:30:00",0,0,0,0,0,0,0,0,null,108,23,2,0,1,2,3,139,null,6,2,0,0,0,2,0,10,null,{"$f":"SUM(I54+R54+AA54)","v":149}]
["15:45:00",0,0,0,0,0,0,0,0,null,105,32,4,0,4,7,2,154,null,6,1,0,0,0,0,1,8,null,{"$f":"SUM(I55+R55+AA55)","v":162}]
["1 Hr",{"$f":"SUM(B52:B55)","v":2},0,0,0,0,0,0,2,null,{"$f":"SUM(K52:K55)","v":442},99,9,1,5,19,10,585,null,{"$f":"SUM(T52:T55)","v":22},5,1,0,0,6,2,36,null,{"$f":"SUM(AC52:AC55)","v":623}]
["16:00:00",0,0,0,0,0,0,0,{"$f":"SUM(B57:H57)","v":0},null,126,29,3,0,0,3,0,{"$f":"SUM(K57:Q57)","v":161},null,1,1,0,0,0,2,0,{"$f":"SUM(T57:Z57)","v":4},null,{"$f":"SUM(I57+R57+AA57)","v":165}]
["16:15:00",0,0,0,0,0,0,0,0,null,132,32,2,0,1,2,8,177,null,5,1,0,0,0,0,0,6,null,{"$f":"SUM(I58+R58+AA58)","v":183}]
["16:30:00",0,0,0,0,0,0,0,0,null,110,28,3,0,0,5,4,150,null,5,4,0,0,0,1,0,10,null,{"$f":"SUM(I59+R59+AA59)","v":160}]
["16:45:00",1,0,0,0,0,0,0,1,null,104,29,3,0,1,7,5,149,null,7,1,0,0,0,0,1,9,null,{"$f":"SUM(I60+R60+AA60)","v":159}]
["1 Hr",{"$f":"SUM(B57:B60)","v":1},0,0,0,0,0,0,1,null,{"$f":"SUM(K57:K60)","v":472},118,11,0,2,17,17,637,null,{"$f":"SUM(T57:T60)","v":18},7,0,0,0,3,1,29,null,{"$f":"SUM(AC57:AC60)","v":667}]
["17:00:00",0,0,0,0,0,0,0,{"$f":"SUM(B62:H62)","v":0},null,117,26,0,0,1,5,6,{"$f":"SUM(K62:Q62)","v":155},null,6,0,0,0,0,0,0,{"$f":"SUM(T62:Z62)","v":6},null,{"$f":"SUM(I62+R62+AA62)","v":161}]
["17:15:00",0,0,0,0,0,0,0,0,null,119,19,0,0,0,7,7,152,null,6,1,0,0,0,1,1,9,null,{"$f":"SUM(I63+R63+AA63)","v":161}]
["17:30:00",0,0,0,0,0,0,0,0,null,116,14,0,0,1,9,6,146,null,3,0,0,0,0,0,1,4,null,{"$f":"SUM(I64+R64+AA64)","v":150}]
["17:45:00",0,0,0,0,0,0,0,0,null,115,13,1,0,1,8,3,141,null,4,0,0,0,0,0,0,4,null,{"$f":"SUM(I65+R65+AA65)","v":145}]
["1 Hr",{"$f":"SUM(B62:B65)","v":0},0,0,0,0,0,0,0,null,{"$f":"SUM(K62:K65)","v":467},72,1,0,3,29,22,594,null,{"$f":"SUM(T62:T65)","v":19},1,0,0,0,1,2,23,null,{"$f":"SUM(AC62:AC65)","v":617}]
["18:00:00",0,0,0,0,0,0,0,{"$f":"SUM(B67:H67)","v":0},null,84,14,1,0,0,6,2,{"$f":"SUM(K67:Q67)","v":107},null,0,0,0,0,0,2,1,{"$f":"SUM(T67:Z67)","v":3},null,{"$f":"SUM(I67+R67+AA67)","v":110}]
["18:15:00",0,0,0,0,0,0,0,0,null,103,12,2,0,1,3,3,124,null,3,0,0,0,0,3,0,6,null,{"$f":"SUM(I68+R68+AA68)","v":130}]
["18:30:00",0,0,0,0,0,0,0,0,null,138,13,0,0,1,10,4,166,null,2,0,0,0,0,2,0,4,null,{"$f":"SUM(I69+R69+AA69)","v":170}]
["18:45:00",0,0,0,0,0,0,0,0,null,149,14,1,0,0,7,4,175,null,8,2,0,0,0,5,0,15,null,{"$f":"SUM(I70+R70+AA70)","v":190}]
["1 Hr",{"$f":"SUM(B67:B70)","v":0},0,0,0,0,0,0,0,null,{"$f":"SUM(K67:K70)","v":474},53,4,0,2,26,13,572,null,{"$f":"SUM(T67:T70)","v":13},2,0,0,0,12,1,28,null,{"$f":"SUM(AC67:AC70)","v":600}]
[]
["Total",{"$f":"SUM(B71+B66+B61+B56+B51+B46+B41+B36+B31+B26+B21+B16)","v":7},1,0,0,0,0,0,8,null,{"$f":"SUM(K71+K66+K61+K56+K51+K46+K41+K36+K31+K26+K21+K16)","v":4717},862,90,6,29,201,188,6093,null,{"$f":"SUM(T71+T66+T61+T56+T51+T46+T41+T36+T31+T26+T21+T16)","v":257},60,14,0,1,48,21,401,null,{"$f":"SUM(AC71+AC66+AC61+AC56+AC51+AC46+AC41+AC36+AC31+AC26+AC21+AC16)","v":6502}]
[]
["Origin :","Arm B","Acton Lane (S)"]
[null,"Destination :",null,"Arm A","Acton Lane (NE)",null,null,null,"Total",null,"Destination :",null,"Arm B","Acton Lane (S)",null,null,null,"Total",null,"Destination :",null,"Arm C","Bollo Lane",null,null,null,"Total",null,"Arm Totals"]
[null,{"$f":"$B$10","v":"Car"},{"$f":"$C$10","v":"LGV"},{"$f":"$D$10","v":"OGV1"},{"$f":"$E$10","v":"OGV2"},{"$f":"$F$10","v":"PSV"},{"$f":"$G$10","v":"MC"},{"$f":"$H$10","v":"PC"},null,null,{"$f":"$B$10","v":"Car"},{"$f":"$C$10","v":"LGV"},{"$f":"$D$10","v":"OGV1"},{"$f":"$E$10","v":"OGV2"},{"$f":"$F$10","v":"PSV"},{"$f":"$G$10","v":"MC"},{"$f":"$H$10","v":"PC"},null,null,{"$f":"$B$10","v":"Car"},{"$f":"$C$10","v":"LGV"},{"$f":"$D$10","v":"OGV1"},{"$f":"$E$10","v":"OGV2"},{"$f":"$F$10","v":"PSV"},{"$f":"$G$10","v":"MC"},{"$f":"$H$10","v":"PC"}]
[]
["07:00:00",66,22,2,0,0,1,5,{"$f":"SUM(B79:H79)","v":96},null,0,0,0,0,0,0,0,{"$f":"SUM(K79:Q79)","v":0},null,13,5,2,0,1,2,0,{"$f":"SUM(T79:Z79)","v":23},null,{"$f":"SUM(I79+R79+AA79)","v":119}]
["07:15:00",74,34,3,0,0,0,5,116,null,0,0,0,0,0,0,0,0,null,20,3,2,0,0,0,3,28,null,{"$f":"SUM(I80+R80+AA80)","v":144}]
["07:30:00",71,31,3,1,2,0,3,111,null,0,0,0,0,0,0,0,0,null,14,5,0,0,0,0,1,20,null,{"$f":"SUM(I81+R81+AA81)","v":131}]
["07:45:00",72,30,7,1,1,4,2,117,null,0,0,0,0,0,0,0,0,null,13,6,1,0,1,2,1,24,null,{"$f":"SUM(I82+R82+AA82)","v":141}]
["1 Hr",{"$f":"SUM(B79:B82)","v":283},117,15,2,3,5,15,440,null,{"$f":"SUM(K79:K82)","v":0},0,0,0,0,0,0,0,null,{"$f":"SUM(T79:T82)","v":60},19,5,0,2,4,5,95,null,{"$f":"SUM(AC79:AC82)","v":535}]
["08:00:00",80,31,4,0,0,1,1,{"$f":"SUM(B84:H84)","v":117},null,0,0,0,0,0,0,0,{"$f":"SUM(K84:Q84)","v":0},null,25,7,2,0,0,1,1,{"$f":"SUM(T84:Z84)","v":36},null,{"$f":"SUM(I84+R84+AA84)","v":153}]
["08:15:00",87,19,1,0,0,3,4,114,null,0,0,0,0,0,0,0,0,null,29,4,0,0,0,0,1,34,null,{"$f":"SUM(I85+R85+AA85)","v":148}]
["08:30:00",87,11,3,0,0,0,10,111,null,0,0,0,0,0,0,0,0,null,24,2,2,0,0,1,5,34,null,{"$f":"SUM(I86+R86+AA86)","v":145}]
["08:45:00",84,20,1,1,0,1,5,112,null,0,0,0,0,0,0,0,0,null,33,6,2,0,0,3,4,48,null,{"$f":"SUM(I87+R87+AA87)","v":160}]
["1 Hr",{"$f":"SUM(B84:B87)","v":338},81,9,1,0,5,20,454,null,{"$f":"SUM(K84:K87)","v":0},0,0,0,0,0,0,0,null,{"$f":"SUM(T84:T87)","v":111},19,6,0,0,5,11,152,null,{"$f":"SUM(AC84:AC87)","v":606}]
["09:00:00",81,19,2,0,1,2,2,{"$f":"SUM(B89:H89)","v":107},null,0,0,0,0,0,0,0,{"$f":"SUM(K89:Q89)","v":0},null,29,5,0,1,0,2,6,{"$f":"SUM(T89:Z89)","v":43},null,{"$f":"SUM(I89+R89+AA89)","v":150}]
["09:15:00",80,11,1,0,0,0,4,96,null,1,0,0,0,0,0,0,1,null,23,11,2,0,0,2,5,43,null,{"$f":"SUM(I90+R90+AA90)","v":140}]
["09:30:00",71,12,1,0,0,2,6,92,null,0,0,0,0,0,0,0,0,null,24,8,0,0,0,4,1,37,null,{"$f":"SUM(I91+R91+AA91)","v":129}]
["09:45:00",77,28,4,0,0,2,2,113,null,0,0,0,0,0,0,0,0,null,16,6,0,0,0,3,4,29,null,{"$f":"SUM(I92+R92+AA92)","v":142}]
["1 Hr",{"$f":"SUM(B89:B92)","v":309},70,8,0,1,6,14,408,null,{"$f":"SUM(K89:K92)","v":1},0,0,0,0,0,0,1,null,{"$f":"SUM(T89:T92)","v":92},30,2,1,0,11,16,152,null,{"$f":"SUM(AC89:AC92)","v":561}]
["10:00:00",77,11,1,0,0,4,1,{"$f":"SUM(B94:H94)","v":94},null,0,0,0,0,0,0,0,{"$f":"SUM(K94:Q94)","v":0},null,23,4,2,0,0,2,3,{"$f":"SUM(T94:Z94)","v":34},null,{"$f":"SUM(I94+R94+AA94)","v":128}]
["10:15:00",68,20,3,0,0,4,0,95,null,0,0,0,0,0,0,0,0,null,16,5,0,0,0,4,1,26,null,{"$f":"SUM(I95+R95+AA95)","v":121}]
["10:30:00",79,18,6,0,0,2,3,108,null,0,0,0,0,0,0,1,1,null,21,9,3,0,0,0,2,35,null,{"$f":"SUM(I96+R96+AA96)","v":144}]
["10:45:00",76,14,2,0,0,2,2,96,null,0,0,0,0,0,0,0,0,null,26,6,1,0,0,2,0,35,null,{"$f":"SUM(I97+R97+AA97)","v":131}]
["1 Hr",{"$f":"SUM(B94:B97)","v":300},63,12,0,0,12,6,393,null,{"$f":"SUM(K94:K97)","v":0},0,0,0,0,0,1,1,null,{"$f":"SUM(T94:T97)","v":86},24,6,0,0,8,6,130,null,{"$f":"SUM(AC94:AC97)","v":524}]
["11:00:00",63,23,3,0,0,3,2,{"$f":"SUM(B99:H99)","v":94},null,0,0,0,0,0,0,0,{"$f":"SUM(K99:Q99)","v":0},null,22,9,1,0,0,2,2,{"$f":"SUM(T99:Z99)","v":36},null,{"$f":"SUM(I99+R99+AA99)","v":130}]
["11:15:00",60,12,1,0,0,4,3,80,null,0,0,0,0,0,0,0,0,null,29,5,0,0,0,2,2,38,null,{"$f":"SUM(I100+R100+AA100)","v":118}]
["11:30:00",61,10,2,0,0,4,0,77,null,0,0,0,0,0,0,0,0,null,26,10,1,0,0,1,4,42,null,{"$f":"SUM(I101+R101+AA101)","v":119}]
["11:45:00",64,17,1,0,0,4,3,89,null,0,0,0,0,0,0,0,0,null,20,8,0,0,0,5,1,34,null,{"$f":"SUM(I102+R102+AA102)","v":123}]
["1 Hr",{"$f":"SUM(B99:B102)","v":248},62,7,0,0,15,8,340,null,{"$f":"SUM(K99:K102)","v":0},0,0,0,0,0,0,0,null,{"$f":"SUM(T99:T102)","v":97},32,2,0,0,10,9,150,null,{"$f":"SUM(AC99:AC102)","v":490}]
["12:00:00",59,10,2,0,0,2,4,{"$f":"SUM(B104:H104)","v":77},null,1,0,0,0,0,0,0,{"$f":"SUM(K104:Q104)","v":1},null,31,10,0,0,0,2,2,{"$f":"SUM(T104:Z104)","v":45},null,{"$f":"SUM(I104+R104+AA104)","v":123}]
["12:15:00",54,13,0,0,0,5,3,75,null,0,0,0,0,0,0,0,0,null,33,16,4,0,0,5,1,59,null,{"$f":"SUM(I105+R105+AA105)","v":134}]
["12:30:00",58,16,0,0,0,8,3,85,null,0,0,0,0,0,0,0,0,null,26,10,1,0,1,4,1,43,null,{"$f":"SUM(I106+R106+AA106)","v":128}]
["12:45:00",66,18,2,0,0,6,3,95,null,0,0,0,0,0,0,0,0,null,27,12,3,0,0,6,6,54,null,{"$f":"SUM(I107+R107+AA107)","v":149}]
["1 Hr",{"$f":"SUM(B104:B107)","v":237},57,4,0,0,21,13,332,null,{"$f":"SUM(K104:K107)","v":1},0,0,0,0,0,0,1,null,{"$f":"SUM(T104:T107)","v":117},48,8,0,1,17,10,201,null,{"$f":"SUM(AC104:AC107)","v":534}]
["13:00:00",69,17,2,0,0,8,1,{"$f":"SUM(B109:H109)","v":97},null,2,1,0,0,0,0,0,{"$f":"SUM(K109:Q109)","v":3},null,22,6,2,0,0,4,6,{"$f":"SUM(T109:Z109)","v":40},null,{"$f":"SUM(I109+R109+AA109)","v":140}]
["13:15:00",70,8,2,1,0,1,3,85,null,1,0,0,0,0,0,0,1,null,30,9,1,0,0,4,1,45,null,{"$f":"SUM(I110+R110+AA110)","v":131}]
["13:30:00",58,13,1,0,0,2,3,77,null,1,0,0,0,0,0,0,1,null,29,8,0,1,0,2,1,41,null,{"$f":"SUM(I111+R111+AA111)","v":119}]
["13:45:00",57,15,3,0,0,1,2,78,null,0,0,0,0,0,0,0,0,null,27,6,0,0,0,3,6,42,null,{"$f":"SUM(I112+R112+AA112)","v":120}]
["1 Hr",{"$f":"SUM(B109:B112)","v":254},53,8,1,0,12,9,337,null,{"$f":"SUM(K109:K112)","v":4},1,0,0,0,0,0,5,null,{"$f":"SUM(T109:T112)","v":108},29,3,1,0,13,14,168,null,{"$f":"SUM(AC109:AC112)","v":510}]
["14:00:00",79,8,2,1,0,2,2,{"$f":"SUM(B114:H114)","v":94},null,0,0,0,0,0,0,0,{"$f":"SUM(K114:Q114)","v":0},null,30,7,0,0,0,6,5,{"$f":"SUM(T114:Z114)","v":48},null,{"$f":"SUM(I114+R114+AA114)","v":142}]
["14:15:00",83,15,2,0,0,0,4,104,null,0,0,0,0,0,0,0,0,null,30,8,0,0,1,7,1,47,null,{"$f":"SUM(I115+R115+AA115)","v":151}]
["14:30:00",51,11,3,0,0,2,1,68,null,0,0,0,0,0,0,0,0,null,35,4,2,0,0,2,3,46,null,{"$f":"SUM(I116+R116+AA116)","v":114}]
["14:45:00",56,8,4,0,0,6,7,81,null,0,0,0,0,0,1,0,1,null,23,3,0,0,0,2,2,30,null,{"$f":"SUM(I117+R117+AA117)","v":112}]
["1 Hr",{"$f":"SUM(B114:B117)","v":269},42,11,1,0,10,14,347,null,{"$f":"SUM(K114:K117)","v":0},0,0,0,0,1,0,1,null,{"$f":"SUM(T114:T117)","v":118},22,2,0,1,17,11,171,null,{"$f":"SUM(AC114:AC117)","v":519}]
["15:00:00",62,8,1,0,0,5,0,{"$f":"SUM(B119:H119)","v":76},null,0,0,0,0,0,0,0,{"$f":"SUM(K119:Q119)","v":0},null,25,3,0,0,0,4,2,{"$f":"SUM(T119:Z119)","v":34},null,{"$f":"SUM(I119+R119+AA119)","v":110}]
["15:15:00",88,9,1,0,0,2,5,105,null,0,0,0,0,0,0,0,0,null,31,7,1,0,1,8,4,52,null,{"$f":"SUM(I120+R120+AA120)","v":157}]
["15:30:00",93,10,1,0,1,7,4,116,null,0,0,0,0,0,0,0,0,null,22,6,0,0,0,3,5,36,null,{"$f":"SUM(I121+R121+AA121)","v":152}]
["15:45:00",77,12,1,0,1,3,4,98,null,0,0,0,0,0,0,0,0,null,31,1,0,0,0,2,2,36,null,{"$f":"SUM(I122+R122+AA122)","v":134}]
["1 Hr",{"$f":"SUM(B119:B122)","v":320},39,4,0,2,17,13,395,null,{"$f":"SUM(K119:K122)","v":0},0,0,0,0,0,0,0,null,{"$f":"SUM(T119:T122)","v":109},17,1,0,1,17,13,158,null,{"$f":"SUM(AC119:AC122)","v":553}]
["16:00:00",75,12,0,0,0,1,8,{"$f":"SUM(B124:H124)","v":96},null,0,0,0,0,0,0,0,{"$f":"SUM(K124:Q124)","v":0},null,29,4,0,0,0,4,5,{"$f":"SUM(T124:Z124)","v":42},null,{"$f":"SUM(I124+R124+AA124)","v":138}]
["16:15:00",67,6,0,0,0,2,4,79,null,0,0,0,0,0,0,0,0,null,34,3,0,0,0,3,2,42,null,{"$f":"SUM(I125+R125+AA125)","v":121}]
["16:30:00",86,11,0,0,0,3,3,103,null,1,0,0,0,0,0,0,1,null,26,5,0,0,0,1,7,39,null,{"$f":"SUM(I126+R126+AA126)","v":143}]
["16:45:00",80,10,0,0,0,1,4,95,null,2,0,0,0,0,0,0,2,null,37,8,0,0,0,4,1,50,null,{"$f":"SUM(I127+R127+AA127)","v":147}]
["1 Hr",{"$f":"SUM(B124:B127)","v":308},39,0,0,0,7,19,373,null,{"$f":"SUM(K124:K127)","v":3},0,0,0,0,0,0,3,null,{"$f":"SUM(T124:T127)","v":126},20,0,0,0,12,15,173,null,{"$f":"SUM(AC124:AC127)","v":549}]
["17:00:00",90,8,0,0,0,7,6,{"$f":"SUM(B129:H129)","v":111},null,0,0,0,0,0,0,0,{"$f":"SUM(K129:Q129)","v":0},null,33,6,0,0,0,2,4,{"$f":"SUM(T129:Z129)","v":45},null,{"$f":"SUM(I129+R129+AA129)","v":156}]
["17:15:00",94,10,0,0,0,8,7,119,null,1,0,0,0,0,0,0,1,null,29,2,0,0,0,1,4,36,null,{"$f":"SUM(I130+R130+AA130)","v":156}]
["17:30:00",83,8,0,0,1,6,5,103,null,0,0,0,0,0,0,0,0,null,31,8,0,0,0,5,6,50,null,{"$f":"SUM(I131+R131+AA131)","v":153}]
["17:45:00",95,5,1,0,0,2,10,113,null,3,0,0,0,0,0,0,3,null,26,12,0,0,0,4,7,49,null,{"$f":"SUM(I132+R132+AA132)","v":165}]
["1 Hr",{"$f":"SUM(B129:B132)","v":362},31,1,0,1,23,28,446,null,{"$f":"SUM(K129:K132)","v":4},0,0,0,0,0,0,4,null,{"$f":"SUM(T129:T132)","v":119},28,0,0,0,12,21,180,null,{"$f":"SUM(AC129:AC132)","v":630}]
["18:00:00",97,11,0,0,0,5,10,{"$f":"SUM(B134:H134)","v":123},null,0,0,0,0,0,0,0,{"$f":"SUM(K134:Q134)","v":0},null,34,0,0,0,0,6,5,{"$f":"SUM(T134:Z134)","v":45},null,{"$f":"SUM(I134+R134+AA134)","v":168}]
["18:15:00",97,7,1,0,0,11,7,123,null,1,0,0,0,0,0,0,1,null,33,4,0,0,0,5,4,46,null,{"$f":"SUM(I135+R135+AA135)","v":170}]
["18:30:00",69,7,0,0,0,8,7,91,null,0,0,0,0,0,0,0,0,null,24,1,0,0,0,4,4,33,null,{"$f":"SUM(I136+R136+AA136)","v":124}]
["18:45:00",72,4,0,0,0,11,4,91,null,0,0,0,0,0,0,0,0,null,22,3,0,0,0,5,1,31,null,{"$f":"SUM(I137+R137+AA137)","v":122}]
["1 Hr",{"$f":"SUM(B134:B137)","v":335},29,1,0,0,35,28,428,null,{"$f":"SUM(K134:K137)","v":1},0,0,0,0,0,0,1,null,{"$f":"SUM(T134:T137)","v":113},8,0,0,0,20,14,155,null,{"$f":"SUM(AC134:AC137)","v":584}]
[]
["Total",{"$f":"SUM(B138+B133+B128+B123+B118+B113+B108+B103+B98+B93+B88+B83)","v":3563},683,80,5,7,168,187,4693,null,{"$f":"SUM(K138+K133+K128+K123+K118+K113+K108+K103+K98+K93+K88+K83)","v":14},1,0,0,0,1,1,17,null,{"$f":"SUM(T138+T133+T128+T123+T118+T113+T108+T103+T98+T93+T88+T83)","v":1256},296,35,2,5,146,145,1885,null,{"$f":"SUM(AC138+AC133+AC128+AC123+AC118+AC113+AC108+AC103+AC98+AC93+AC88+AC83)","v":6595}]
[]
["Origin :","Arm C","Bollo Lane"]
[null,"Destination :",null,"Arm A","Acton Lane (NE)",null,null,null,"Total",null,"Destination :",null,"Arm B","Acton Lane (S)",null,null,null,"Total",null,"Destination :",null,"Arm C","Bollo Lane",null,null,null,"Total",null,"Arm Totals"]
[null,{"$f":"$B$10","v":"Car"},{"$f":"$C$10","v":"LGV"},{"$f":"$D$10","v":"OGV1"},{"$f":"$E$10","v":"OGV2"},{"$f":"$F$10","v":"PSV"},{"$f":"$G$10","v":"MC"},{"$f":"$H$10","v":"PC"},null,null,{"$f":"$B$10","v":"Car"},{"$f":"$C$10","v":"LGV"},{"$f":"$D$10","v":"OGV1"},{"$f":"$E$10","v":"OGV2"},{"$f":"$F$10","v":"PSV"},{"$f":"$G$10","v":"MC"},{"$f":"$H$10","v":"PC"},null,null,{"$f":"$B$10","v":"Car"},{"$f":"$C$10","v":"LGV"},{"$f":"$D$10","v":"OGV1"},{"$f":"$E$10","v":"OGV2"},{"$f":"$F$10","v":"PSV"},{"$f":"$G$10","v":"MC"},{"$f":"$H$10","v":"PC"}]
[]
["07:00:00",4,6,1,0,2,0,0,{"$f":"SUM(B146:H146)","v":13},null,20,11,3,0,0,0,3,{"$f":"SUM(K146:Q146)","v":37},null,0,0,0,0,0,0,0,{"$f":"SUM(T146:Z146)","v":0},null,{"$f":"SUM(I146+R146+AA146)","v":50}]
["07:15:00",6,1,1,0,0,1,0,9,null,36,10,1,0,0,0,1,48,null,0,0,0,0,0,0,0,0,null,{"$f":"SUM(I147+R147+AA147)","v":57}]
["07:30:00",11,5,0,0,0,0,3,19,null,52,14,4,0,0,3,4,77,null,0,0,0,0,0,0,0,0,null,{"$f":"SUM(I148+R148+AA148)","v":96}]
["07:45:00",13,5,0,0,0,0,2,20,null,46,15,0,0,0,2,2,65,null,0,0,0,0,0,0,0,0,null,{"$f":"SUM(I149+R149+AA149)","v":85}]
["1 Hr",{"$f":"SUM(B146:B149)","v":34},17,2,0,2,1,5,61,null,{"$f":"SUM(K146:K149)","v":154},50,8,0,0,5,10,227,null,{"$f":"SUM(T146:T149)","v":0},0,0,0,0,0,0,0,null,{"$f":"SUM(AC146:AC149)","v":288}]
["08:00:00",6,5,0,0,0,0,2,{"$f":"SUM(B151:H151)","v":13},null,41,12,0,0,0,1,7,{"$f":"SUM(K151:Q151)","v":61},null,0,1,0,0,0,0,0,{"$f":"SUM(T151:Z151)","v":1},null,{"$f":"SUM(I151+R151+AA151)","v":75}]
["08:15:00",8,2,0,0,0,1,0,11,null,46,5,3,0,0,1,5,60,null,0,0,0,0,0,0,0,0,null,{"$f":"SUM(I152+R152+AA152)","v":71}]
["08:30:00",7,1,0,0,0,0,3,11,null,55,8,1,0,0,1,7,72,null,0,0,0,0,0,0,0,0,null,{"$f":"SUM(I153+R153+AA153)","v":83}]
["08:45:00",10,4,0,0,0,1,0,15,null,40,10,1,0,0,1,2,54,null,0,0,0,0,0,0,0,0,null,{"$f":"SUM(I154+R154+AA154)","v":69}]
["1 Hr",{"$f":"SUM(B151:B154)","v":31},12,0,0,0,2,5,50,null,{"$f":"SUM(K151:K154)","v":182},35,5,0,0,4,21,247,null,{"$f":"SUM(T151:T154)","v":0},1,0,0,0,0,0,1,null,{"$f":"SUM(AC151:AC154)","v":298}]
["09:00:00",10,1,1,0,0,1,1,{"$f":"SUM(B156:H156)","v":14},null,35,13,2,0,0,5,1,{"$f":"SUM(K156:Q156)","v":56},null,0,0,0,0,0,0,0,{"$f":"SUM(T156:Z156)","v":0},null,{"$f":"SUM(I156+R156+AA156)","v":70}]
["09:15:00",17,1,0,0,0,0,0,18,null,31,9,2,1,0,4,2,49,null,0,0,0,0,0,0,0,0,null,{"$f":"SUM(I157+R157+AA157)","v":67}]
["09:30:00",9,4,0,0,0,1,0,14,null,23,9,0,0,0,5,1,38,null,0,0,0,0,0,0,0,0,null,{"$f":"SUM(I158+R158+AA158)","v":52}]
["09:45:00",9,4,0,0,0,2,1,16,null,22,9,1,0,0,2,4,38,null,0,0,0,0,0,0,0,0,null,{"$f":"SUM(I159+R159+AA159)","v":54}]
["1 Hr",{"$f":"SUM(B156:B159)","v":45},10,1,0,0,4,2,62,null,{"$f":"SUM(K156:K159)","v":111},40,5,1,0,16,8,181,null,{"$f":"SUM(T156:T159)","v":0},0,0,0,0,0,0,0,null,{"$f":"SUM(AC156:AC159)","v":243}]
["10:00:00",11,5,0,0,0,1,0,{"$f":"SUM(B161:H161)","v":17},null,22,9,1,0,0,4,1,{"$f":"SUM(K161:Q161)","v":37},null,0,0,0,0,0,0,0,{"$f":"SUM(T161:Z161)","v":0},null,{"$f":"SUM(I161+R161+AA161)","v":54}]
["10:15:00",12,2,0,0,0,0,0,14,null,19,9,1,0,0,5,0,34,null,0,0,0,0,0,0,0,0,null,{"$f":"SUM(I162+R162+AA162)","v":48}]
["10:30:00",8,3,1,0,0,1,0,13,null,29,16,4,0,0,2,0,51,null,0,0,0,0,0,0,0,0,null,{"$f":"SUM(I163+R163+AA163)","v":64}]
["10:45:00",12,1,0,0,0,1,0,14,null,23,3,0,0,0,1,2,29,null,0,0,0,0,0,0,0,0,null,{"$f":"SUM(I164+R164+AA164)","v":43}]
["1 Hr",{"$f":"SUM(B161:B164)","v":43},11,1,0,0,3,0,58,null,{"$f":"SUM(K161:K164)","v":93},37,6,0,0,12,3,151,null,{"$f":"SUM(T161:T164)","v":0},0,0,0,0,0,0,0,null,{"$f":"SUM(AC161:AC164)","v":209}]
["11:00:00",14,3,1,0,0,1,0,{"$f":"SUM(B166:H166)","v":19},null,26,8,2,0,1,1,0,{"$f":"SUM(K166:Q166)","v":38},null,0,0,0,0,0,0,0,{"$f":"SUM(T166:Z166)","v":0},null,{"$f":"SUM(I166+R166+AA166)","v":57}]
["11:15:00",5,2,0,0,0,2,1,10,null,22,11,0,0,0,3,1,37,null,0,0,0,0,0,0,0,0,null,{"$f":"SUM(I167+R167+AA167)","v":47}]
["11:30:00",5,2,0,0,0,1,0,8,null,27,8,2,0,0,3,2,42,null,1,0,0,0,0,0,0,1,null,{"$f":"SUM(I168+R168+AA168)","v":51}]
["11:45:00",7,4,0,0,0,0,1,12,null,22,7,0,0,0,1,1,31,null,0,0,0,0,0,0,0,0,null,{"$f":"SUM(I169+R169+AA169)","v":43}]
["1 Hr",{"$f":"SUM(B166:B169)","v":31},11,1,0,0,4,2,49,null,{"$f":"SUM(K166:K169)","v":97},34,4,0,1,8,4,148,null,{"$f":"SUM(T166:T169)","v":1},0,0,0,0,0,0,1,null,{"$f":"SUM(AC166:AC169)","v":198}]
["12:00:00",12,1,0,0,0,3,0,{"$f":"SUM(B171:H171)","v":16},null,31,5,0,0,0,4,3,{"$f":"SUM(K171:Q171)","v":43},null,0,0,0,0,0,0,0,{"$f":"SUM(T171:Z171)","v":0},null,{"$f":"SUM(I171+R171+AA171)","v":59}]
["12:15:00",9,2,0,0,0,0,0,11,null,34,7,4,0,0,4,3,52,null,0,0,0,0,0,0,0,0,null,{"$f":"SUM(I172+R172+AA172)","v":63}]
["12:30:00",8,2,1,0,0,4,0,15,null,62,26,4,0,0,3,5,100,null,0,0,0,0,0,0,0,0,null,{"$f":"SUM(I173+R173+AA173)","v":115}]
["12:45:00",10,1,0,0,0,2,0,13,null,40,9,2,0,1,8,4,64,null,0,0,0,0,0,0,0,0,null,{"$f":"SUM(I174+R174+AA174)","v":77}]
["1 Hr",{"$f":"SUM(B171:B174)","v":39},6,1,0,0,9,0,55,null,{"$f":"SUM(K171:K174)","v":167},47,10,0,1,19,15,259,null,{"$f":"SUM(T171:T174)","v":0},0,0,0,0,0,0,0,null,{"$f":"SUM(AC171:AC174)","v":314}]
["13:00:00",21,3,2,0,0,1,0,{"$f":"SUM(B176:H176)","v":27},null,26,11,1,0,0,8,1,{"$f":"SUM(K176:Q176)","v":47},null,0,0,0,0,0,0,0,{"$f":"SUM(T176:Z176)","v":0},null,{"$f":"SUM(I176+R176+AA176)","v":74}]
["13:15:00",5,4,0,0,0,1,0,10,null,29,7,0,0,0,2,3,41,null,0,0,0,0,0,0,0,0,null,{"$f":"SUM(I177+R177+AA177)","v":51}]
["13:30:00",9,1,0,0,0,2,0,12,null,29,5,2,0,0,4,1,41,null,0,0,0,0,0,0,0,0,null,{"$f":"SUM(I178+R178+AA178)","v":53}]
["13:45:00",4,1,0,0,0,0,0,5,null,16,3,0,0,0,3,1,23,null,0,0,0,0,0,0,0,0,null,{"$f":"SUM(I179+R179+AA179)","v":28}]
["1 Hr",{"$f":"SUM(B176:B179)","v":39},9,2,0,0,4,0,54,null,{"$f":"SUM(K176:K179)","v":100},26,3,0,0,17,6,152,null,{"$f":"SUM(T176:T179)","v":0},0,0,0,0,0,0,0,null,{"$f":"SUM(AC176:AC179)","v":206}]
["14:00:00",17,3,0,0,0,4,1,{"$f":"SUM(B181:H181)","v":25},null,34,5,3,0,0,3,2,{"$f":"SUM(K181:Q181)","v":47},null,0,0,0,0,0,0,0,{"$f":"SUM(T181:Z181)","v":0},null,{"$f":"SUM(I181+R181+AA181)","v":72}]
["14:15:00",4,1,0,0,0,1,2,8,null,22,5,0,0,0,6,3,36,null,0,0,0,0,0,0,0,0,null,{"$f":"SUM(I182+R182+AA182)","v":44}]
["14:30:00",17,1,0,0,0,3,0,21,null,40,5,3,0,0,3,2,53,null,0,0,0,0,0,0,0,0,null,{"$f":"SUM(I183+R183+AA183)","v":74}]
["14:45:00",7,1,0,0,0,2,1,11,null,45,5,0,0,0,4,3,57,null,0,0,0,0,0,0,0,0,null,{"$f":"SUM(I184+R184+AA184)","v":68}]
["1 Hr",{"$f":"SUM(B181:B184)","v":45},6,0,0,0,10,4,65,null,{"$f":"SUM(K181:K184)","v":141},20,6,0,0,16,10,193,null,{"$f":"SUM(T181:T184)","v":0},0,0,0,0,0,0,0,null,{"$f":"SUM(AC181:AC184)","v":258}]
["15:00:00",7,0,2,0,0,1,0,{"$f":"SUM(B186:H186)","v":10},null,40,9,1,0,0,8,2,{"$f":"SUM(K186:Q186)","v":60},null,0,0,0,0,0,0,0,{"$f":"SUM(T186:Z186)","v":0},null,{"$f":"SUM(I186+R186+AA186)","v":70}]
["15:15:00",4,3,0,0,0,0,0,7,null,32,6,3,0,0,3,5,49,null,0,0,0,0,0,0,0,0,null,{"$f":"SUM(I187+R187+AA187)","v":56}]
["15:30:00",6,2,0,0,0,1,4,13,null,22,6,1,0,1,2,3,35,null,0,0,0,0,0,0,0,0,null,{"$f":"SUM(I188+R188+AA188)","v":48}]
["15:45:00",8,2,0,0,0,2,0,12,null,38,12,0,0,0,1,1,52,null,0,0,0,0,0,0,0,0,null,{"$f":"SUM(I189+R189+AA189)","v":64}]
["1 Hr",{"$f":"SUM(B186:B189)","v":25},7,2,0,0,4,4,42,null,{"$f":"SUM(K186:K189)","v":132},33,5,0,1,14,11,196,null,{"$f":"SUM(T186:T189)","v":0},0,0,0,0,0,0,0,null,{"$f":"SUM(AC186:AC189)","v":238}]
["16:00:00",6,2,0,0,0,1,0,{"$f":"SUM(B191:H191)","v":9},null,26,2,0,0,0,2,3,{"$f":"SUM(K191:Q191)","v":33},null,0,0,0,0,0,0,0,{"$f":"SUM(T191:Z191)","v":0},null,{"$f":"SUM(I191+R191+AA191)","v":42}]
["16:15:00",8,1,0,0,0,0,0,9,null,38,8,0,0,0,3,0,49,null,0,0,0,0,0,0,0,0,null,{"$f":"SUM(I192+R192+AA192)","v":58}]
["16:30:00",10,0,0,0,0,2,0,12,null,43,10,0,0,0,4,3,60,null,0,0,0,0,0,0,0,0,null,{"$f":"SUM(I193+R193+AA193)","v":72}]
["16:45:00",6,0,0,0,0,4,0,10,null,41,6,0,0,0,2,2,51,null,0,0,0,0,0,0,0,0,null,{"$f":"SUM(I194+R194+AA194)","v":61}]
["1 Hr",{"$f":"SUM(B191:B194)","v":30},3,0,0,0,7,0,40,null,{"$f":"SUM(K191:K194)","v":148},26,0,0,0,11,8,193,null,{"$f":"SUM(T191:T194)","v":0},0,0,0,0,0,0,0,null,{"$f":"SUM(AC191:AC194)","v":233}]
["17:00:00",8,0,0,0,0,1,0,{"$f":"SUM(B196:H196)","v":9},null,47,8,0,0,0,5,3,{"$f":"SUM(K196:Q196)","v":63},null,0,0,0,0,0,0,0,{"$f":"SUM(T196:Z196)","v":0},null,{"$f":"SUM(I196+R196+AA196)","v":72}]
["17:15:00",7,0,0,0,0,2,0,9,null,58,8,0,0,0,5,2,73,null,0,0,0,0,0,0,0,0,null,{"$f":"SUM(I197+R197+AA197)","v":82}]
["17:30:00",7,2,0,0,0,1,0,10,null,55,11,0,0,0,2,3,71,null,0,0,0,0,0,0,0,0,null,{"$f":"SUM(I198+R198+AA198)","v":81}]
["17:45:00",4,0,0,0,0,1,1,6,null,50,9,0,0,0,2,4,65,null,0,0,0,0,0,0,0,0,null,{"$f":"SUM(I199+R199+AA199)","v":71}]
["1 Hr",{"$f":"SUM(B196:B199)","v":26},2,0,0,0,5,1,34,null,{"$f":"SUM(K196:K199)","v":210},36,0,0,0,14,12,272,null,{"$f":"SUM(T196:T199)","v":0},0,0,0,0,0,0,0,null,{"$f":"SUM(AC196:AC199)","v":306}]
["18:00:00",9,3,0,0,1,2,1,{"$f":"SUM(B201:H201)","v":16},null,72,4,0,0,0,5,5,{"$f":"SUM(K201:Q201)","v":86},null,0,0,0,0,0,0,0,{"$f":"SUM(T201:Z201)","v":0},null,{"$f":"SUM(I201+R201+AA201)","v":102}]
["18:15:00",13,1,0,0,0,3,3,20,null,47,7,0,0,0,3,4,61,null,0,0,0,0,0,0,0,0,null,{"$f":"SUM(I202+R202+AA202)","v":81}]
["18:30:00",13,3,0,0,0,2,2,20,null,70,5,0,0,0,8,3,86,null,0,0,0,0,0,0,0,0,null,{"$f":"SUM(I203+R203+AA203)","v":106}]
["18:45:00",8,1,0,0,0,1,0,10,null,36,6,1,0,0,6,4,53,null,0,0,0,0,0,0,0,0,null,{"$f":"SUM(I204+R204+AA204)","v":63}]
["1 Hr",{"$f":"SUM(B201:B204)","v":43},8,0,0,1,8,6,66,null,{"$f":"SUM(K201:K204)","v":225},22,1,0,0,22,16,286,null,{"$f":"SUM(T201:T204)","v":0},0,0,0,0,0,0,0,null,{"$f":"SUM(AC201:AC204)","v":352}]
[]
["Total",{"$f":"SUM(B205+B200+B195+B190+B185+B180+B175+B170+B165+B160+B155+B150)","v":431},102,10,0,3,61,29,636,null,{"$f":"SUM(K205+K200+K195+K190+K185+K180+K175+K170+K165+K160+K155+K150)","v":1760},406,53,1,3,158,124,2505,null,{"$f":"SUM(T205+T200+T195+T190+T185+T180+T175+T170+T165+T160+T155+T150)","v":1},1,0,0,0,0,0,2,null,{"$f":"SUM(AC205+AC200+AC195+AC190+AC185+AC180+AC175+AC170+AC165+AC160+AC155+AC150)","v":3143}]
[]
["ORIGIN SUMMARY"]
[null,"Origin :",null,"Arm A","Acton Lane (NE)",null,null,null,"Total",null,"Origin :",null,"Arm B","Acton Lane (S)",null,null,null,"Total",null,"Origin :",null,"Arm C","Bollo Lane",null,null,null,"Total",null,"Origin Totals"]
[null,{"$f":"$B$10","v":"Car"},{"$f":"$C$10","v":"LGV"},{"$f":"$D$10","v":"OGV1"},{"$f":"$E$10","v":"OGV2"},{"$f":"$F$10","v":"PSV"},{"$f":"$G$10","v":"MC"},{"$f":"$H$10","v":"PC"},null,null,{"$f":"$B$10","v":"Car"},{"$f":"$C$10","v":"LGV"},{"$f":"$D$10","v":"OGV1"},{"$f":"$E$10","v":"OGV2"},{"$f":"$F$10","v":"PSV"},{"$f":"$G$10","v":"MC"},{"$f":"$H$10","v":"PC"},null,null,{"$f":"$B$10","v":"Car"},{"$f":"$C$10","v":"LGV"},{"$f":"$D$10","v":"OGV1"},{"$f":"$E$10","v":"OGV2"},{"$f":"$F$10","v":"PSV"},{"$f":"$G$10","v":"MC"},{"$f":"$H$10","v":"PC"}]
[]
["07:00:00",{"$f":"SUM(B12+K12+T12)","v":60},6,1,0,1,1,6,{"$f":"SUM(B213:H213)","v":75},null,{"$f":"SUM(B79+K79+T79)","v":79},27,4,0,1,3,5,{"$f":"SUM(K213:Q213)","v":119},null,{"$f":"SUM(B146+K146+T146)","v":24},17,4,0,2,0,3,{"$f":"SUM(T213:Z213)","v":50},null,{"$f":"SUM(I213+R213+AA213)","v":244}]
["07:15:00",75,11,1,0,1,0,5,{"$f":"SUM(B214:H214)","v":93},null,94,37,5,0,0,0,8,{"$f":"SUM(K214:Q214)","v":144},null,42,11,2,0,0,1,1,{"$f":"SUM(T214:Z214)","v":57},null,{"$f":"SUM(I214+R214+AA214)","v":294}]
["07:30:00",87,15,1,0,1,2,10,{"$f":"SUM(B215:H215)","v":116},null,85,36,3,1,2,0,4,{"$f":"SUM(K215:Q215)","v":131},null,63,19,4,0,0,3,7,{"$f":"SUM(T215:Z215)","v":96},null,{"$f":"SUM(I215+R215+AA215)","v":343}]
["07:45:00",120,10,2,0,3,2,2,{"$f":"SUM(B216:H216)","v":139},null,85,36,8,1,2,6,3,{"$f":"SUM(K216:Q216)","v":141},null,59,20,0,0,0,2,4,{"$f":"SUM(T216:Z216)","v":85},null,{"$f":"SUM(I216+R216+AA216)","v":365}]
["1 Hr",{"$f":"SUM(B213:B216)","v":342},42,5,0,6,5,23,423,null,{"$f":"SUM(K213:K216)","v":343},136,20,2,5,9,20,535,null,{"$f":"SUM(T213:T216)","v":188},67,10,0,2,6,15,288,null,{"$f":"SUM(AC213:AC216)","v":1246}]
["08:00:00",{"$f":"SUM(B17+K17+T17)","v":106},18,1,0,1,2,8,{"$f":"SUM(B218:H218)","v":136},null,{"$f":"SUM(B84+K84+T84)","v":105},38,6,0,0,2,2,{"$f":"SUM(K218:Q218)","v":153},null,{"$f":"SUM(B151+K151+T151)","v":47},18,0,0,0,1,9,{"$f":"SUM(T218:Z218)","v":75},null,{"$f":"SUM(I218+R218+AA218)","v":364}]
["08:15:00",117,10,1,0,0,4,7,{"$f":"SUM(B219:H219)","v":139},null,116,23,1,0,0,3,5,{"$f":"SUM(K219:Q219)","v":148},null,54,7,3,0,0,2,5,{"$f":"SUM(T219:Z219)","v":71},null,{"$f":"SUM(I219+R219+AA219)","v":358}]
["08:30:00",114,12,3,1,0,1,4,{"$f":"SUM(B220:H220)","v":135},null,111,13,5,0,0,1,15,{"$f":"SUM(K220:Q220)","v":145},null,62,9,1,0,0,1,10,{"$f":"SUM(T220:Z220)","v":83},null,{"$f":"SUM(I220+R220+AA220)","v":363}]
["08:45:00",119,8,3,0,0,5,9,{"$f":"SUM(B221:H221)","v":144},null,117,26,3,1,0,4,9,{"$f":"SUM(K221:Q221)","v":160},null,50,14,1,0,0,2,2,{"$f":"SUM(T221:Z221)","v":69},null,{"$f":"SUM(I221+R221+AA221)","v":373}]
["1 Hr",{"$f":"SUM(B218:B221)","v":456},48,8,1,1,12,28,554,null,{"$f":"SUM(K218:K221)","v":449},100,15,1,0,10,31,606,null,{"$f":"SUM(T218:T221)","v":213},48,5,0,0,6,26,298,null,{"$f":"SUM(AC218:AC221)","v":1458}]
["09:00:00",{"$f":"SUM(B22+K22+T22)","v":98},11,2,0,2,1,5,{"$f":"SUM(B223:H223)","v":119},null,{"$f":"SUM(B89+K89+T89)","v":110},24,2,1,1,4,8,{"$f":"SUM(K223:Q223)","v":150},null,{"$f":"SUM(B156+K156+T156)","v":45},14,3,0,0,6,2,{"$f":"SUM(T223:Z223)","v":70},null,{"$f":"SUM(I223+R223+AA223)","v":339}]
["09:15:00",87,15,5,0,0,2,5,{"$f":"SUM(B224:H224)","v":114},null,104,22,3,0,0,2,9,{"$f":"SUM(K224:Q224)","v":140},null,48,10,2,1,0,4,2,{"$f":"SUM(T224:Z224)","v":67},null,{"$f":"SUM(I224+R224+AA224)","v":321}]
["09:30:00",97,19,3,0,0,1,3,{"$f":"SUM(B225:H225)","v":123},null,95,20,1,0,0,6,7,{"$f":"SUM(K225:Q225)","v":129},null,32,13,0,0,0,6,1,{"$f":"SUM(T225:Z225)","v":52},null,{"$f":"SUM(I225+R225+AA225)","v":304}]
["09:45:00",87,11,4,0,1,1,10,{"$f":"SUM(B226:H226)","v":114},null,93,34,4,0,0,5,6,{"$f":"SUM(K226:Q226)","v":142},null,31,13,1,0,0,4,5,{"$f":"SUM(T226:Z226)","v":54},null,{"$f":"SUM(I226+R226+AA226)","v":310}]
["1 Hr",{"$f":"SUM(B223:B226)","v":369},56,14,0,3,5,23,470,null,{"$f":"SUM(K223:K226)","v":402},100,10,1,1,17,30,561,null,{"$f":"SUM(T223:T226)","v":156},50,6,1,0,20,10,243,null,{"$f":"SUM(AC223:AC226)","v":1274}]
["10:00:00",{"$f":"SUM(B27+K27+T27)","v":91},22,0,0,0,3,0,{"$f":"SUM(B228:H228)","v":116},null,{"$f":"SUM(B94+K94+T94)","v":100},15,3,0,0,6,4,{"$f":"SUM(K228:Q228)","v":128},null,{"$f":"SUM(B161+K161+T161)","v":33},14,1,0,0,5,1,{"$f":"SUM(T228:Z228)","v":54},null,{"$f":"SUM(I228+R228+AA228)","v":298}]
["10:15:00",76,14,1,0,0,2,2,{"$f":"SUM(B229:H229)","v":95},null,84,25,3,0,0,8,1,{"$f":"SUM(K229:Q229)","v":121},null,31,11,1,0,0,5,0,{"$f":"SUM(T229:Z229)","v":48},null,{"$f":"SUM(I229+R229+AA229)","v":264}]
["10:30:00",82,23,2,0,0,3,2,{"$f":"SUM(B230:H230)","v":112},null,100,27,9,0,0,2,6,{"$f":"SUM(K230:Q230)","v":144},null,37,19,5,0,0,3,0,{"$f":"SUM(T230:Z230)","v":64},null,{"$f":"SUM(I230+R230+AA230)","v":320}]
["10:45:00",93,18,2,0,0,2,5,{"$f":"SUM(B231:H231)","v":120},null,102,20,3,0,0,4,2,{"$f":"SUM(K231:Q231)","v":131},null,35,4,0,0,0,2,2,{"$f":"SUM(T231:Z231)","v":43},null,{"$f":"SUM(I231+R231+AA231)","v":294}]
["1 Hr",{"$f":"SUM(B228:B231)","v":342},77,5,0,0,10,9,443,null,{"$f":"SUM(K228:K231)","v":386},87,18,0,0,20,13,524,null,{"$f":"SUM(T228:T231)","v":136},48,7,0,0,15,3,209,null,{"$f":"SUM(AC228:AC231)","v":1176}]
["11:00:00",{"$f":"SUM(B32+K32+T32)","v":85},21,4,1,0,8,4,{"$f":"SUM(B233:H233)","v":123},null,{"$f":"SUM(B99+K99+T99)","v":85},32,4,0,0,5,4,{"$f":"SUM(K233:Q233)","v":130},null,{"$f":"SUM(B166+K166+T166)","v":40},11,3,0,1,2,0,{"$f":"SUM(T233:Z233)","v":57},null,{"$f":"SUM(I233+R233+AA233)","v":310}]
["11:15:00",76,17,1,0,1,6,9,{"$f":"SUM(B234:H234)","v":110},null,89,17,1,0,0,6,5,{"$f":"SUM(K234:Q234)","v":118},null,27,13,0,0,0,5,2,{"$f":"SUM(T234:Z234)","v":47},null,{"$f":"SUM(I234+R234+AA234)","v":275}]
["11:30:00",86,23,0,0,0,6,3,{"$f":"SUM(B235:H235)","v":118},null,87,20,3,0,0,5,4,{"$f":"SUM(K235:Q235)","v":119},null,33,10,2,0,0,4,2,{"$f":"SUM(T235:Z235)","v":51},null,{"$f":"SUM(I235+R235+AA235)","v":288}]
["11:45:00",101,18,5,0,0,5,1,{"$f":"SUM(B236:H236)","v":130},null,84,25,1,0,0,9,4,{"$f":"SUM(K236:Q236)","v":123},null,29,11,0,0,0,1,2,{"$f":"SUM(T236:Z236)","v":43},null,{"$f":"SUM(I236+R236+AA236)","v":296}]
["1 Hr",{"$f":"SUM(B233:B236)","v":348},79,10,1,1,25,17,481,null,{"$f":"SUM(K233:K236)","v":345},94,9,0,0,25,17,490,null,{"$f":"SUM(T233:T236)","v":129},45,5,0,1,12,6,198,null,{"$f":"SUM(AC233:AC236)","v":1169}]
["12:00:00",{"$f":"SUM(B37+K37+T37)","v":90},16,3,0,1,9,5,{"$f":"SUM(B238:H238)","v":124},null,{"$f":"SUM(B104+K104+T104)","v":91},20,2,0,0,4,6,{"$f":"SUM(K238:Q238)","v":123},null,{"$f":"SUM(B171+K171+T171)","v":43},6,0,0,0,7,3,{"$f":"SUM(T238:Z238)","v":59},null,{"$f":"SUM(I238+R238+AA238)","v":306}]
["12:15:00",89,23,3,0,1,3,8,{"$f":"SUM(B239:H239)","v":127},null,87,29,4,0,0,10,4,{"$f":"SUM(K239:Q239)","v":134},null,43,9,4,0,0,4,3,{"$f":"SUM(T239:Z239)","v":63},null,{"$f":"SUM(I239+R239+AA239)","v":324}]
["12:30:00",73,17,3,0,0,6,2,{"$f":"SUM(B240:H240)","v":101},null,84,26,1,0,1,12,4,{"$f":"SUM(K240:Q240)","v":128},null,70,28,5,0,0,7,5,{"$f":"SUM(T240:Z240)","v":115},null,{"$f":"SUM(I240+R240+AA240)","v":344}]
["12:45:00",102,20,3,0,0,6,2,{"$f":"SUM(B241:H241)","v":133},null,93,30,5,0,0,12,9,{"$f":"SUM(K241:Q241)","v":149},null,50,10,2,0,1,10,4,{"$f":"SUM(T241:Z241)","v":77},null,{"$f":"SUM(I241+R241+AA241)","v":359}]
["1 Hr",{"$f":"SUM(B238:B241)","v":354},76,12,0,2,24,17,485,null,{"$f":"SUM(K238:K241)","v":355},105,12,0,1,38,23,534,null,{"$f":"SUM(T238:T241)","v":206},53,11,0,1,28,15,314,null,{"$f":"SUM(AC238:AC241)","v":1333}]
["13:00:00",{"$f":"SUM(B42+K42+T42)","v":98},15,4,0,1,5,2,{"$f":"SUM(B243:H243)","v":125},null,{"$f":"SUM(B109+K109+T109)","v":93},24,4,0,0,12,7,{"$f":"SUM(K243:Q243)","v":140},null,{"$f":"SUM(B176+K176+T176)","v":47},14,3,0,0,9,1,{"$f":"SUM(T243:Z243)","v":74},null,{"$f":"SUM(I243+R243+AA243)","v":339}]
["13:15:00",99,22,2,0,0,10,4,{"$f":"SUM(B244:H244)","v":137},null,101,17,3,1,0,5,4,{"$f":"SUM(K244:Q244)","v":131},null,34,11,0,0,0,3,3,{"$f":"SUM(T244:Z244)","v":51},null,{"$f":"SUM(I244+R244+AA244)","v":319}]
["13:30:00",111,25,3,0,0,5,1,{"$f":"SUM(B245:H245)","v":145},null,88,21,1,1,0,4,4,{"$f":"SUM(K245:Q245)","v":119},null,38,6,2,0,0,6,1,{"$f":"SUM(T245:Z245)","v":53},null,{"$f":"SUM(I245+R245+AA245)","v":317}]
["13:45:00",101,22,1,1,1,5,2,{"$f":"SUM(B246:H246)","v":133},null,84,21,3,0,0,4,8,{"$f":"SUM(K246:Q246)","v":120},null,20,4,0,0,0,3,1,{"$f":"SUM(T246:Z246)","v":28},null,{"$f":"SUM(I246+R246+AA246)","v":281}]
["1 Hr",{"$f":"SUM(B243:B246)","v":409},84,10,1,2,25,9,540,null,{"$f":"SUM(K243:K246)","v":366},83,11,2,0,25,23,510,null,{"$f":"SUM(T243:T246)","v":139},35,5,0,0,21,6,206,null,{"$f":"SUM(AC243:AC246)","v":1256}]
["14:00:00",{"$f":"SUM(B47+K47+T47)","v":98},29,3,2,1,14,3,{"$f":"SUM(B248:H248)","v":150},null,{"$f":"SUM(B114+K114+T114)","v":109},15,2,1,0,8,7,{"$f":"SUM(K248:Q248)","v":142},null,{"$f":"SUM(B181+K181+T181)","v":51},8,3,0,0,7,3,{"$f":"SUM(T248:Z248)","v":72},null,{"$f":"SUM(I248+R248+AA248)","v":364}]
["14:15:00",104,17,3,0,0,7,3,{"$f":"SUM(B249:H249)","v":134},null,113,23,2,0,1,7,5,{"$f":"SUM(K249:Q249)","v":151},null,26,6,0,0,0,7,5,{"$f":"SUM(T249:Z249)","v":44},null,{"$f":"SUM(I249+R249+AA249)","v":329}]
["14:30:00",105,29,3,0,1,4,3,{"$f":"SUM(B250:H250)","v":145},null,86,15,5,0,0,4,4,{"$f":"SUM(K250:Q250)","v":114},null,57,6,3,0,0,6,2,{"$f":"SUM(T250:Z250)","v":74},null,{"$f":"SUM(I250+R250+AA250)","v":333}]
["14:45:00",124,29,5,0,1,5,6,{"$f":"SUM(B251:H251)","v":170},null,79,11,4,0,0,9,9,{"$f":"SUM(K251:Q251)","v":112},null,52,6,0,0,0,6,4,{"$f":"SUM(T251:Z251)","v":68},null,{"$f":"SUM(I251+R251+AA251)","v":350}]
["1 Hr",{"$f":"SUM(B248:B251)","v":431},104,14,2,3,30,15,599,null,{"$f":"SUM(K248:K251)","v":387},64,13,1,1,28,25,519,null,{"$f":"SUM(T248:T251)","v":186},26,6,0,0,26,14,258,null,{"$f":"SUM(AC248:AC251)","v":1376}]
["15:00:00",{"$f":"SUM(B52+K52+T52)","v":132},27,3,0,0,9,3,{"$f":"SUM(B253:H253)","v":174},null,{"$f":"SUM(B119+K119+T119)","v":87},11,1,0,0,9,2,{"$f":"SUM(K253:Q253)","v":110},null,{"$f":"SUM(B186+K186+T186)","v":47},9,3,0,0,9,2,{"$f":"SUM(T253:Z253)","v":70},null,{"$f":"SUM(I253+R253+AA253)","v":354}]
["15:15:00",109,19,1,1,0,5,3,{"$f":"SUM(B254:H254)","v":138},null,119,16,2,0,1,10,9,{"$f":"SUM(K254:Q254)","v":157},null,36,9,3,0,0,3,5,{"$f":"SUM(T254:Z254)","v":56},null,{"$f":"SUM(I254+R254+AA254)","v":351}]
["15:30:00",114,25,2,0,1,4,3,{"$f":"SUM(B255:H255)","v":149},null,115,16,1,0,1,10,9,{"$f":"SUM(K255:Q255)","v":152},null,28,8,1,0,1,3,7,{"$f":"SUM(T255:Z255)","v":48},null,{"$f":"SUM(I255+R255+AA255)","v":349}]
["15:45:00",111,33,4,0,4,7,3,{"$f":"SUM(B256:H256)","v":162},null,108,13,1,0,1,5,6,{"$f":"SUM(K256:Q256)","v":134},null,46,14,0,0,0,3,1,{"$f":"SUM(T256:Z256)","v":64},null,{"$f":"SUM(I256+R256+AA256)","v":360}]
["1 Hr",{"$f":"SUM(B253:B256)","v":466},104,10,1,5,25,12,623,null,{"$f":"SUM(K253:K256)","v":429},56,5,0,3,34,26,553,null,{"$f":"SUM(T253:T256)","v":157},40,7,0,1,18,15,238,null,{"$f":"SUM(AC253:AC256)","v":1414}]
["16:00:00",{"$f":"SUM(B57+K57+T57)","v":127},30,3,0,0,5,0,{"$f":"SUM(B258:H258)","v":165},null,{"$f":"SUM(B124+K124+T124)","v":104},16,0,0,0,5,13,{"$f":"SUM(K258:Q258)","v":138},null,{"$f":"SUM(B191+K191+T191)","v":32},4,0,0,0,3,3,{"$f":"SUM(T258:Z258)","v":42},null,{"$f":"SUM(I258+R258+AA258)","v":345}]
["16:15:00",137,33,2,0,1,2,8,{"$f":"SUM(B259:H259)","v":183},null,101,9,0,0,0,5,6,{"$f":"SUM(K259:Q259)","v":121},null,46,9,0,0,0,3,0,{"$f":"SUM(T259:Z259)","v":58},null,{"$f":"SUM(I259+R259+AA259)","v":362}]
["16:30:00",115,32,3,0,0,6,4,{"$f":"SUM(B260:H260)","v":160},null,113,16,0,0,0,4,10,{"$f":"SUM(K260:Q260)","v":143},null,53,10,0,0,0,6,3,{"$f":"SUM(T260:Z260)","v":72},null,{"$f":"SUM(I260+R260+AA260)","v":375}]
["16:45:00",112,30,3,0,1,7,6,{"$f":"SUM(B261:H261)","v":159},null,119,18,0,0,0,5,5,{"$f":"SUM(K261:Q261)","v":147},null,47,6,0,0,0,6,2,{"$f":"SUM(T261:Z261)","v":61},null,{"$f":"SUM(I261+R261+AA261)","v":367}]
["1 Hr",{"$f":"SUM(B258:B261)","v":491},125,11,0,2,20,18,667,null,{"$f":"SUM(K258:K261)","v":437},59,0,0,0,19,34,549,null,{"$f":"SUM(T258:T261)","v":178},29,0,0,0,18,8,233,null,{"$f":"SUM(AC258:AC261)","v":1449}]
["17:00:00",{"$f":"SUM(B62+K62+T62)","v":123},26,0,0,1,5,6,{"$f":"SUM(B263:H263)","v":161},null,{"$f":"SUM(B129+K129+T129)","v":123},14,0,0,0,9,10,{"$f":"SUM(K263:Q263)","v":156},null,{"$f":"SUM(B196+K196+T196)","v":55},8,0,0,0,6,3,{"$f":"SUM(T263:Z263)","v":72},null,{"$f":"SUM(I263+R263+AA263)","v":389}]
["17:15:00",125,20,0,0,0,8,8,{"$f":"SUM(B264:H264)","v":161},null,124,12,0,0,0,9,11,{"$f":"SUM(K264:Q264)","v":156},null,65,8,0,0,0,7,2,{"$f":"SUM(T264:Z264)","v":82},null,{"$f":"SUM(I264+R264+AA264)","v":399}]
["17:30:00",119,14,0,0,1,9,7,{"$f":"SUM(B265:H265)","v":150},null,114,16,0,0,1,11,11,{"$f":"SUM(K265:Q265)","v":153},null,62,13,0,0,0,3,3,{"$f":"SUM(T265:Z265)","v":81},null,{"$f":"SUM(I265+R265+AA265)","v":384}]
["17:45:00",119,13,1,0,1,8,3,{"$f":"SUM(B266:H266)","v":145},null,124,17,1,0,0,6,17,{"$f":"SUM(K266:Q266)","v":165},null,54,9,0,0,0,3,5,{"$f":"SUM(T266:Z266)","v":71},null,{"$f":"SUM(I266+R266+AA266)","v":381}]
["1 Hr",{"$f":"SUM(B263:B266)","v":486},73,1,0,3,30,24,617,null,{"$f":"SUM(K263:K266)","v":485},59,1,0,1,35,49,630,null,{"$f":"SUM(T263:T266)","v":236},38,0,0,0,19,13,306,null,{"$f":"SUM(AC263:AC266)","v":1553}]
["18:00:00",{"$f":"SUM(B67+K67+T67)","v":84},14,1,0,0,8,3,{"$f":"SUM(B268:H268)","v":110},null,{"$f":"SUM(B134+K134+T134)","v":131},11,0,0,0,11,15,{"$f":"SUM(K268:Q268)","v":168},null,{"$f":"SUM(B201+K201+T201)","v":81},7,0,0,1,7,6,{"$f":"SUM(T268:Z268)","v":102},null,{"$f":"SUM(I268+R268+AA268)","v":380}]
["18:15:00",106,12,2,0,1,6,3,{"$f":"SUM(B269:H269)","v":130},null,131,11,1,0,0,16,11,{"$f":"SUM(K269:Q269)","v":170},null,60,8,0,0,0,6,7,{"$f":"SUM(T269:Z269)","v":81},null,{"$f":"SUM(I269+R269+AA269)","v":381}]
["18:30:00",140,13,0,0,1,12,4,{"$f":"SUM(B270:H270)","v":170},null,93,8,0,0,0,12,11,{"$f":"SUM(K270:Q270)","v":124},null,83,8,0,0,0,10,5,{"$f":"SUM(T270:Z270)","v":106},null,{"$f":"SUM(I270+R270+AA270)","v":400}]
["18:45:00",157,16,1,0,0,12,4,{"$f":"SUM(B271:H271)","v":190},null,94,7,0,0,0,16,5,{"$f":"SUM(K271:Q271)","v":122},null,44,7,1,0,0,7,4,{"$f":"SUM(T271:Z271)","v":63},null,{"$f":"SUM(I271+R271+AA271)","v":375}]
["1 Hr",{"$f":"SUM(B268:B271)","v":487},55,4,0,2,38,14,600,null,{"$f":"SUM(K268:K271)","v":449},37,1,0,0,55,42,584,null,{"$f":"SUM(T268:T271)","v":268},30,1,0,1,30,22,352,null,{"$f":"SUM(AC268:AC271)","v":1536}]
[]
["Total",{"$f":"SUM(B272+B267+B262+B257+B252+B247+B242+B237+B232+B227+B222+B217)","v":4981},923,104,6,30,249,209,6502,null,{"$f":"SUM(K272+K267+K262+K257+K252+K247+K242+K237+K232+K227+K222+K217)","v":4833},980,115,7,12,315,333,6595,null,{"$f":"SUM(T272+T267+T262+T257+T252+T247+T242+T237+T232+T227+T222+T217)","v":2192},509,63,1,6,219,153,3143,null,{"$f":"SUM(AC272+AC267+AC262+AC257+AC252+AC247+AC242+AC237+AC232+AC227+AC222+AC217)","v":16240}]
[]
["DESTINATION SUMMARY"]
[null,"Destination :",null,"Arm A","Acton Lane (NE)",null,null,null,"Total",null,"Destination :",null,"Arm B","Acton Lane (S)",null,null,null,"Total",null,"Destination :",null,"Arm C","Bollo Lane",null,null,null,"Total",null,"Dest Totals"]
[null,{"$f":"$B$10","v":"Car"},{"$f":"$C$10","v":"LGV"},{"$f":"$D$10","v":"OGV1"},{"$f":"$E$10","v":"OGV2"},{"$f":"$F$10","v":"PSV"},{"$f":"$G$10","v":"MC"},{"$f":"$H$10","v":"PC"},null,null,{"$f":"$B$10","v":"Car"},{"$f":"$C$10","v":"LGV"},{"$f":"$D$10","v":"OGV1"},{"$f":"$E$10","v":"OGV2"},{"$f":"$F$10","v":"PSV"},{"$f":"$G$10","v":"MC"},{"$f":"$H$10","v":"PC"},null,null,{"$f":"$B$10","v":"Car"},{"$f":"$C$10","v":"LGV"},{"$f":"$D$10","v":"OGV1"},{"$f":"$E$10","v":"OGV2"},{"$f":"$F$10","v":"PSV"},{"$f":"$G$10","v":"MC"},{"$f":"$H$10","v":"PC"}]
[]
["07:00:00",{"$f":"SUM(B12+B79+B146)","v":70},28,3,0,2,1,5,{"$f":"SUM(B280:H280)","v":109},null,{"$f":"SUM(K12+K79+K146)","v":78},16,4,0,1,1,9,{"$f":"SUM(K280:Q280)","v":109},null,{"$f":"SUM(T12+T79+T146)","v":15},6,2,0,1,2,0,{"$f":"SUM(T280:Z280)","v":26},null,{"$f":"SUM(I280+R280+AA280)","v":244}]
["07:15:00",80,35,4,0,0,1,5,{"$f":"SUM(B281:H281)","v":125},null,109,21,2,0,1,0,5,{"$f":"SUM(K281:Q281)","v":138},null,22,3,2,0,0,0,4,{"$f":"SUM(T281:Z281)","v":31},null,{"$f":"SUM(I281+R281+AA281)","v":294}]
["07:30:00",82,36,3,1,2,0,6,{"$f":"SUM(B282:H282)","v":130},null,136,25,4,0,1,3,14,{"$f":"SUM(K282:Q282)","v":183},null,17,9,1,0,0,2,1,{"$f":"SUM(T282:Z282)","v":30},null,{"$f":"SUM(I282+R282+AA282)","v":343}]
["07:45:00",85,35,7,1,1,4,4,{"$f":"SUM(B283:H283)","v":137},null,158,25,2,0,3,4,4,{"$f":"SUM(K283:Q283)","v":196},null,21,6,1,0,1,2,1,{"$f":"SUM(T283:Z283)","v":32},null,{"$f":"SUM(I283+R283+AA283)","v":365}]
["1 Hr",{"$f":"SUM(B280:B283)","v":317},134,17,2,5,6,20,501,null,{"$f":"SUM(K280:K283)","v":481},87,12,0,6,8,32,626,null,{"$f":"SUM(T280:T283)","v":75},24,6,0,2,6,6,119,null,{"$f":"SUM(AC280:AC283)","v":1246}]
["08:00:00",{"$f":"SUM(B17+B84+B151)","v":87},36,4,0,0,1,3,{"$f":"SUM(B285:H285)","v":131},null,{"$f":"SUM(K17+K84+K151)","v":139},28,1,0,1,2,15,{"$f":"SUM(K285:Q285)","v":186},null,{"$f":"SUM(T17+T84+T151)","v":32},10,2,0,0,2,1,{"$f":"SUM(T285:Z285)","v":47},null,{"$f":"SUM(I285+R285+AA285)","v":364}]
["08:15:00",95,21,1,0,0,4,4,{"$f":"SUM(B286:H286)","v":125},null,162,14,4,0,0,4,11,{"$f":"SUM(K286:Q286)","v":195},null,30,5,0,0,0,1,2,{"$f":"SUM(T286:Z286)","v":38},null,{"$f":"SUM(I286+R286+AA286)","v":358}]
["08:30:00",94,12,3,0,0,0,13,{"$f":"SUM(B287:H287)","v":122},null,164,17,4,1,0,2,11,{"$f":"SUM(K287:Q287)","v":199},null,29,5,2,0,0,1,5,{"$f":"SUM(T287:Z287)","v":42},null,{"$f":"SUM(I287+R287+AA287)","v":363}]
["08:45:00",94,24,1,1,0,2,5,{"$f":"SUM(B288:H288)","v":127},null,152,18,4,0,0,6,10,{"$f":"SUM(K288:Q288)","v":190},null,40,6,2,0,0,3,5,{"$f":"SUM(T288:Z288)","v":56},null,{"$f":"SUM(I288+R288+AA288)","v":373}]
["1 Hr",{"$f":"SUM(B285:B288)","v":370},93,9,1,0,7,25,505,null,{"$f":"SUM(K285:K288)","v":617},77,13,1,1,14,47,770,null,{"$f":"SUM(T285:T288)","v":131},26,6,0,0,7,13,183,null,{"$f":"SUM(AC285:AC288)","v":1458}]
["09:00:00",{"$f":"SUM(B22+B89+B156)","v":91},20,3,0,1,3,3,{"$f":"SUM(B290:H290)","v":121},null,{"$f":"SUM(K22+K89+K156)","v":125},24,3,0,2,6,4,{"$f":"SUM(K290:Q290)","v":164},null,{"$f":"SUM(T22+T89+T156)","v":37},5,1,1,0,2,8,{"$f":"SUM(T290:Z290)","v":54},null,{"$f":"SUM(I290+R290+AA290)","v":339}]
["09:15:00",97,12,1,0,0,0,4,{"$f":"SUM(B291:H291)","v":114},null,115,23,7,1,0,5,6,{"$f":"SUM(K291:Q291)","v":157},null,27,12,2,0,0,3,6,{"$f":"SUM(T291:Z291)","v":50},null,{"$f":"SUM(I291+R291+AA291)","v":321}]
["09:30:00",80,16,1,0,0,3,6,{"$f":"SUM(B292:H292)","v":106},null,114,26,2,0,0,5,4,{"$f":"SUM(K292:Q292)","v":151},null,30,10,1,0,0,5,1,{"$f":"SUM(T292:Z292)","v":47},null,{"$f":"SUM(I292+R292+AA292)","v":304}]
["09:45:00",86,33,4,0,0,4,3,{"$f":"SUM(B293:H293)","v":130},null,102,18,5,0,0,3,14,{"$f":"SUM(K293:Q293)","v":142},null,23,7,0,0,1,3,4,{"$f":"SUM(T293:Z293)","v":38},null,{"$f":"SUM(I293+R293+AA293)","v":310}]
["1 Hr",{"$f":"SUM(B290:B293)","v":354},81,9,0,1,10,16,471,null,{"$f":"SUM(K290:K293)","v":456},91,17,1,2,19,28,614,null,{"$f":"SUM(T290:T293)","v":117},34,4,1,1,13,19,189,null,{"$f":"SUM(AC290:AC293)","v":1274}]
["10:00:00",{"$f":"SUM(B27+B94+B161)","v":88},16,1,0,0,5,1,{"$f":"SUM(B295:H295)","v":111},null,{"$f":"SUM(K27+K94+K161)","v":107},29,1,0,0,6,1,{"$f":"SUM(K295:Q295)","v":144},null,{"$f":"SUM(T27+T94+T161)","v":29},6,2,0,0,3,3,{"$f":"SUM(T295:Z295)","v":43},null,{"$f":"SUM(I295+R295+AA295)","v":298}]
["10:15:00",80,22,3,0,0,4,0,{"$f":"SUM(B296:H296)","v":109},null,87,21,2,0,0,7,2,{"$f":"SUM(K296:Q296)","v":119},null,24,7,0,0,0,4,1,{"$f":"SUM(T296:Z296)","v":36},null,{"$f":"SUM(I296+R296+AA296)","v":264}]
["10:30:00",87,21,7,0,0,3,3,{"$f":"SUM(B297:H297)","v":121},null,104,37,6,0,0,4,2,{"$f":"SUM(K297:Q297)","v":153},null,28,11,3,0,0,1,3,{"$f":"SUM(T297:Z297)","v":46},null,{"$f":"SUM(I297+R297+AA297)","v":320}]
["10:45:00",88,15,2,0,0,3,2,{"$f":"SUM(B298:H298)","v":110},null,108,17,1,0,0,3,5,{"$f":"SUM(K298:Q298)","v":134},null,34,10,2,0,0,2,2,{"$f":"SUM(T298:Z298)","v":50},null,{"$f":"SUM(I298+R298+AA298)","v":294}]
["1 Hr",{"$f":"SUM(B295:B298)","v":343},74,13,0,0,15,6,451,null,{"$f":"SUM(K295:K298)","v":406},104,10,0,0,20,10,550,null,{"$f":"SUM(T295:T298)","v":115},34,7,0,0,10,9,175,null,{"$f":"SUM(AC295:AC298)","v":1176}]
["11:00:00",{"$f":"SUM(B32+B99+B166)","v":78},26,4,0,0,4,2,{"$f":"SUM(B300:H300)","v":114},null,{"$f":"SUM(K32+K99+K166)","v":103},26,6,1,1,8,3,{"$f":"SUM(K300:Q300)","v":148},null,{"$f":"SUM(T32+T99+T166)","v":29},12,1,0,0,3,3,{"$f":"SUM(T300:Z300)","v":48},null,{"$f":"SUM(I300+R300+AA300)","v":310}]
["11:15:00",65,14,1,0,0,6,4,{"$f":"SUM(B301:H301)","v":90},null,91,28,1,0,1,9,10,{"$f":"SUM(K301:Q301)","v":140},null,36,5,0,0,0,2,2,{"$f":"SUM(T301:Z301)","v":45},null,{"$f":"SUM(I301+R301+AA301)","v":275}]
["11:30:00",66,12,2,0,0,5,0,{"$f":"SUM(B302:H302)","v":85},null,107,30,2,0,0,9,4,{"$f":"SUM(K302:Q302)","v":152},null,33,11,1,0,0,1,5,{"$f":"SUM(T302:Z302)","v":51},null,{"$f":"SUM(I302+R302+AA302)","v":288}]
["11:45:00",72,21,1,0,0,4,4,{"$f":"SUM(B303:H303)","v":102},null,115,25,4,0,0,6,2,{"$f":"SUM(K303:Q303)","v":152},null,27,8,1,0,0,5,1,{"$f":"SUM(T303:Z303)","v":42},null,{"$f":"SUM(I303+R303+AA303)","v":296}]
["1 Hr",{"$f":"SUM(B300:B303)","v":281},73,8,0,0,19,10,391,null,{"$f":"SUM(K300:K303)","v":416},109,13,1,2,32,19,592,null,{"$f":"SUM(T300:T303)","v":125},36,3,0,0,11,11,186,null,{"$f":"SUM(AC300:AC303)","v":1169}]
["12:00:00",{"$f":"SUM(B37+B104+B171)","v":71},11,2,0,0,5,4,{"$f":"SUM(B305:H305)","v":93},null,{"$f":"SUM(K37+K104+K171)","v":116},18,3,0,1,12,7,{"$f":"SUM(K305:Q305)","v":157},null,{"$f":"SUM(T37+T104+T171)","v":37},13,0,0,0,3,3,{"$f":"SUM(T305:Z305)","v":56},null,{"$f":"SUM(I305+R305+AA305)","v":306}]
["12:15:00",63,15,0,0,0,5,3,{"$f":"SUM(B306:H306)","v":86},null,112,30,7,0,1,6,11,{"$f":"SUM(K306:Q306)","v":167},null,44,16,4,0,0,6,1,{"$f":"SUM(T306:Z306)","v":71},null,{"$f":"SUM(I306+R306+AA306)","v":324}]
["12:30:00",66,18,1,0,0,12,3,{"$f":"SUM(B307:H307)","v":100},null,134,42,6,0,0,8,7,{"$f":"SUM(K307:Q307)","v":197},null,27,11,2,0,1,5,1,{"$f":"SUM(T307:Z307)","v":47},null,{"$f":"SUM(I307+R307+AA307)","v":344}]
["12:45:00",76,19,2,0,0,8,3,{"$f":"SUM(B308:H308)","v":108},null,137,25,4,0,1,13,5,{"$f":"SUM(K308:Q308)","v":185},null,32,16,4,0,0,7,7,{"$f":"SUM(T308:Z308)","v":66},null,{"$f":"SUM(I308+R308+AA308)","v":359}]
["1 Hr",{"$f":"SUM(B305:B308)","v":276},63,5,0,0,30,13,387,null,{"$f":"SUM(K305:K308)","v":499},115,20,0,3,39,30,706,null,{"$f":"SUM(T305:T308)","v":140},56,10,0,1,21,12,240,null,{"$f":"SUM(AC305:AC308)","v":1333}]
["13:00:00",{"$f":"SUM(B42+B109+B176)","v":90},20,4,0,0,9,1,{"$f":"SUM(B310:H310)","v":124},null,{"$f":"SUM(K42+K109+K176)","v":121},26,5,0,1,11,3,{"$f":"SUM(K310:Q310)","v":167},null,{"$f":"SUM(T42+T109+T176)","v":27},7,2,0,0,6,6,{"$f":"SUM(T310:Z310)","v":48},null,{"$f":"SUM(I310+R310+AA310)","v":339}]
["13:15:00",75,12,2,1,0,2,3,{"$f":"SUM(B311:H311)","v":95},null,119,28,1,0,0,12,7,{"$f":"SUM(K311:Q311)","v":167},null,40,10,2,0,0,4,1,{"$f":"SUM(T311:Z311)","v":57},null,{"$f":"SUM(I311+R311+AA311)","v":319}]
["13:30:00",67,14,1,0,0,4,3,{"$f":"SUM(B312:H312)","v":89},null,135,29,4,0,0,7,1,{"$f":"SUM(K312:Q312)","v":176},null,35,9,1,1,0,4,2,{"$f":"SUM(T312:Z312)","v":52},null,{"$f":"SUM(I312+R312+AA312)","v":317}]
["13:45:00",61,16,3,0,0,1,2,{"$f":"SUM(B313:H313)","v":83},null,112,25,0,1,1,7,2,{"$f":"SUM(K313:Q313)","v":148},null,32,6,1,0,0,4,7,{"$f":"SUM(T313:Z313)","v":50},null,{"$f":"SUM(I313+R313+AA313)","v":281}]
["1 Hr",{"$f":"SUM(B310:B313)","v":293},62,10,1,0,16,9,391,null,{"$f":"SUM(K310:K313)","v":487},108,10,1,2,37,13,658,null,{"$f":"SUM(T310:T313)","v":134},32,6,1,0,18,16,207,null,{"$f":"SUM(AC310:AC313)","v":1256}]
["14:00:00",{"$f":"SUM(B47+B114+B181)","v":96},11,2,1,0,6,3,{"$f":"SUM(B315:H315)","v":119},null,{"$f":"SUM(K47+K114+K181)","v":128},33,5,2,1,11,5,{"$f":"SUM(K315:Q315)","v":185},null,{"$f":"SUM(T47+T114+T181)","v":34},8,1,0,0,12,5,{"$f":"SUM(T315:Z315)","v":60},null,{"$f":"SUM(I315+R315+AA315)","v":364}]
["14:15:00",87,16,2,0,0,1,6,{"$f":"SUM(B316:H316)","v":112},null,117,21,2,0,0,12,6,{"$f":"SUM(K316:Q316)","v":158},null,39,9,1,0,1,8,1,{"$f":"SUM(T316:Z316)","v":59},null,{"$f":"SUM(I316+R316+AA316)","v":329}]
["14:30:00",68,12,3,0,0,5,1,{"$f":"SUM(B317:H317)","v":89},null,141,33,5,0,1,7,5,{"$f":"SUM(K317:Q317)","v":192},null,39,5,3,0,0,2,3,{"$f":"SUM(T317:Z317)","v":52},null,{"$f":"SUM(I317+R317+AA317)","v":333}]
["14:45:00",64,9,4,0,0,8,8,{"$f":"SUM(B318:H318)","v":93},null,165,32,5,0,1,9,9,{"$f":"SUM(K318:Q318)","v":221},null,26,5,0,0,0,3,2,{"$f":"SUM(T318:Z318)","v":36},null,{"$f":"SUM(I318+R318+AA318)","v":350}]
["1 Hr",{"$f":"SUM(B315:B318)","v":315},48,11,1,0,20,18,413,null,{"$f":"SUM(K315:K318)","v":551},119,17,2,3,39,25,756,null,{"$f":"SUM(T315:T318)","v":138},27,5,0,1,25,11,207,null,{"$f":"SUM(AC315:AC318)","v":1376}]
["15:00:00",{"$f":"SUM(B52+B119+B186)","v":71},8,3,0,0,6,0,{"$f":"SUM(B320:H320)","v":88},null,{"$f":"SUM(K52+K119+K186)","v":161},36,3,0,0,13,5,{"$f":"SUM(K320:Q320)","v":218},null,{"$f":"SUM(T52+T119+T186)","v":34},3,1,0,0,8,2,{"$f":"SUM(T320:Z320)","v":48},null,{"$f":"SUM(I320+R320+AA320)","v":354}]
["15:15:00",92,12,1,0,0,2,5,{"$f":"SUM(B321:H321)","v":112},null,140,23,4,1,0,8,7,{"$f":"SUM(K321:Q321)","v":183},null,32,9,1,0,1,8,5,{"$f":"SUM(T321:Z321)","v":56},null,{"$f":"SUM(I321+R321+AA321)","v":351}]
["15:30:00",99,12,1,0,1,8,8,{"$f":"SUM(B322:H322)","v":129},null,130,29,3,0,2,4,6,{"$f":"SUM(K322:Q322)","v":174},null,28,8,0,0,0,5,5,{"$f":"SUM(T322:Z322)","v":46},null,{"$f":"SUM(I322+R322+AA322)","v":349}]
["15:45:00",85,14,1,0,1,5,4,{"$f":"SUM(B323:H323)","v":110},null,143,44,4,0,4,8,3,{"$f":"SUM(K323:Q323)","v":206},null,37,2,0,0,0,2,3,{"$f":"SUM(T323:Z323)","v":44},null,{"$f":"SUM(I323+R323+AA323)","v":360}]
["1 Hr",{"$f":"SUM(B320:B323)","v":347},46,6,0,2,21,17,439,null,{"$f":"SUM(K320:K323)","v":574},132,14,1,6,33,21,781,null,{"$f":"SUM(T320:T323)","v":131},22,2,0,1,23,15,194,null,{"$f":"SUM(AC320:AC323)","v":1414}]
["16:00:00",{"$f":"SUM(B57+B124+B191)","v":81},14,0,0,0,2,8,{"$f":"SUM(B325:H325)","v":105},null,{"$f":"SUM(K57+K124+K191)","v":152},31,3,0,0,5,3,{"$f":"SUM(K325:Q325)","v":194},null,{"$f":"SUM(T57+T124+T191)","v":30},5,0,0,0,6,5,{"$f":"SUM(T325:Z325)","v":46},null,{"$f":"SUM(I325+R325+AA325)","v":345}]
["16:15:00",75,7,0,0,0,2,4,{"$f":"SUM(B326:H326)","v":88},null,170,40,2,0,1,5,8,{"$f":"SUM(K326:Q326)","v":226},null,39,4,0,0,0,3,2,{"$f":"SUM(T326:Z326)","v":48},null,{"$f":"SUM(I326+R326+AA326)","v":362}]
["16:30:00",96,11,0,0,0,5,3,{"$f":"SUM(B327:H327)","v":115},null,154,38,3,0,0,9,7,{"$f":"SUM(K327:Q327)","v":211},null,31,9,0,0,0,2,7,{"$f":"SUM(T327:Z327)","v":49},null,{"$f":"SUM(I327+R327+AA327)","v":375}]
["16:45:00",87,10,0,0,0,5,4,{"$f":"SUM(B328:H328)","v":106},null,147,35,3,0,1,9,7,{"$f":"SUM(K328:Q328)","v":202},null,44,9,0,0,0,4,2,{"$f":"SUM(T328:Z328)","v":59},null,{"$f":"SUM(I328+R328+AA328)","v":367}]
["1 Hr",{"$f":"SUM(B325:B328)","v":339},42,0,0,0,14,19,414,null,{"$f":"SUM(K325:K328)","v":623},144,11,0,2,28,25,833,null,{"$f":"SUM(T325:T328)","v":144},27,0,0,0,15,16,202,null,{"$f":"SUM(AC325:AC328)","v":1449}]
["17:00:00",{"$f":"SUM(B62+B129+B196)","v":98},8,0,0,0,8,6,{"$f":"SUM(B330:H330)","v":120},null,{"$f":"SUM(K62+K129+K196)","v":164},34,0,0,1,10,9,{"$f":"SUM(K330:Q330)","v":218},null,{"$f":"SUM(T62+T129+T196)","v":39},6,0,0,0,2,4,{"$f":"SUM(T330:Z330)","v":51},null,{"$f":"SUM(I330+R330+AA330)","v":389}]
["17:15:00",101,10,0,0,0,10,7,{"$f":"SUM(B331:H331)","v":128},null,178,27,0,0,0,12,9,{"$f":"SUM(K331:Q331)","v":226},null,35,3,0,0,0,2,5,{"$f":"SUM(T331:Z331)","v":45},null,{"$f":"SUM(I331+R331+AA331)","v":399}]
["17:30:00",90,10,0,0,1,7,5,{"$f":"SUM(B332:H332)","v":113},null,171,25,0,0,1,11,9,{"$f":"SUM(K332:Q332)","v":217},null,34,8,0,0,0,5,7,{"$f":"SUM(T332:Z332)","v":54},null,{"$f":"SUM(I332+R332+AA332)","v":384}]
["17:45:00",99,5,1,0,0,3,11,{"$f":"SUM(B333:H333)","v":119},null,168,22,1,0,1,10,7,{"$f":"SUM(K333:Q333)","v":209},null,30,12,0,0,0,4,7,{"$f":"SUM(T333:Z333)","v":53},null,{"$f":"SUM(I333+R333+AA333)","v":381}]
["1 Hr",{"$f":"SUM(B330:B333)","v":388},33,1,0,1,28,29,480,null,{"$f":"SUM(K330:K333)","v":681},108,1,0,3,43,34,870,null,{"$f":"SUM(T330:T333)","v":138},29,0,0,0,13,23,203,null,{"$f":"SUM(AC330:AC333)","v":1553}]
["18:00:00",{"$f":"SUM(B67+B134+B201)","v":106},14,0,0,1,7,11,{"$f":"SUM(B335:H335)","v":139},null,{"$f":"SUM(K67+K134+K201)","v":156},18,1,0,0,11,7,{"$f":"SUM(K335:Q335)","v":193},null,{"$f":"SUM(T67+T134+T201)","v":34},0,0,0,0,8,6,{"$f":"SUM(T335:Z335)","v":48},null,{"$f":"SUM(I335+R335+AA335)","v":380}]
["18:15:00",110,8,1,0,0,14,10,{"$f":"SUM(B336:H336)","v":143},null,151,19,2,0,1,6,7,{"$f":"SUM(K336:Q336)","v":186},null,36,4,0,0,0,8,4,{"$f":"SUM(T336:Z336)","v":52},null,{"$f":"SUM(I336+R336+AA336)","v":381}]
["18:30:00",82,10,0,0,0,10,9,{"$f":"SUM(B337:H337)","v":111},null,208,18,0,0,1,18,7,{"$f":"SUM(K337:Q337)","v":252},null,26,1,0,0,0,6,4,{"$f":"SUM(T337:Z337)","v":37},null,{"$f":"SUM(I337+R337+AA337)","v":400}]
["18:45:00",80,5,0,0,0,12,4,{"$f":"SUM(B338:H338)","v":101},null,185,20,2,0,0,13,8,{"$f":"SUM(K338:Q338)","v":228},null,30,5,0,0,0,10,1,{"$f":"SUM(T338:Z338)","v":46},null,{"$f":"SUM(I338+R338+AA338)","v":375}]
["1 Hr",{"$f":"SUM(B335:B338)","v":378},37,1,0,1,43,34,494,null,{"$f":"SUM(K335:K338)","v":700},75,5,0,2,48,29,859,null,{"$f":"SUM(T335:T338)","v":126},10,0,0,0,32,15,183,null,{"$f":"SUM(AC335:AC338)","v":1536}]
[]
["Total",{"$f":"SUM(B339+B334+B329+B324+B319+B314+B309+B304+B299+B294+B289+B284)","v":4001},786,90,5,10,229,216,5337,null,{"$f":"SUM(K339+K334+K329+K324+K319+K314+K309+K304+K299+K294+K289+K284)","v":6491},1269,143,7,32,360,313,8615,null,{"$f":"SUM(T339+T334+T329+T324+T319+T314+T309+T304+T299+T294+T289+T284)","v":1514},357,49,2,6,194,166,2288,null,{"$f":"SUM(AC339+AC334+AC329+AC324+AC319+AC314+AC309+AC304+AC299+AC294+AC289+AC284)","v":16240}]

{"sheet":"Site 26","index":5,"n_rows":341,"n_cols":29,"rows_kept":341,"cut":false,"hidden":false,"merged":[[2,25,2,28],[8,8,9,8],[75,8,76,8],[142,8,143,8],[209,8,210,8],[8,26,9,26],[75,26,76,26],[142,26,143,26],[209,26,210,26],[276,8,277,8],[8,17,9,17],[75,17,76,17],[142,17,143,17],[209,17,210,17],[276,17,277,17],[276,26,277,26],[8,28,9,28],[75,28,76,28],[142,28,143,28],[209,28,210,28],[276,28,277,28]]}
[null,null,null,null,null,null,null,null,null,null,null,null,null,null,null,null,null,null,null,null,null,null,null,null,null,null,null,null,{"$f":"'Project Details'!F9&\" \"&'Project Details'!F10","v":"4780-LON Chiswick & Turnham Green area"}]
[null,null,null,null,null,null,null,null,null,null,null,null,null,null,null,null,null,null,null,null,null,null,null,null,null,null,null,null,"Junction Turning Count"]
[null,null,null,null,null,null,null,null,null,null,null,null,null,null,null,null,null,null,null,null,null,null,null,null,null,{"$f":"'Project Details'!F14","v":"2021-04-29"}]
[]
[null,null,null,null,null,null,null,null,null,null,null,null,null,null,null,null,null,null,null,null,null,null,null,null,null,null,null,null,"Site 26 -  South Parade (E) /  Fisher's Lane /  South Parade (W)"]
[]
[]
["Origin :","Arm A","South Parade (E)"]
[null,"Destination :",null,"Arm A","South Parade (E)",null,null,null,"Total",null,"Destination :",null,"Arm B","Fisher's Lane",null,null,null,"Total",null,"Destination :",null,"Arm C","South Parade (W)",null,null,null,"Total",null,"Arm Totals"]
[null,"Car","LGV","OGV1","OGV2","PSV","MC","PC",null,null,{"$f":"$B$10","v":"Car"},{"$f":"$C$10","v":"LGV"},{"$f":"$D$10","v":"OGV1"},{"$f":"$E$10","v":"OGV2"},{"$f":"$F$10","v":"PSV"},{"$f":"$G$10","v":"MC"},{"$f":"$H$10","v":"PC"},null,null,{"$f":"$B$10","v":"Car"},{"$f":"$C$10","v":"LGV"},{"$f":"$D$10","v":"OGV1"},{"$f":"$E$10","v":"OGV2"},{"$f":"$F$10","v":"PSV"},{"$f":"$G$10","v":"MC"},{"$f":"$H$10","v":"PC"}]
[]
["07:00:00",0,0,0,0,0,0,0,{"$f":"SUM(B12:H12)","v":0},null,2,0,0,0,1,0,0,{"$f":"SUM(K12:Q12)","v":3},null,37,2,2,0,5,0,0,{"$f":"SUM(T12:Z12)","v":46},null,{"$f":"SUM(I12+R12+AA12)","v":49}]
["07:15:00",1,0,0,0,0,0,0,1,null,3,0,0,0,2,0,2,7,null,32,2,0,0,2,1,1,38,null,{"$f":"SUM(I13+R13+AA13)","v":46}]
["07:30:00",0,0,0,0,0,0,0,0,null,1,0,0,0,2,0,1,4,null,49,3,1,0,5,2,1,61,null,{"$f":"SUM(I14+R14+AA14)","v":65}]
["07:45:00",0,0,0,0,0,0,0,0,null,1,0,0,0,2,0,2,5,null,62,4,0,0,7,1,1,75,null,{"$f":"SUM(I15+R15+AA15)","v":80}]
["1 Hr",{"$f":"SUM(B12:B15)","v":1},0,0,0,0,0,0,1,null,{"$f":"SUM(K12:K15)","v":7},0,0,0,7,0,5,19,null,{"$f":"SUM(T12:T15)","v":180},11,3,0,19,4,3,220,null,{"$f":"SUM(AC12:AC15)","v":240}]
["08:00:00",0,0,0,0,0,0,0,{"$f":"SUM(B17:H17)","v":0},null,1,0,0,0,2,0,0,{"$f":"SUM(K17:Q17)","v":3},null,65,8,0,0,2,2,1,{"$f":"SUM(T17:Z17)","v":78},null,{"$f":"SUM(I17+R17+AA17)","v":81}]
["08:15:00",0,0,0,0,0,0,0,0,null,0,0,0,0,1,0,0,1,null,63,6,0,0,3,4,3,79,null,{"$f":"SUM(I18+R18+AA18)","v":80}]
["08:30:00",0,0,0,0,0,0,0,0,null,0,0,0,0,1,0,0,1,null,61,11,1,0,3,0,4,80,null,{"$f":"SUM(I19+R19+AA19)","v":81}]
["08:45:00",0,0,0,0,0,0,0,0,null,1,0,0,0,1,0,5,7,null,62,4,3,0,4,2,2,77,null,{"$f":"SUM(I20+R20+AA20)","v":84}]
["1 Hr",{"$f":"SUM(B17:B20)","v":0},0,0,0,0,0,0,0,null,{"$f":"SUM(K17:K20)","v":2},0,0,0,5,0,5,12,null,{"$f":"SUM(T17:T20)","v":251},29,4,0,12,8,10,314,null,{"$f":"SUM(AC17:AC20)","v":326}]
["09:00:00",0,0,0,0,0,0,0,{"$f":"SUM(B22:H22)","v":0},null,0,0,0,0,1,0,3,{"$f":"SUM(K22:Q22)","v":4},null,79,9,1,0,2,0,3,{"$f":"SUM(T22:Z22)","v":94},null,{"$f":"SUM(I22+R22+AA22)","v":98}]
["09:15:00",0,0,0,0,0,0,0,0,null,0,0,0,0,1,0,0,1,null,55,6,0,0,3,4,0,68,null,{"$f":"SUM(I23+R23+AA23)","v":69}]
["09:30:00",0,0,0,0,0,0,0,0,null,0,0,0,0,1,0,1,2,null,46,9,1,0,2,3,2,63,null,{"$f":"SUM(I24+R24+AA24)","v":65}]
["09:45:00",0,1,0,0,0,0,0,1,null,0,0,0,0,1,0,2,3,null,55,12,1,0,3,3,2,76,null,{"$f":"SUM(I25+R25+AA25)","v":80}]
["1 Hr",{"$f":"SUM(B22:B25)","v":0},1,0,0,0,0,0,1,null,{"$f":"SUM(K22:K25)","v":0},0,0,0,4,0,6,10,null,{"$f":"SUM(T22:T25)","v":235},36,3,0,10,10,7,301,null,{"$f":"SUM(AC22:AC25)","v":312}]
["10:00:00",0,0,0,0,0,0,0,{"$f":"SUM(B27:H27)","v":0},null,2,0,0,0,1,0,1,{"$f":"SUM(K27:Q27)","v":4},null,51,17,1,0,4,3,0,{"$f":"SUM(T27:Z27)","v":76},null,{"$f":"SUM(I27+R27+AA27)","v":80}]
["10:15:00",0,0,0,0,0,0,0,0,null,0,0,0,0,1,0,0,1,null,57,10,0,0,2,1,1,71,null,{"$f":"SUM(I28+R28+AA28)","v":72}]
["10:30:00",0,0,0,0,0,0,0,0,null,0,0,0,0,1,0,2,3,null,42,13,0,0,4,4,4,67,null,{"$f":"SUM(I29+R29+AA29)","v":70}]
["10:45:00",0,0,0,0,0,0,0,0,null,0,0,0,0,1,0,3,4,null,46,13,1,0,2,3,6,71,null,{"$f":"SUM(I30+R30+AA30)","v":75}]
["1 Hr",{"$f":"SUM(B27:B30)","v":0},0,0,0,0,0,0,0,null,{"$f":"SUM(K27:K30)","v":2},0,0,0,4,0,6,12,null,{"$f":"SUM(T27:T30)","v":196},53,2,0,12,11,11,285,null,{"$f":"SUM(AC27:AC30)","v":297}]
["11:00:00",0,0,0,0,0,0,0,{"$f":"SUM(B32:H32)","v":0},null,0,0,0,0,1,0,0,{"$f":"SUM(K32:Q32)","v":1},null,53,19,3,0,5,8,2,{"$f":"SUM(T32:Z32)","v":90},null,{"$f":"SUM(I32+R32+AA32)","v":91}]
["11:15:00",1,0,0,0,0,0,0,1,null,1,0,0,0,1,0,3,5,null,54,12,0,0,3,7,4,80,null,{"$f":"SUM(I33+R33+AA33)","v":86}]
["11:30:00",0,0,0,0,0,0,0,0,null,0,0,0,0,1,0,0,1,null,58,15,0,0,2,8,0,83,null,{"$f":"SUM(I34+R34+AA34)","v":84}]
["11:45:00",0,0,0,0,0,0,0,0,null,0,0,0,0,1,1,2,4,null,65,14,4,0,2,7,2,94,null,{"$f":"SUM(I35+R35+AA35)","v":98}]
["1 Hr",{"$f":"SUM(B32:B35)","v":1},0,0,0,0,0,0,1,null,{"$f":"SUM(K32:K35)","v":1},0,0,0,4,1,5,11,null,{"$f":"SUM(T32:T35)","v":230},60,7,0,12,30,8,347,null,{"$f":"SUM(AC32:AC35)","v":359}]
["12:00:00",0,0,0,0,0,0,0,{"$f":"SUM(B37:H37)","v":0},null,2,0,0,0,1,0,0,{"$f":"SUM(K37:Q37)","v":3},null,48,15,1,0,3,7,2,{"$f":"SUM(T37:Z37)","v":76},null,{"$f":"SUM(I37+R37+AA37)","v":79}]
["12:15:00",0,0,0,0,0,0,0,0,null,6,0,0,0,1,0,1,8,null,47,21,2,0,2,2,1,75,null,{"$f":"SUM(I38+R38+AA38)","v":83}]
["12:30:00",0,0,0,0,0,0,0,0,null,4,0,0,0,0,0,1,5,null,59,19,2,0,4,7,4,95,null,{"$f":"SUM(I39+R39+AA39)","v":100}]
["12:45:00",0,0,0,0,0,0,0,0,null,4,0,0,0,2,0,2,8,null,85,7,1,0,2,7,3,105,null,{"$f":"SUM(I40+R40+AA40)","v":113}]
["1 Hr",{"$f":"SUM(B37:B40)","v":0},0,0,0,0,0,0,0,null,{"$f":"SUM(K37:K40)","v":16},0,0,0,4,0,4,24,null,{"$f":"SUM(T37:T40)","v":239},62,6,0,11,23,10,351,null,{"$f":"SUM(AC37:AC40)","v":375}]
["13:00:00",1,0,0,0,0,0,0,{"$f":"SUM(B42:H42)","v":1},null,3,1,0,0,1,0,0,{"$f":"SUM(K42:Q42)","v":5},null,64,16,2,0,2,7,1,{"$f":"SUM(T42:Z42)","v":92},null,{"$f":"SUM(I42+R42+AA42)","v":98}]
["13:15:00",0,0,0,0,0,0,0,0,null,2,1,0,0,1,0,2,6,null,77,25,2,0,4,11,0,119,null,{"$f":"SUM(I43+R43+AA43)","v":125}]
["13:30:00",0,0,0,0,0,0,0,0,null,0,0,0,0,1,0,0,1,null,68,22,1,0,3,11,3,108,null,{"$f":"SUM(I44+R44+AA44)","v":109}]
["13:45:00",0,0,0,0,0,0,0,0,null,2,1,0,0,1,0,1,5,null,68,14,2,1,3,8,1,97,null,{"$f":"SUM(I45+R45+AA45)","v":102}]
["1 Hr",{"$f":"SUM(B42:B45)","v":1},0,0,0,0,0,0,1,null,{"$f":"SUM(K42:K45)","v":7},3,0,0,4,0,3,17,null,{"$f":"SUM(T42:T45)","v":277},77,7,1,12,37,5,416,null,{"$f":"SUM(AC42:AC45)","v":434}]
["14:00:00",0,0,0,0,0,0,0,{"$f":"SUM(B47:H47)","v":0},null,0,0,0,0,0,1,2,{"$f":"SUM(K47:Q47)","v":3},null,73,18,3,0,3,12,3,{"$f":"SUM(T47:Z47)","v":112},null,{"$f":"SUM(I47+R47+AA47)","v":115}]
["14:15:00",1,0,0,0,0,0,0,1,null,3,0,0,0,1,0,0,4,null,75,10,1,0,4,8,2,100,null,{"$f":"SUM(I48+R48+AA48)","v":105}]
["14:30:00",0,0,0,0,0,0,0,0,null,2,0,0,0,1,0,1,4,null,63,23,2,0,3,5,0,96,null,{"$f":"SUM(I49+R49+AA49)","v":100}]
["14:45:00",0,0,0,0,0,0,0,0,null,3,0,0,0,1,0,1,5,null,97,18,4,0,4,7,0,130,null,{"$f":"SUM(I50+R50+AA50)","v":135}]
["1 Hr",{"$f":"SUM(B47:B50)","v":1},0,0,0,0,0,0,1,null,{"$f":"SUM(K47:K50)","v":8},0,0,0,3,1,4,16,null,{"$f":"SUM(T47:T50)","v":308},69,10,0,14,32,5,438,null,{"$f":"SUM(AC47:AC50)","v":455}]
["15:00:00",0,0,0,0,0,0,0,{"$f":"SUM(B52:H52)","v":0},null,4,0,0,0,1,0,2,{"$f":"SUM(K52:Q52)","v":7},null,67,22,2,1,3,2,1,{"$f":"SUM(T52:Z52)","v":98},null,{"$f":"SUM(I52+R52+AA52)","v":105}]
["15:15:00",1,0,0,0,0,0,0,1,null,3,0,0,0,1,0,1,5,null,63,14,0,0,0,4,3,84,null,{"$f":"SUM(I53+R53+AA53)","v":90}]
["15:30:00",0,0,0,0,0,0,0,0,null,6,1,0,0,0,1,6,14,null,91,17,2,0,5,3,4,122,null,{"$f":"SUM(I54+R54+AA54)","v":136}]
["15:45:00",0,0,0,0,0,0,0,0,null,5,1,0,0,1,0,1,8,null,85,20,2,0,0,7,1,115,null,{"$f":"SUM(I55+R55+AA55)","v":123}]
["1 Hr",{"$f":"SUM(B52:B55)","v":1},0,0,0,0,0,0,1,null,{"$f":"SUM(K52:K55)","v":18},2,0,0,3,1,10,34,null,{"$f":"SUM(T52:T55)","v":306},73,6,1,8,16,9,419,null,{"$f":"SUM(AC52:AC55)","v":454}]
["16:00:00",0,0,0,0,0,0,0,{"$f":"SUM(B57:H57)","v":0},null,4,1,0,0,1,0,5,{"$f":"SUM(K57:Q57)","v":11},null,93,24,3,0,0,6,3,{"$f":"SUM(T57:Z57)","v":129},null,{"$f":"SUM(I57+R57+AA57)","v":140}]
["16:15:00",0,0,0,0,0,0,0,0,null,2,0,0,0,1,0,3,6,null,84,16,1,0,3,1,2,107,null,{"$f":"SUM(I58+R58+AA58)","v":113}]
["16:30:00",0,0,0,0,0,0,0,0,null,3,0,0,0,1,0,0,4,null,111,25,4,0,2,6,7,155,null,{"$f":"SUM(I59+R59+AA59)","v":159}]
["16:45:00",0,0,0,0,0,0,0,0,null,4,0,0,0,1,0,3,8,null,79,20,1,0,5,6,2,113,null,{"$f":"SUM(I60+R60+AA60)","v":121}]
["1 Hr",{"$f":"SUM(B57:B60)","v":0},0,0,0,0,0,0,0,null,{"$f":"SUM(K57:K60)","v":13},1,0,0,4,0,11,29,null,{"$f":"SUM(T57:T60)","v":367},85,9,0,10,19,14,504,null,{"$f":"SUM(AC57:AC60)","v":533}]
["17:00:00",0,0,0,0,0,0,0,{"$f":"SUM(B62:H62)","v":0},null,4,1,0,0,0,0,1,{"$f":"SUM(K62:Q62)","v":6},null,93,14,0,0,3,4,2,{"$f":"SUM(T62:Z62)","v":116},null,{"$f":"SUM(I62+R62+AA62)","v":122}]
["17:15:00",0,0,0,0,0,0,0,0,null,5,0,0,0,1,0,0,6,null,107,20,0,0,2,8,11,148,null,{"$f":"SUM(I63+R63+AA63)","v":154}]
["17:30:00",0,0,0,0,0,0,0,0,null,1,1,0,0,1,1,1,5,null,96,12,1,0,3,5,4,121,null,{"$f":"SUM(I64+R64+AA64)","v":126}]
["17:45:00",0,0,0,0,0,0,0,0,null,6,0,0,0,1,0,2,9,null,92,18,0,0,3,11,3,127,null,{"$f":"SUM(I65+R65+AA65)","v":136}]
["1 Hr",{"$f":"SUM(B62:B65)","v":0},0,0,0,0,0,0,0,null,{"$f":"SUM(K62:K65)","v":16},2,0,0,3,1,4,26,null,{"$f":"SUM(T62:T65)","v":388},64,1,0,11,28,20,512,null,{"$f":"SUM(AC62:AC65)","v":538}]
["18:00:00",5,0,0,0,0,0,0,{"$f":"SUM(B67:H67)","v":5},null,9,0,0,0,2,1,3,{"$f":"SUM(K67:Q67)","v":15},null,74,10,1,0,5,5,2,{"$f":"SUM(T67:Z67)","v":97},null,{"$f":"SUM(I67+R67+AA67)","v":117}]
["18:15:00",0,0,0,0,0,0,0,0,null,5,0,0,0,1,0,3,9,null,66,5,0,0,4,8,6,89,null,{"$f":"SUM(I68+R68+AA68)","v":98}]
["18:30:00",0,0,0,0,0,0,0,0,null,2,0,0,0,1,0,1,4,null,104,7,1,0,3,8,3,126,null,{"$f":"SUM(I69+R69+AA69)","v":130}]
["18:45:00",0,0,0,0,0,0,0,0,null,4,0,0,0,1,0,4,9,null,116,9,0,0,3,15,3,146,null,{"$f":"SUM(I70+R70+AA70)","v":155}]
["1 Hr",{"$f":"SUM(B67:B70)","v":5},0,0,0,0,0,0,5,null,{"$f":"SUM(K67:K70)","v":20},0,0,0,5,1,11,37,null,{"$f":"SUM(T67:T70)","v":360},31,2,0,15,36,14,458,null,{"$f":"SUM(AC67:AC70)","v":500}]
[]
["Total",{"$f":"SUM(B71+B66+B61+B56+B51+B46+B41+B36+B31+B26+B21+B16)","v":10},1,0,0,0,0,0,11,null,{"$f":"SUM(K71+K66+K61+K56+K51+K46+K41+K36+K31+K26+K21+K16)","v":110},8,0,0,50,5,74,247,null,{"$f":"SUM(T71+T66+T61+T56+T51+T46+T41+T36+T31+T26+T21+T16)","v":3337},650,60,2,146,254,116,4565,null,{"$f":"SUM(AC71+AC66+AC61+AC56+AC51+AC46+AC41+AC36+AC31+AC26+AC21+AC16)","v":4823}]
[]
["Origin :","Arm B","Fisher's Lane"]
[null,"Destination :",null,"Arm A","South Parade (E)",null,null,null,"Total",null,"Destination :",null,"Arm B","Fisher's Lane",null,null,null,"Total",null,"Destination :",null,"Arm C","South Parade (W)",null,null,null,"Total",null,"Arm Totals"]
[null,{"$f":"$B$10","v":"Car"},{"$f":"$C$10","v":"LGV"},{"$f":"$D$10","v":"OGV1"},{"$f":"$E$10","v":"OGV2"},{"$f":"$F$10","v":"PSV"},{"$f":"$G$10","v":"MC"},{"$f":"$H$10","v":"PC"},null,null,{"$f":"$B$10","v":"Car"},{"$f":"$C$10","v":"LGV"},{"$f":"$D$10","v":"OGV1"},{"$f":"$E$10","v":"OGV2"},{"$f":"$F$10","v":"PSV"},{"$f":"$G$10","v":"MC"},{"$f":"$H$10","v":"PC"},null,null,{"$f":"$B$10","v":"Car"},{"$f":"$C$10","v":"LGV"},{"$f":"$D$10","v":"OGV1"},{"$f":"$E$10","v":"OGV2"},{"$f":"$F$10","v":"PSV"},{"$f":"$G$10","v":"MC"},{"$f":"$H$10","v":"PC"}]
[]
["07:00:00",0,0,0,0,1,0,2,{"$f":"SUM(B79:H79)","v":3},null,0,0,0,0,0,0,0,{"$f":"SUM(K79:Q79)","v":0},null,1,0,0,0,0,0,0,{"$f":"SUM(T79:Z79)","v":1},null,{"$f":"SUM(I79+R79+AA79)","v":4}]
["07:15:00",1,0,0,0,1,0,0,2,null,0,0,0,0,0,0,0,0,null,0,0,0,0,0,0,1,1,null,{"$f":"SUM(I80+R80+AA80)","v":3}]
["07:30:00",0,0,0,0,2,0,2,4,null,0,0,0,0,0,0,0,0,null,0,0,0,0,0,0,1,1,null,{"$f":"SUM(I81+R81+AA81)","v":5}]
["07:45:00",2,0,0,0,1,0,3,6,null,0,0,0,0,0,0,0,0,null,1,0,0,0,0,0,1,2,null,{"$f":"SUM(I82+R82+AA82)","v":8}]
["1 Hr",{"$f":"SUM(B79:B82)","v":3},0,0,0,5,0,7,15,null,{"$f":"SUM(K79:K82)","v":0},0,0,0,0,0,0,0,null,{"$f":"SUM(T79:T82)","v":2},0,0,0,0,0,3,5,null,{"$f":"SUM(AC79:AC82)","v":20}]
["08:00:00",1,0,0,0,1,0,2,{"$f":"SUM(B84:H84)","v":4},null,0,0,0,0,0,0,0,{"$f":"SUM(K84:Q84)","v":0},null,1,0,0,0,0,0,2,{"$f":"SUM(T84:Z84)","v":3},null,{"$f":"SUM(I84+R84+AA84)","v":7}]
["08:15:00",1,0,0,0,1,0,1,3,null,0,0,0,0,0,0,0,0,null,0,1,0,0,0,0,1,2,null,{"$f":"SUM(I85+R85+AA85)","v":5}]
["08:30:00",0,0,0,0,1,0,4,5,null,0,0,0,0,0,0,0,0,null,0,1,0,0,0,0,2,3,null,{"$f":"SUM(I86+R86+AA86)","v":8}]
["08:45:00",0,0,0,0,1,0,8,9,null,0,0,0,0,0,0,0,0,null,1,1,0,0,0,0,3,5,null,{"$f":"SUM(I87+R87+AA87)","v":14}]
["1 Hr",{"$f":"SUM(B84:B87)","v":2},0,0,0,4,0,15,21,null,{"$f":"SUM(K84:K87)","v":0},0,0,0,0,0,0,0,null,{"$f":"SUM(T84:T87)","v":2},3,0,0,0,0,8,13,null,{"$f":"SUM(AC84:AC87)","v":34}]
["09:00:00",2,0,0,0,0,0,1,{"$f":"SUM(B89:H89)","v":3},null,0,0,0,0,0,0,0,{"$f":"SUM(K89:Q89)","v":0},null,0,0,0,0,0,0,6,{"$f":"SUM(T89:Z89)","v":6},null,{"$f":"SUM(I89+R89+AA89)","v":9}]
["09:15:00",0,1,0,0,1,1,0,3,null,0,0,0,0,0,0,0,0,null,2,0,0,0,0,0,5,7,null,{"$f":"SUM(I90+R90+AA90)","v":10}]
["09:30:00",0,0,0,0,1,1,0,2,null,0,0,0,0,0,0,0,0,null,2,0,0,0,0,0,5,7,null,{"$f":"SUM(I91+R91+AA91)","v":9}]
["09:45:00",2,0,0,0,1,0,0,3,null,0,0,0,0,0,0,0,0,null,0,0,0,0,0,0,1,1,null,{"$f":"SUM(I92+R92+AA92)","v":4}]
["1 Hr",{"$f":"SUM(B89:B92)","v":4},1,0,0,3,2,1,11,null,{"$f":"SUM(K89:K92)","v":0},0,0,0,0,0,0,0,null,{"$f":"SUM(T89:T92)","v":4},0,0,0,0,0,17,21,null,{"$f":"SUM(AC89:AC92)","v":32}]
["10:00:00",0,0,0,0,1,0,0,{"$f":"SUM(B94:H94)","v":1},null,0,0,0,0,0,0,0,{"$f":"SUM(K94:Q94)","v":0},null,0,0,0,0,0,0,1,{"$f":"SUM(T94:Z94)","v":1},null,{"$f":"SUM(I94+R94+AA94)","v":2}]
["10:15:00",3,0,0,0,1,0,1,5,null,0,0,0,0,0,0,0,0,null,2,0,0,0,0,0,3,5,null,{"$f":"SUM(I95+R95+AA95)","v":10}]
["10:30:00",1,0,0,0,1,0,0,2,null,0,0,0,0,0,0,0,0,null,2,0,0,0,0,0,2,4,null,{"$f":"SUM(I96+R96+AA96)","v":6}]
["10:45:00",1,1,0,0,1,0,0,3,null,0,0,0,0,0,0,0,0,null,3,0,0,0,0,0,3,6,null,{"$f":"SUM(I97+R97+AA97)","v":9}]
["1 Hr",{"$f":"SUM(B94:B97)","v":5},1,0,0,4,0,1,11,null,{"$f":"SUM(K94:K97)","v":0},0,0,0,0,0,0,0,null,{"$f":"SUM(T94:T97)","v":7},0,0,0,0,0,9,16,null,{"$f":"SUM(AC94:AC97)","v":27}]
["11:00:00",3,1,0,0,1,0,2,{"$f":"SUM(B99:H99)","v":7},null,0,0,0,0,0,0,0,{"$f":"SUM(K99:Q99)","v":0},null,1,1,0,0,0,0,3,{"$f":"SUM(T99:Z99)","v":5},null,{"$f":"SUM(I99+R99+AA99)","v":12}]
["11:15:00",0,1,0,0,1,0,0,2,null,0,0,0,0,0,0,0,0,null,1,0,0,0,0,0,2,3,null,{"$f":"SUM(I100+R100+AA100)","v":5}]
["11:30:00",3,0,0,0,1,0,0,4,null,0,0,0,0,0,0,0,0,null,0,0,0,0,0,0,1,1,null,{"$f":"SUM(I101+R101+AA101)","v":5}]
["11:45:00",1,0,0,0,1,0,2,4,null,0,0,0,0,0,0,0,0,null,1,1,0,0,0,0,3,5,null,{"$f":"SUM(I102+R102+AA102)","v":9}]
["1 Hr",{"$f":"SUM(B99:B102)","v":7},2,0,0,4,0,4,17,null,{"$f":"SUM(K99:K102)","v":0},0,0,0,0,0,0,0,null,{"$f":"SUM(T99:T102)","v":3},2,0,0,0,0,9,14,null,{"$f":"SUM(AC99:AC102)","v":31}]
["12:00:00",1,0,0,0,1,1,2,{"$f":"SUM(B104:H104)","v":5},null,0,0,0,0,0,0,0,{"$f":"SUM(K104:Q104)","v":0},null,1,1,0,0,0,0,1,{"$f":"SUM(T104:Z104)","v":3},null,{"$f":"SUM(I104+R104+AA104)","v":8}]
["12:15:00",0,0,0,0,1,0,1,2,null,0,0,0,0,0,0,0,0,null,2,0,0,0,0,0,3,5,null,{"$f":"SUM(I105+R105+AA105)","v":7}]
["12:30:00",1,1,0,0,1,0,4,7,null,0,0,0,0,0,0,0,0,null,2,2,0,0,0,0,1,5,null,{"$f":"SUM(I106+R106+AA106)","v":12}]
["12:45:00",3,0,0,0,1,0,1,5,null,0,0,0,0,0,0,0,0,null,1,2,0,0,0,0,3,6,null,{"$f":"SUM(I107+R107+AA107)","v":11}]
["1 Hr",{"$f":"SUM(B104:B107)","v":5},1,0,0,4,1,8,19,null,{"$f":"SUM(K104:K107)","v":0},0,0,0,0,0,0,0,null,{"$f":"SUM(T104:T107)","v":6},5,0,0,0,0,8,19,null,{"$f":"SUM(AC104:AC107)","v":38}]
["13:00:00",0,0,0,0,1,1,0,{"$f":"SUM(B109:H109)","v":2},null,0,0,0,0,0,0,0,{"$f":"SUM(K109:Q109)","v":0},null,2,0,0,0,0,1,3,{"$f":"SUM(T109:Z109)","v":6},null,{"$f":"SUM(I109+R109+AA109)","v":8}]
["13:15:00",1,0,0,0,1,1,4,7,null,0,0,0,0,0,0,0,0,null,0,0,0,0,0,0,5,5,null,{"$f":"SUM(I110+R110+AA110)","v":12}]
["13:30:00",1,0,0,0,1,1,2,5,null,0,0,0,0,0,0,0,0,null,2,0,0,0,0,0,5,7,null,{"$f":"SUM(I111+R111+AA111)","v":12}]
["13:45:00",3,0,0,0,1,0,0,4,null,0,0,0,0,0,0,0,0,null,3,0,0,0,0,1,2,6,null,{"$f":"SUM(I112+R112+AA112)","v":10}]
["1 Hr",{"$f":"SUM(B109:B112)","v":5},0,0,0,4,3,6,18,null,{"$f":"SUM(K109:K112)","v":0},0,0,0,0,0,0,0,null,{"$f":"SUM(T109:T112)","v":7},0,0,0,0,2,15,24,null,{"$f":"SUM(AC109:AC112)","v":42}]
["14:00:00",1,0,0,0,1,1,2,{"$f":"SUM(B114:H114)","v":5},null,0,0,0,0,0,0,0,{"$f":"SUM(K114:Q114)","v":0},null,2,0,0,0,0,1,7,{"$f":"SUM(T114:Z114)","v":10},null,{"$f":"SUM(I114+R114+AA114)","v":15}]
["14:15:00",2,0,0,0,1,0,2,5,null,0,0,0,0,0,0,0,0,null,1,0,0,0,0,1,2,4,null,{"$f":"SUM(I115+R115+AA115)","v":9}]
["14:30:00",0,0,0,0,1,0,2,3,null,0,0,0,0,0,0,0,0,null,3,0,0,0,0,1,2,6,null,{"$f":"SUM(I116+R116+AA116)","v":9}]
["14:45:00",3,0,0,0,0,0,1,4,null,0,0,0,0,0,0,0,0,null,1,0,0,0,0,0,4,5,null,{"$f":"SUM(I117+R117+AA117)","v":9}]
["1 Hr",{"$f":"SUM(B114:B117)","v":6},0,0,0,3,1,7,17,null,{"$f":"SUM(K114:K117)","v":0},0,0,0,0,0,0,0,null,{"$f":"SUM(T114:T117)","v":7},0,0,0,0,3,15,25,null,{"$f":"SUM(AC114:AC117)","v":42}]
["15:00:00",0,0,0,0,2,0,2,{"$f":"SUM(B119:H119)","v":4},null,0,1,0,0,0,0,0,{"$f":"SUM(K119:Q119)","v":1},null,2,0,0,0,0,0,1,{"$f":"SUM(T119:Z119)","v":3},null,{"$f":"SUM(I119+R119+AA119)","v":8}]
["15:15:00",2,0,0,0,1,1,1,5,null,0,0,0,0,0,0,0,0,null,1,0,0,0,0,0,1,2,null,{"$f":"SUM(I120+R120+AA120)","v":7}]
["15:30:00",3,0,0,0,1,0,3,7,null,0,0,0,0,0,0,0,0,null,0,0,0,0,0,2,6,8,null,{"$f":"SUM(I121+R121+AA121)","v":15}]
["15:45:00",0,0,0,0,1,0,4,5,null,0,0,0,0,0,0,0,0,null,0,0,0,0,0,1,4,5,null,{"$f":"SUM(I122+R122+AA122)","v":10}]
["1 Hr",{"$f":"SUM(B119:B122)","v":5},0,0,0,5,1,10,21,null,{"$f":"SUM(K119:K122)","v":0},1,0,0,0,0,0,1,null,{"$f":"SUM(T119:T122)","v":3},0,0,0,0,3,12,18,null,{"$f":"SUM(AC119:AC122)","v":40}]
["16:00:00",1,0,0,0,1,1,3,{"$f":"SUM(B124:H124)","v":6},null,0,0,0,0,0,0,0,{"$f":"SUM(K124:Q124)","v":0},null,1,0,0,0,0,0,1,{"$f":"SUM(T124:Z124)","v":2},null,{"$f":"SUM(I124+R124+AA124)","v":8}]
["16:15:00",0,0,0,0,1,0,1,2,null,0,0,0,0,0,0,0,0,null,0,0,0,0,0,0,6,6,null,{"$f":"SUM(I125+R125+AA125)","v":8}]
["16:30:00",0,0,0,0,1,0,1,2,null,0,0,0,0,0,0,0,0,null,2,0,0,0,0,1,6,9,null,{"$f":"SUM(I126+R126+AA126)","v":11}]
["16:45:00",1,0,0,0,1,0,8,10,null,0,0,0,0,0,0,0,0,null,1,0,0,0,0,0,5,6,null,{"$f":"SUM(I127+R127+AA127)","v":16}]
["1 Hr",{"$f":"SUM(B124:B127)","v":2},0,0,0,4,1,13,20,null,{"$f":"SUM(K124:K127)","v":0},0,0,0,0,0,0,0,null,{"$f":"SUM(T124:T127)","v":4},0,0,0,0,1,18,23,null,{"$f":"SUM(AC124:AC127)","v":43}]
["17:00:00",1,0,0,0,0,0,3,{"$f":"SUM(B129:H129)","v":4},null,0,0,0,0,0,0,0,{"$f":"SUM(K129:Q129)","v":0},null,2,0,0,0,1,0,11,{"$f":"SUM(T129:Z129)","v":14},null,{"$f":"SUM(I129+R129+AA129)","v":18}]
["17:15:00",1,0,0,0,1,0,0,2,null,0,0,0,0,0,0,0,0,null,1,1,0,0,0,1,4,7,null,{"$f":"SUM(I130+R130+AA130)","v":9}]
["17:30:00",2,0,0,0,1,0,2,5,null,0,0,0,0,0,0,0,0,null,2,0,0,0,0,0,4,6,null,{"$f":"SUM(I131+R131+AA131)","v":11}]
["17:45:00",1,0,0,0,1,0,1,3,null,0,0,0,0,0,0,0,0,null,2,0,0,0,0,0,5,7,null,{"$f":"SUM(I132+R132+AA132)","v":10}]
["1 Hr",{"$f":"SUM(B129:B132)","v":5},0,0,0,3,0,6,14,null,{"$f":"SUM(K129:K132)","v":0},0,0,0,0,0,0,0,null,{"$f":"SUM(T129:T132)","v":7},1,0,0,1,1,24,34,null,{"$f":"SUM(AC129:AC132)","v":48}]
["18:00:00",3,0,0,0,1,0,1,{"$f":"SUM(B134:H134)","v":5},null,0,0,0,0,0,0,0,{"$f":"SUM(K134:Q134)","v":0},null,0,0,0,0,0,1,4,{"$f":"SUM(T134:Z134)","v":5},null,{"$f":"SUM(I134+R134+AA134)","v":10}]
["18:15:00",2,0,0,0,1,0,1,4,null,0,0,0,0,0,0,0,0,null,0,0,0,0,0,0,2,2,null,{"$f":"SUM(I135+R135+AA135)","v":6}]
["18:30:00",2,1,0,0,1,0,1,5,null,0,0,0,0,0,0,0,0,null,0,0,0,0,0,0,3,3,null,{"$f":"SUM(I136+R136+AA136)","v":8}]
["18:45:00",3,0,0,0,1,0,5,9,null,0,0,0,0,0,0,0,0,null,1,0,0,0,0,1,7,9,null,{"$f":"SUM(I137+R137+AA137)","v":18}]
["1 Hr",{"$f":"SUM(B134:B137)","v":10},1,0,0,4,0,8,23,null,{"$f":"SUM(K134:K137)","v":0},0,0,0,0,0,0,0,null,{"$f":"SUM(T134:T137)","v":1},0,0,0,0,2,16,19,null,{"$f":"SUM(AC134:AC137)","v":42}]
[]
["Total",{"$f":"SUM(B138+B133+B128+B123+B118+B113+B108+B103+B98+B93+B88+B83)","v":59},6,0,0,47,9,86,207,null,{"$f":"SUM(K138+K133+K128+K123+K118+K113+K108+K103+K98+K93+K88+K83)","v":0},1,0,0,0,0,0,1,null,{"$f":"SUM(T138+T133+T128+T123+T118+T113+T108+T103+T98+T93+T88+T83)","v":53},11,0,0,1,12,154,231,null,{"$f":"SUM(AC138+AC133+AC128+AC123+AC118+AC113+AC108+AC103+AC98+AC93+AC88+AC83)","v":439}]
[]
["Origin :","Arm C","South Parade (W)"]
[null,"Destination :",null,"Arm A","South Parade (E)",null,null,null,"Total",null,"Destination :",null,"Arm B","Fisher's Lane",null,null,null,"Total",null,"Destination :",null,"Arm C","South Parade (W)",null,null,null,"Total",null,"Arm Totals"]
[null,{"$f":"$B$10","v":"Car"},{"$f":"$C$10","v":"LGV"},{"$f":"$D$10","v":"OGV1"},{"$f":"$E$10","v":"OGV2"},{"$f":"$F$10","v":"PSV"},{"$f":"$G$10","v":"MC"},{"$f":"$H$10","v":"PC"},null,null,{"$f":"$B$10","v":"Car"},{"$f":"$C$10","v":"LGV"},{"$f":"$D$10","v":"OGV1"},{"$f":"$E$10","v":"OGV2"},{"$f":"$F$10","v":"PSV"},{"$f":"$G$10","v":"MC"},{"$f":"$H$10","v":"PC"},null,null,{"$f":"$B$10","v":"Car"},{"$f":"$C$10","v":"LGV"},{"$f":"$D$10","v":"OGV1"},{"$f":"$E$10","v":"OGV2"},{"$f":"$F$10","v":"PSV"},{"$f":"$G$10","v":"MC"},{"$f":"$H$10","v":"PC"}]
[]
["07:00:00",56,17,3,0,7,1,4,{"$f":"SUM(B146:H146)","v":88},null,0,0,0,0,0,0,1,{"$f":"SUM(K146:Q146)","v":1},null,1,0,0,0,0,0,0,{"$f":"SUM(T146:Z146)","v":1},null,{"$f":"SUM(I146+R146+AA146)","v":90}]
["07:15:00",56,29,4,0,3,2,6,100,null,0,0,0,0,0,0,1,1,null,0,0,0,0,0,0,0,0,null,{"$f":"SUM(I147+R147+AA147)","v":101}]
["07:30:00",54,30,3,1,4,1,10,103,null,0,0,0,0,0,0,6,6,null,0,0,0,0,0,0,0,0,null,{"$f":"SUM(I148+R148+AA148)","v":109}]
["07:45:00",63,16,2,1,4,1,5,92,null,0,0,0,0,0,0,8,8,null,0,0,0,0,0,0,0,0,null,{"$f":"SUM(I149+R149+AA149)","v":100}]
["1 Hr",{"$f":"SUM(B146:B149)","v":229},92,12,2,18,5,25,383,null,{"$f":"SUM(K146:K149)","v":0},0,0,0,0,0,16,16,null,{"$f":"SUM(T146:T149)","v":1},0,0,0,0,0,0,1,null,{"$f":"SUM(AC146:AC149)","v":400}]
["08:00:00",61,16,1,0,3,3,6,{"$f":"SUM(B151:H151)","v":90},null,0,0,0,0,0,0,9,{"$f":"SUM(K151:Q151)","v":9},null,1,0,0,0,0,0,0,{"$f":"SUM(T151:Z151)","v":1},null,{"$f":"SUM(I151+R151+AA151)","v":100}]
["08:15:00",73,19,1,0,2,4,2,101,null,0,1,0,0,0,0,5,6,null,0,0,0,0,0,0,0,0,null,{"$f":"SUM(I152+R152+AA152)","v":107}]
["08:30:00",82,9,0,0,2,1,7,101,null,1,0,0,0,0,0,9,10,null,0,0,0,0,0,0,0,0,null,{"$f":"SUM(I153+R153+AA153)","v":111}]
["08:45:00",60,18,1,1,3,1,1,85,null,0,1,0,0,0,0,1,2,null,1,0,0,0,0,0,0,1,null,{"$f":"SUM(I154+R154+AA154)","v":88}]
["1 Hr",{"$f":"SUM(B151:B154)","v":276},62,3,1,10,9,16,377,null,{"$f":"SUM(K151:K154)","v":1},2,0,0,0,0,24,27,null,{"$f":"SUM(T151:T154)","v":2},0,0,0,0,0,0,2,null,{"$f":"SUM(AC151:AC154)","v":406}]
["09:00:00",49,9,1,0,4,1,1,{"$f":"SUM(B156:H156)","v":65},null,2,0,0,0,0,0,4,{"$f":"SUM(K156:Q156)","v":6},null,2,0,0,0,0,0,0,{"$f":"SUM(T156:Z156)","v":2},null,{"$f":"SUM(I156+R156+AA156)","v":73}]
["09:15:00",61,8,2,0,2,3,3,79,null,2,0,0,0,0,0,7,9,null,0,0,0,0,0,0,0,0,null,{"$f":"SUM(I157+R157+AA157)","v":88}]
["09:30:00",64,19,1,0,3,3,4,94,null,0,0,0,0,0,0,6,6,null,0,0,0,0,0,0,0,0,null,{"$f":"SUM(I158+R158+AA158)","v":100}]
["09:45:00",54,23,2,0,2,6,3,90,null,1,0,0,0,0,0,1,2,null,0,0,0,0,0,0,0,0,null,{"$f":"SUM(I159+R159+AA159)","v":92}]
["1 Hr",{"$f":"SUM(B156:B159)","v":228},59,6,0,11,13,11,328,null,{"$f":"SUM(K156:K159)","v":5},0,0,0,0,0,18,23,null,{"$f":"SUM(T156:T159)","v":2},0,0,0,0,0,0,2,null,{"$f":"SUM(AC156:AC159)","v":353}]
["10:00:00",45,15,2,0,3,3,3,{"$f":"SUM(B161:H161)","v":71},null,1,0,0,0,0,0,2,{"$f":"SUM(K161:Q161)","v":3},null,1,0,0,0,0,0,0,{"$f":"SUM(T161:Z161)","v":1},null,{"$f":"SUM(I161+R161+AA161)","v":75}]
["10:15:00",49,13,2,0,3,5,0,72,null,0,0,0,0,0,0,5,5,null,0,0,0,0,0,0,0,0,null,{"$f":"SUM(I162+R162+AA162)","v":77}]
["10:30:00",57,10,2,0,2,5,1,77,null,2,0,0,0,0,0,1,3,null,0,0,0,0,0,0,0,0,null,{"$f":"SUM(I163+R163+AA163)","v":80}]
["10:45:00",54,14,1,0,3,4,0,76,null,0,1,0,0,0,0,1,2,null,0,0,0,0,0,0,0,0,null,{"$f":"SUM(I164+R164+AA164)","v":78}]
["1 Hr",{"$f":"SUM(B161:B164)","v":205},52,7,0,11,17,4,296,null,{"$f":"SUM(K161:K164)","v":3},1,0,0,0,0,9,13,null,{"$f":"SUM(T161:T164)","v":1},0,0,0,0,0,0,1,null,{"$f":"SUM(AC161:AC164)","v":310}]
["11:00:00",43,12,3,0,3,2,0,{"$f":"SUM(B166:H166)","v":63},null,0,2,0,0,0,0,3,{"$f":"SUM(K166:Q166)","v":5},null,0,0,0,0,0,0,0,{"$f":"SUM(T166:Z166)","v":0},null,{"$f":"SUM(I166+R166+AA166)","v":68}]
["11:15:00",45,12,0,0,2,6,2,67,null,1,0,0,0,0,0,2,3,null,0,0,0,0,0,0,0,0,null,{"$f":"SUM(I167+R167+AA167)","v":70}]
["11:30:00",40,6,1,0,2,7,1,57,null,0,0,0,0,0,0,1,1,null,0,0,0,0,0,0,0,0,null,{"$f":"SUM(I168+R168+AA168)","v":58}]
["11:45:00",47,12,0,0,2,5,2,68,null,1,0,0,0,0,0,5,6,null,0,0,0,0,0,0,0,0,null,{"$f":"SUM(I169+R169+AA169)","v":74}]
["1 Hr",{"$f":"SUM(B166:B169)","v":175},42,4,0,9,20,5,255,null,{"$f":"SUM(K166:K169)","v":2},2,0,0,0,0,11,15,null,{"$f":"SUM(T166:T169)","v":0},0,0,0,0,0,0,0,null,{"$f":"SUM(AC166:AC169)","v":270}]
["12:00:00",36,8,2,0,2,4,1,{"$f":"SUM(B171:H171)","v":53},null,1,1,0,0,0,0,4,{"$f":"SUM(K171:Q171)","v":6},null,0,0,0,0,0,0,0,{"$f":"SUM(T171:Z171)","v":0},null,{"$f":"SUM(I171+R171+AA171)","v":59}]
["12:15:00",31,15,0,0,3,4,0,53,null,1,0,0,0,0,0,3,4,null,1,0,0,0,0,0,0,1,null,{"$f":"SUM(I172+R172+AA172)","v":58}]
["12:30:00",46,11,0,0,2,13,1,73,null,3,1,0,0,0,0,0,4,null,1,0,0,0,0,0,0,1,null,{"$f":"SUM(I173+R173+AA173)","v":78}]
["12:45:00",46,8,1,0,3,5,2,65,null,1,0,0,0,0,0,6,7,null,0,1,0,0,0,0,0,1,null,{"$f":"SUM(I174+R174+AA174)","v":73}]
["1 Hr",{"$f":"SUM(B171:B174)","v":159},42,3,0,10,26,4,244,null,{"$f":"SUM(K171:K174)","v":6},2,0,0,0,0,13,21,null,{"$f":"SUM(T171:T174)","v":2},1,0,0,0,0,0,3,null,{"$f":"SUM(AC171:AC174)","v":268}]
["13:00:00",52,14,2,0,2,6,0,{"$f":"SUM(B176:H176)","v":76},null,1,0,0,0,0,0,5,{"$f":"SUM(K176:Q176)","v":6},null,1,0,0,0,0,0,0,{"$f":"SUM(T176:Z176)","v":1},null,{"$f":"SUM(I176+R176+AA176)","v":83}]
["13:15:00",49,7,1,0,4,5,4,70,null,1,0,0,0,0,0,1,2,null,1,0,0,0,0,0,0,1,null,{"$f":"SUM(I177+R177+AA177)","v":73}]
["13:30:00",34,13,0,0,2,9,1,59,null,1,0,0,0,0,0,0,1,null,0,0,0,0,0,0,0,0,null,{"$f":"SUM(I178+R178+AA178)","v":60}]
["13:45:00",33,12,0,0,3,4,3,55,null,1,0,0,0,0,0,2,3,null,0,0,0,0,0,0,0,0,null,{"$f":"SUM(I179+R179+AA179)","v":58}]
["1 Hr",{"$f":"SUM(B176:B179)","v":168},46,3,0,11,24,8,260,null,{"$f":"SUM(K176:K179)","v":4},0,0,0,0,0,8,12,null,{"$f":"SUM(T176:T179)","v":2},0,0,0,0,0,0,2,null,{"$f":"SUM(AC176:AC179)","v":274}]
["14:00:00",57,11,0,1,2,5,0,{"$f":"SUM(B181:H181)","v":76},null,0,0,0,0,0,0,1,{"$f":"SUM(K181:Q181)","v":1},null,0,0,0,0,0,0,0,{"$f":"SUM(T181:Z181)","v":0},null,{"$f":"SUM(I181+R181+AA181)","v":77}]
["14:15:00",47,11,0,0,2,6,1,67,null,1,0,0,0,0,0,2,3,null,0,0,0,0,0,0,0,0,null,{"$f":"SUM(I182+R182+AA182)","v":70}]
["14:30:00",58,4,3,0,4,5,2,76,null,1,0,0,0,0,0,2,3,null,0,0,0,0,0,0,0,0,null,{"$f":"SUM(I183+R183+AA183)","v":79}]
["14:45:00",58,6,1,0,3,7,9,84,null,2,0,0,0,0,0,2,4,null,0,0,0,0,0,0,0,0,null,{"$f":"SUM(I184+R184+AA184)","v":88}]
["1 Hr",{"$f":"SUM(B181:B184)","v":220},32,4,1,11,23,12,303,null,{"$f":"SUM(K181:K184)","v":4},0,0,0,0,0,7,11,null,{"$f":"SUM(T181:T184)","v":0},0,0,0,0,0,0,0,null,{"$f":"SUM(AC181:AC184)","v":314}]
["15:00:00",50,8,2,0,2,5,2,{"$f":"SUM(B186:H186)","v":69},null,2,0,0,0,0,0,5,{"$f":"SUM(K186:Q186)","v":7},null,0,1,0,0,0,0,0,{"$f":"SUM(T186:Z186)","v":1},null,{"$f":"SUM(I186+R186+AA186)","v":77}]
["15:15:00",55,9,0,0,3,3,1,71,null,0,0,0,0,0,0,1,1,null,1,0,0,0,0,0,0,1,null,{"$f":"SUM(I187+R187+AA187)","v":73}]
["15:30:00",51,5,0,0,2,4,3,65,null,2,1,0,0,0,0,1,4,null,2,0,0,0,0,0,0,2,null,{"$f":"SUM(I188+R188+AA188)","v":71}]
["15:45:00",43,4,0,0,2,6,2,57,null,2,0,0,0,0,0,5,7,null,1,0,0,0,0,0,0,1,null,{"$f":"SUM(I189+R189+AA189)","v":65}]
["1 Hr",{"$f":"SUM(B186:B189)","v":199},26,2,0,9,18,8,262,null,{"$f":"SUM(K186:K189)","v":6},1,0,0,0,0,12,19,null,{"$f":"SUM(T186:T189)","v":4},1,0,0,0,0,0,5,null,{"$f":"SUM(AC186:AC189)","v":286}]
["16:00:00",46,9,0,0,0,5,2,{"$f":"SUM(B191:H191)","v":62},null,0,1,0,0,0,0,3,{"$f":"SUM(K191:Q191)","v":4},null,0,0,0,0,0,0,0,{"$f":"SUM(T191:Z191)","v":0},null,{"$f":"SUM(I191+R191+AA191)","v":66}]
["16:15:00",57,2,0,0,1,2,3,65,null,0,1,0,0,0,0,3,4,null,0,0,0,0,0,0,0,0,null,{"$f":"SUM(I192+R192+AA192)","v":69}]
["16:30:00",64,5,0,0,2,2,1,74,null,2,1,0,0,0,0,3,6,null,0,0,0,0,0,0,0,0,null,{"$f":"SUM(I193+R193+AA193)","v":80}]
["16:45:00",52,5,0,0,3,5,1,66,null,0,0,0,0,0,0,1,1,null,0,0,0,0,0,0,0,0,null,{"$f":"SUM(I194+R194+AA194)","v":67}]
["1 Hr",{"$f":"SUM(B191:B194)","v":219},21,0,0,6,14,7,267,null,{"$f":"SUM(K191:K194)","v":2},3,0,0,0,0,10,15,null,{"$f":"SUM(T191:T194)","v":0},0,0,0,0,0,0,0,null,{"$f":"SUM(AC191:AC194)","v":282}]
["17:00:00",69,7,0,0,3,6,1,{"$f":"SUM(B196:H196)","v":86},null,0,0,0,0,0,1,3,{"$f":"SUM(K196:Q196)","v":4},null,0,0,0,0,0,0,0,{"$f":"SUM(T196:Z196)","v":0},null,{"$f":"SUM(I196+R196+AA196)","v":90}]
["17:15:00",66,3,0,0,3,7,1,80,null,2,0,0,0,0,0,8,10,null,2,0,0,0,0,0,0,2,null,{"$f":"SUM(I197+R197+AA197)","v":92}]
["17:30:00",68,4,0,0,2,7,3,84,null,2,0,0,0,0,0,6,8,null,0,0,0,0,0,0,0,0,null,{"$f":"SUM(I198+R198+AA198)","v":92}]
["17:45:00",53,5,0,0,3,7,7,75,null,0,0,0,0,0,0,8,8,null,0,0,0,0,0,0,0,0,null,{"$f":"SUM(I199+R199+AA199)","v":83}]
["1 Hr",{"$f":"SUM(B196:B199)","v":256},19,0,0,11,27,12,325,null,{"$f":"SUM(K196:K199)","v":4},0,0,0,0,1,25,30,null,{"$f":"SUM(T196:T199)","v":2},0,0,0,0,0,0,2,null,{"$f":"SUM(AC196:AC199)","v":357}]
["18:00:00",64,7,0,0,3,7,3,{"$f":"SUM(B201:H201)","v":84},null,5,0,0,0,0,0,4,{"$f":"SUM(K201:Q201)","v":9},null,0,0,0,0,0,0,0,{"$f":"SUM(T201:Z201)","v":0},null,{"$f":"SUM(I201+R201+AA201)","v":93}]
["18:15:00",59,5,1,0,3,7,8,83,null,2,0,0,0,0,0,7,9,null,0,0,0,0,0,0,0,0,null,{"$f":"SUM(I202+R202+AA202)","v":92}]
["18:30:00",52,3,0,0,2,8,3,68,null,1,0,0,0,0,0,3,4,null,2,0,0,0,0,0,0,2,null,{"$f":"SUM(I203+R203+AA203)","v":74}]
["18:45:00",59,3,0,0,3,13,1,79,null,6,0,0,0,0,0,4,10,null,0,0,0,0,0,0,0,0,null,{"$f":"SUM(I204+R204+AA204)","v":89}]
["1 Hr",{"$f":"SUM(B201:B204)","v":234},18,1,0,11,35,15,314,null,{"$f":"SUM(K201:K204)","v":14},0,0,0,0,0,18,32,null,{"$f":"SUM(T201:T204)","v":2},0,0,0,0,0,0,2,null,{"$f":"SUM(AC201:AC204)","v":348}]
[]
["Total",{"$f":"SUM(B205+B200+B195+B190+B185+B180+B175+B170+B165+B160+B155+B150)","v":2568},511,45,4,128,231,127,3614,null,{"$f":"SUM(K205+K200+K195+K190+K185+K180+K175+K170+K165+K160+K155+K150)","v":51},11,0,0,0,1,171,234,null,{"$f":"SUM(T205+T200+T195+T190+T185+T180+T175+T170+T165+T160+T155+T150)","v":18},2,0,0,0,0,0,20,null,{"$f":"SUM(AC205+AC200+AC195+AC190+AC185+AC180+AC175+AC170+AC165+AC160+AC155+AC150)","v":3868}]
[]
["ORIGIN SUMMARY"]
[null,"Origin :",null,"Arm A","South Parade (E)",null,null,null,"Total",null,"Origin :",null,"Arm B","Fisher's Lane",null,null,null,"Total",null,"Origin :",null,"Arm C","South Parade (W)",null,null,null,"Total",null,"Origin Totals"]
[null,{"$f":"$B$10","v":"Car"},{"$f":"$C$10","v":"LGV"},{"$f":"$D$10","v":"OGV1"},{"$f":"$E$10","v":"OGV2"},{"$f":"$F$10","v":"PSV"},{"$f":"$G$10","v":"MC"},{"$f":"$H$10","v":"PC"},null,null,{"$f":"$B$10","v":"Car"},{"$f":"$C$10","v":"LGV"},{"$f":"$D$10","v":"OGV1"},{"$f":"$E$10","v":"OGV2"},{"$f":"$F$10","v":"PSV"},{"$f":"$G$10","v":"MC"},{"$f":"$H$10","v":"PC"},null,null,{"$f":"$B$10","v":"Car"},{"$f":"$C$10","v":"LGV"},{"$f":"$D$10","v":"OGV1"},{"$f":"$E$10","v":"OGV2"},{"$f":"$F$10","v":"PSV"},{"$f":"$G$10","v":"MC"},{"$f":"$H$10","v":"PC"}]
[]
["07:00:00",{"$f":"SUM(B12+K12+T12)","v":39},2,2,0,6,0,0,{"$f":"SUM(B213:H213)","v":49},null,{"$f":"SUM(B79+K79+T79)","v":1},0,0,0,1,0,2,{"$f":"SUM(K213:Q213)","v":4},null,{"$f":"SUM(B146+K146+T146)","v":57},17,3,0,7,1,5,{"$f":"SUM(T213:Z213)","v":90},null,{"$f":"SUM(I213+R213+AA213)","v":143}]
["07:15:00",36,2,0,0,4,1,3,{"$f":"SUM(B214:H214)","v":46},null,1,0,0,0,1,0,1,{"$f":"SUM(K214:Q214)","v":3},null,56,29,4,0,3,2,7,{"$f":"SUM(T214:Z214)","v":101},null,{"$f":"SUM(I214+R214+AA214)","v":150}]
["07:30:00",50,3,1,0,7,2,2,{"$f":"SUM(B215:H215)","v":65},null,0,0,0,0,2,0,3,{"$f":"SUM(K215:Q215)","v":5},null,54,30,3,1,4,1,16,{"$f":"SUM(T215:Z215)","v":109},null,{"$f":"SUM(I215+R215+AA215)","v":179}]
["07:45:00",63,4,0,0,9,1,3,{"$f":"SUM(B216:H216)","v":80},null,3,0,0,0,1,0,4,{"$f":"SUM(K216:Q216)","v":8},null,63,16,2,1,4,1,13,{"$f":"SUM(T216:Z216)","v":100},null,{"$f":"SUM(I216+R216+AA216)","v":188}]
["1 Hr",{"$f":"SUM(B213:B216)","v":188},11,3,0,26,4,8,240,null,{"$f":"SUM(K213:K216)","v":5},0,0,0,5,0,10,20,null,{"$f":"SUM(T213:T216)","v":230},92,12,2,18,5,41,400,null,{"$f":"SUM(AC213:AC216)","v":660}]
["08:00:00",{"$f":"SUM(B17+K17+T17)","v":66},8,0,0,4,2,1,{"$f":"SUM(B218:H218)","v":81},null,{"$f":"SUM(B84+K84+T84)","v":2},0,0,0,1,0,4,{"$f":"SUM(K218:Q218)","v":7},null,{"$f":"SUM(B151+K151+T151)","v":62},16,1,0,3,3,15,{"$f":"SUM(T218:Z218)","v":100},null,{"$f":"SUM(I218+R218+AA218)","v":188}]
["08:15:00",63,6,0,0,4,4,3,{"$f":"SUM(B219:H219)","v":80},null,1,1,0,0,1,0,2,{"$f":"SUM(K219:Q219)","v":5},null,73,20,1,0,2,4,7,{"$f":"SUM(T219:Z219)","v":107},null,{"$f":"SUM(I219+R219+AA219)","v":192}]
["08:30:00",61,11,1,0,4,0,4,{"$f":"SUM(B220:H220)","v":81},null,0,1,0,0,1,0,6,{"$f":"SUM(K220:Q220)","v":8},null,83,9,0,0,2,1,16,{"$f":"SUM(T220:Z220)","v":111},null,{"$f":"SUM(I220+R220+AA220)","v":200}]
["08:45:00",63,4,3,0,5,2,7,{"$f":"SUM(B221:H221)","v":84},null,1,1,0,0,1,0,11,{"$f":"SUM(K221:Q221)","v":14},null,61,19,1,1,3,1,2,{"$f":"SUM(T221:Z221)","v":88},null,{"$f":"SUM(I221+R221+AA221)","v":186}]
["1 Hr",{"$f":"SUM(B218:B221)","v":253},29,4,0,17,8,15,326,null,{"$f":"SUM(K218:K221)","v":4},3,0,0,4,0,23,34,null,{"$f":"SUM(T218:T221)","v":279},64,3,1,10,9,40,406,null,{"$f":"SUM(AC218:AC221)","v":766}]
["09:00:00",{"$f":"SUM(B22+K22+T22)","v":79},9,1,0,3,0,6,{"$f":"SUM(B223:H223)","v":98},null,{"$f":"SUM(B89+K89+T89)","v":2},0,0,0,0,0,7,{"$f":"SUM(K223:Q223)","v":9},null,{"$f":"SUM(B156+K156+T156)","v":53},9,1,0,4,1,5,{"$f":"SUM(T223:Z223)","v":73},null,{"$f":"SUM(I223+R223+AA223)","v":180}]
["09:15:00",55,6,0,0,4,4,0,{"$f":"SUM(B224:H224)","v":69},null,2,1,0,0,1,1,5,{"$f":"SUM(K224:Q224)","v":10},null,63,8,2,0,2,3,10,{"$f":"SUM(T224:Z224)","v":88},null,{"$f":"SUM(I224+R224+AA224)","v":167}]
["09:30:00",46,9,1,0,3,3,3,{"$f":"SUM(B225:H225)","v":65},null,2,0,0,0,1,1,5,{"$f":"SUM(K225:Q225)","v":9},null,64,19,1,0,3,3,10,{"$f":"SUM(T225:Z225)","v":100},null,{"$f":"SUM(I225+R225+AA225)","v":174}]
["09:45:00",55,13,1,0,4,3,4,{"$f":"SUM(B226:H226)","v":80},null,2,0,0,0,1,0,1,{"$f":"SUM(K226:Q226)","v":4},null,55,23,2,0,2,6,4,{"$f":"SUM(T226:Z226)","v":92},null,{"$f":"SUM(I226+R226+AA226)","v":176}]
["1 Hr",{"$f":"SUM(B223:B226)","v":235},37,3,0,14,10,13,312,null,{"$f":"SUM(K223:K226)","v":8},1,0,0,3,2,18,32,null,{"$f":"SUM(T223:T226)","v":235},59,6,0,11,13,29,353,null,{"$f":"SUM(AC223:AC226)","v":697}]
["10:00:00",{"$f":"SUM(B27+K27+T27)","v":53},17,1,0,5,3,1,{"$f":"SUM(B228:H228)","v":80},null,{"$f":"SUM(B94+K94+T94)","v":0},0,0,0,1,0,1,{"$f":"SUM(K228:Q228)","v":2},null,{"$f":"SUM(B161+K161+T161)","v":47},15,2,0,3,3,5,{"$f":"SUM(T228:Z228)","v":75},null,{"$f":"SUM(I228+R228+AA228)","v":157}]
["10:15:00",57,10,0,0,3,1,1,{"$f":"SUM(B229:H229)","v":72},null,5,0,0,0,1,0,4,{"$f":"SUM(K229:Q229)","v":10},null,49,13,2,0,3,5,5,{"$f":"SUM(T229:Z229)","v":77},null,{"$f":"SUM(I229+R229+AA229)","v":159}]
["10:30:00",42,13,0,0,5,4,6,{"$f":"SUM(B230:H230)","v":70},null,3,0,0,0,1,0,2,{"$f":"SUM(K230:Q230)","v":6},null,59,10,2,0,2,5,2,{"$f":"SUM(T230:Z230)","v":80},null,{"$f":"SUM(I230+R230+AA230)","v":156}]
["10:45:00",46,13,1,0,3,3,9,{"$f":"SUM(B231:H231)","v":75},null,4,1,0,0,1,0,3,{"$f":"SUM(K231:Q231)","v":9},null,54,15,1,0,3,4,1,{"$f":"SUM(T231:Z231)","v":78},null,{"$f":"SUM(I231+R231+AA231)","v":162}]
["1 Hr",{"$f":"SUM(B228:B231)","v":198},53,2,0,16,11,17,297,null,{"$f":"SUM(K228:K231)","v":12},1,0,0,4,0,10,27,null,{"$f":"SUM(T228:T231)","v":209},53,7,0,11,17,13,310,null,{"$f":"SUM(AC228:AC231)","v":634}]
["11:00:00",{"$f":"SUM(B32+K32+T32)","v":53},19,3,0,6,8,2,{"$f":"SUM(B233:H233)","v":91},null,{"$f":"SUM(B99+K99+T99)","v":4},2,0,0,1,0,5,{"$f":"SUM(K233:Q233)","v":12},null,{"$f":"SUM(B166+K166+T166)","v":43},14,3,0,3,2,3,{"$f":"SUM(T233:Z233)","v":68},null,{"$f":"SUM(I233+R233+AA233)","v":171}]
["11:15:00",56,12,0,0,4,7,7,{"$f":"SUM(B234:H234)","v":86},null,1,1,0,0,1,0,2,{"$f":"SUM(K234:Q234)","v":5},null,46,12,0,0,2,6,4,{"$f":"SUM(T234:Z234)","v":70},null,{"$f":"SUM(I234+R234+AA234)","v":161}]
["11:30:00",58,15,0,0,3,8,0,{"$f":"SUM(B235:H235)","v":84},null,3,0,0,0,1,0,1,{"$f":"SUM(K235:Q235)","v":5},null,40,6,1,0,2,7,2,{"$f":"SUM(T235:Z235)","v":58},null,{"$f":"SUM(I235+R235+AA235)","v":147}]
["11:45:00",65,14,4,0,3,8,4,{"$f":"SUM(B236:H236)","v":98},null,2,1,0,0,1,0,5,{"$f":"SUM(K236:Q236)","v":9},null,48,12,0,0,2,5,7,{"$f":"SUM(T236:Z236)","v":74},null,{"$f":"SUM(I236+R236+AA236)","v":181}]
["1 Hr",{"$f":"SUM(B233:B236)","v":232},60,7,0,16,31,13,359,null,{"$f":"SUM(K233:K236)","v":10},4,0,0,4,0,13,31,null,{"$f":"SUM(T233:T236)","v":177},44,4,0,9,20,16,270,null,{"$f":"SUM(AC233:AC236)","v":660}]
["12:00:00",{"$f":"SUM(B37+K37+T37)","v":50},15,1,0,4,7,2,{"$f":"SUM(B238:H238)","v":79},null,{"$f":"SUM(B104+K104+T104)","v":2},1,0,0,1,1,3,{"$f":"SUM(K238:Q238)","v":8},null,{"$f":"SUM(B171+K171+T171)","v":37},9,2,0,2,4,5,{"$f":"SUM(T238:Z238)","v":59},null,{"$f":"SUM(I238+R238+AA238)","v":146}]
["12:15:00",53,21,2,0,3,2,2,{"$f":"SUM(B239:H239)","v":83},null,2,0,0,0,1,0,4,{"$f":"SUM(K239:Q239)","v":7},null,33,15,0,0,3,4,3,{"$f":"SUM(T239:Z239)","v":58},null,{"$f":"SUM(I239+R239+AA239)","v":148}]
["12:30:00",63,19,2,0,4,7,5,{"$f":"SUM(B240:H240)","v":100},null,3,3,0,0,1,0,5,{"$f":"SUM(K240:Q240)","v":12},null,50,12,0,0,2,13,1,{"$f":"SUM(T240:Z240)","v":78},null,{"$f":"SUM(I240+R240+AA240)","v":190}]
["12:45:00",89,7,1,0,4,7,5,{"$f":"SUM(B241:H241)","v":113},null,4,2,0,0,1,0,4,{"$f":"SUM(K241:Q241)","v":11},null,47,9,1,0,3,5,8,{"$f":"SUM(T241:Z241)","v":73},null,{"$f":"SUM(I241+R241+AA241)","v":197}]
["1 Hr",{"$f":"SUM(B238:B241)","v":255},62,6,0,15,23,14,375,null,{"$f":"SUM(K238:K241)","v":11},6,0,0,4,1,16,38,null,{"$f":"SUM(T238:T241)","v":167},45,3,0,10,26,17,268,null,{"$f":"SUM(AC238:AC241)","v":681}]
["13:00:00",{"$f":"SUM(B42+K42+T42)","v":68},17,2,0,3,7,1,{"$f":"SUM(B243:H243)","v":98},null,{"$f":"SUM(B109+K109+T109)","v":2},0,0,0,1,2,3,{"$f":"SUM(K243:Q243)","v":8},null,{"$f":"SUM(B176+K176+T176)","v":54},14,2,0,2,6,5,{"$f":"SUM(T243:Z243)","v":83},null,{"$f":"SUM(I243+R243+AA243)","v":189}]
["13:15:00",79,26,2,0,5,11,2,{"$f":"SUM(B244:H244)","v":125},null,1,0,0,0,1,1,9,{"$f":"SUM(K244:Q244)","v":12},null,51,7,1,0,4,5,5,{"$f":"SUM(T244:Z244)","v":73},null,{"$f":"SUM(I244+R244+AA244)","v":210}]
["13:30:00",68,22,1,0,4,11,3,{"$f":"SUM(B245:H245)","v":109},null,3,0,0,0,1,1,7,{"$f":"SUM(K245:Q245)","v":12},null,35,13,0,0,2,9,1,{"$f":"SUM(T245:Z245)","v":60},null,{"$f":"SUM(I245+R245+AA245)","v":181}]
["13:45:00",70,15,2,1,4,8,2,{"$f":"SUM(B246:H246)","v":102},null,6,0,0,0,1,1,2,{"$f":"SUM(K246:Q246)","v":10},null,34,12,0,0,3,4,5,{"$f":"SUM(T246:Z246)","v":58},null,{"$f":"SUM(I246+R246+AA246)","v":170}]
["1 Hr",{"$f":"SUM(B243:B246)","v":285},80,7,1,16,37,8,434,null,{"$f":"SUM(K243:K246)","v":12},0,0,0,4,5,21,42,null,{"$f":"SUM(T243:T246)","v":174},46,3,0,11,24,16,274,null,{"$f":"SUM(AC243:AC246)","v":750}]
["14:00:00",{"$f":"SUM(B47+K47+T47)","v":73},18,3,0,3,13,5,{"$f":"SUM(B248:H248)","v":115},null,{"$f":"SUM(B114+K114+T114)","v":3},0,0,0,1,2,9,{"$f":"SUM(K248:Q248)","v":15},null,{"$f":"SUM(B181+K181+T181)","v":57},11,0,1,2,5,1,{"$f":"SUM(T248:Z248)","v":77},null,{"$f":"SUM(I248+R248+AA248)","v":207}]
["14:15:00",79,10,1,0,5,8,2,{"$f":"SUM(B249:H249)","v":105},null,3,0,0,0,1,1,4,{"$f":"SUM(K249:Q249)","v":9},null,48,11,0,0,2,6,3,{"$f":"SUM(T249:Z249)","v":70},null,{"$f":"SUM(I249+R249+AA249)","v":184}]
["14:30:00",65,23,2,0,4,5,1,{"$f":"SUM(B250:H250)","v":100},null,3,0,0,0,1,1,4,{"$f":"SUM(K250:Q250)","v":9},null,59,4,3,0,4,5,4,{"$f":"SUM(T250:Z250)","v":79},null,{"$f":"SUM(I250+R250+AA250)","v":188}]
["14:45:00",100,18,4,0,5,7,1,{"$f":"SUM(B251:H251)","v":135},null,4,0,0,0,0,0,5,{"$f":"SUM(K251:Q251)","v":9},null,60,6,1,0,3,7,11,{"$f":"SUM(T251:Z251)","v":88},null,{"$f":"SUM(I251+R251+AA251)","v":232}]
["1 Hr",{"$f":"SUM(B248:B251)","v":317},69,10,0,17,33,9,455,null,{"$f":"SUM(K248:K251)","v":13},0,0,0,3,4,22,42,null,{"$f":"SUM(T248:T251)","v":224},32,4,1,11,23,19,314,null,{"$f":"SUM(AC248:AC251)","v":811}]
["15:00:00",{"$f":"SUM(B52+K52+T52)","v":71},22,2,1,4,2,3,{"$f":"SUM(B253:H253)","v":105},null,{"$f":"SUM(B119+K119+T119)","v":2},1,0,0,2,0,3,{"$f":"SUM(K253:Q253)","v":8},null,{"$f":"SUM(B186+K186+T186)","v":52},9,2,0,2,5,7,{"$f":"SUM(T253:Z253)","v":77},null,{"$f":"SUM(I253+R253+AA253)","v":190}]
["15:15:00",67,14,0,0,1,4,4,{"$f":"SUM(B254:H254)","v":90},null,3,0,0,0,1,1,2,{"$f":"SUM(K254:Q254)","v":7},null,56,9,0,0,3,3,2,{"$f":"SUM(T254:Z254)","v":73},null,{"$f":"SUM(I254+R254+AA254)","v":170}]
["15:30:00",97,18,2,0,5,4,10,{"$f":"SUM(B255:H255)","v":136},null,3,0,0,0,1,2,9,{"$f":"SUM(K255:Q255)","v":15},null,55,6,0,0,2,4,4,{"$f":"SUM(T255:Z255)","v":71},null,{"$f":"SUM(I255+R255+AA255)","v":222}]
["15:45:00",90,21,2,0,1,7,2,{"$f":"SUM(B256:H256)","v":123},null,0,0,0,0,1,1,8,{"$f":"SUM(K256:Q256)","v":10},null,46,4,0,0,2,6,7,{"$f":"SUM(T256:Z256)","v":65},null,{"$f":"SUM(I256+R256+AA256)","v":198}]
["1 Hr",{"$f":"SUM(B253:B256)","v":325},75,6,1,11,17,19,454,null,{"$f":"SUM(K253:K256)","v":8},1,0,0,5,4,22,40,null,{"$f":"SUM(T253:T256)","v":209},28,2,0,9,18,20,286,null,{"$f":"SUM(AC253:AC256)","v":780}]
["16:00:00",{"$f":"SUM(B57+K57+T57)","v":97},25,3,0,1,6,8,{"$f":"SUM(B258:H258)","v":140},null,{"$f":"SUM(B124+K124+T124)","v":2},0,0,0,1,1,4,{"$f":"SUM(K258:Q258)","v":8},null,{"$f":"SUM(B191+K191+T191)","v":46},10,0,0,0,5,5,{"$f":"SUM(T258:Z258)","v":66},null,{"$f":"SUM(I258+R258+AA258)","v":214}]
["16:15:00",86,16,1,0,4,1,5,{"$f":"SUM(B259:H259)","v":113},null,0,0,0,0,1,0,7,{"$f":"SUM(K259:Q259)","v":8},null,57,3,0,0,1,2,6,{"$f":"SUM(T259:Z259)","v":69},null,{"$f":"SUM(I259+R259+AA259)","v":190}]
["16:30:00",114,25,4,0,3,6,7,{"$f":"SUM(B260:H260)","v":159},null,2,0,0,0,1,1,7,{"$f":"SUM(K260:Q260)","v":11},null,66,6,0,0,2,2,4,{"$f":"SUM(T260:Z260)","v":80},null,{"$f":"SUM(I260+R260+AA260)","v":250}]
["16:45:00",83,20,1,0,6,6,5,{"$f":"SUM(B261:H261)","v":121},null,2,0,0,0,1,0,13,{"$f":"SUM(K261:Q261)","v":16},null,52,5,0,0,3,5,2,{"$f":"SUM(T261:Z261)","v":67},null,{"$f":"SUM(I261+R261+AA261)","v":204}]
["1 Hr",{"$f":"SUM(B258:B261)","v":380},86,9,0,14,19,25,533,null,{"$f":"SUM(K258:K261)","v":6},0,0,0,4,2,31,43,null,{"$f":"SUM(T258:T261)","v":221},24,0,0,6,14,17,282,null,{"$f":"SUM(AC258:AC261)","v":858}]
["17:00:00",{"$f":"SUM(B62+K62+T62)","v":97},15,0,0,3,4,3,{"$f":"SUM(B263:H263)","v":122},null,{"$f":"SUM(B129+K129+T129)","v":3},0,0,0,1,0,14,{"$f":"SUM(K263:Q263)","v":18},null,{"$f":"SUM(B196+K196+T196)","v":69},7,0,0,3,7,4,{"$f":"SUM(T263:Z263)","v":90},null,{"$f":"SUM(I263+R263+AA263)","v":230}]
["17:15:00",112,20,0,0,3,8,11,{"$f":"SUM(B264:H264)","v":154},null,2,1,0,0,1,1,4,{"$f":"SUM(K264:Q264)","v":9},null,70,3,0,0,3,7,9,{"$f":"SUM(T264:Z264)","v":92},null,{"$f":"SUM(I264+R264+AA264)","v":255}]
["17:30:00",97,13,1,0,4,6,5,{"$f":"SUM(B265:H265)","v":126},null,4,0,0,0,1,0,6,{"$f":"SUM(K265:Q265)","v":11},null,70,4,0,0,2,7,9,{"$f":"SUM(T265:Z265)","v":92},null,{"$f":"SUM(I265+R265+AA265)","v":229}]
["17:45:00",98,18,0,0,4,11,5,{"$f":"SUM(B266:H266)","v":136},null,3,0,0,0,1,0,6,{"$f":"SUM(K266:Q266)","v":10},null,53,5,0,0,3,7,15,{"$f":"SUM(T266:Z266)","v":83},null,{"$f":"SUM(I266+R266+AA266)","v":229}]
["1 Hr",{"$f":"SUM(B263:B266)","v":404},66,1,0,14,29,24,538,null,{"$f":"SUM(K263:K266)","v":12},1,0,0,4,1,30,48,null,{"$f":"SUM(T263:T266)","v":262},19,0,0,11,28,37,357,null,{"$f":"SUM(AC263:AC266)","v":943}]
["18:00:00",{"$f":"SUM(B67+K67+T67)","v":88},10,1,0,7,6,5,{"$f":"SUM(B268:H268)","v":117},null,{"$f":"SUM(B134+K134+T134)","v":3},0,0,0,1,1,5,{"$f":"SUM(K268:Q268)","v":10},null,{"$f":"SUM(B201+K201+T201)","v":69},7,0,0,3,7,7,{"$f":"SUM(T268:Z268)","v":93},null,{"$f":"SUM(I268+R268+AA268)","v":220}]
["18:15:00",71,5,0,0,5,8,9,{"$f":"SUM(B269:H269)","v":98},null,2,0,0,0,1,0,3,{"$f":"SUM(K269:Q269)","v":6},null,61,5,1,0,3,7,15,{"$f":"SUM(T269:Z269)","v":92},null,{"$f":"SUM(I269+R269+AA269)","v":196}]
["18:30:00",106,7,1,0,4,8,4,{"$f":"SUM(B270:H270)","v":130},null,2,1,0,0,1,0,4,{"$f":"SUM(K270:Q270)","v":8},null,55,3,0,0,2,8,6,{"$f":"SUM(T270:Z270)","v":74},null,{"$f":"SUM(I270+R270+AA270)","v":212}]
["18:45:00",120,9,0,0,4,15,7,{"$f":"SUM(B271:H271)","v":155},null,4,0,0,0,1,1,12,{"$f":"SUM(K271:Q271)","v":18},null,65,3,0,0,3,13,5,{"$f":"SUM(T271:Z271)","v":89},null,{"$f":"SUM(I271+R271+AA271)","v":262}]
["1 Hr",{"$f":"SUM(B268:B271)","v":385},31,2,0,20,37,25,500,null,{"$f":"SUM(K268:K271)","v":11},1,0,0,4,2,24,42,null,{"$f":"SUM(T268:T271)","v":250},18,1,0,11,35,33,348,null,{"$f":"SUM(AC268:AC271)","v":890}]
[]
["Total",{"$f":"SUM(B272+B267+B262+B257+B252+B247+B242+B237+B232+B227+B222+B217)","v":3457},659,60,2,196,259,190,4823,null,{"$f":"SUM(K272+K267+K262+K257+K252+K247+K242+K237+K232+K227+K222+K217)","v":112},18,0,0,48,21,240,439,null,{"$f":"SUM(T272+T267+T262+T257+T252+T247+T242+T237+T232+T227+T222+T217)","v":2637},524,45,4,128,232,298,3868,null,{"$f":"SUM(AC272+AC267+AC262+AC257+AC252+AC247+AC242+AC237+AC232+AC227+AC222+AC217)","v":9130}]
[]
["DESTINATION SUMMARY"]
[null,"Destination :",null,"Arm A","South Parade (E)",null,null,null,"Total",null,"Destination :",null,"Arm B","Fisher's Lane",null,null,null,"Total",null,"Destination :",null,"Arm C","South Parade (W)",null,null,null,"Total",null,"Dest Totals"]
[null,{"$f":"$B$10","v":"Car"},{"$f":"$C$10","v":"LGV"},{"$f":"$D$10","v":"OGV1"},{"$f":"$E$10","v":"OGV2"},{"$f":"$F$10","v":"PSV"},{"$f":"$G$10","v":"MC"},{"$f":"$H$10","v":"PC"},null,null,{"$f":"$B$10","v":"Car"},{"$f":"$C$10","v":"LGV"},{"$f":"$D$10","v":"OGV1"},{"$f":"$E$10","v":"OGV2"},{"$f":"$F$10","v":"PSV"},{"$f":"$G$10","v":"MC"},{"$f":"$H$10","v":"PC"},null,null,{"$f":"$B$10","v":"Car"},{"$f":"$C$10","v":"LGV"},{"$f":"$D$10","v":"OGV1"},{"$f":"$E$10","v":"OGV2"},{"$f":"$F$10","v":"PSV"},{"$f":"$G$10","v":"MC"},{"$f":"$H$10","v":"PC"}]
[]
["07:00:00",{"$f":"SUM(B12+B79+B146)","v":56},17,3,0,8,1,6,{"$f":"SUM(B280:H280)","v":91},null,{"$f":"SUM(K12+K79+K146)","v":2},0,0,0,1,0,1,{"$f":"SUM(K280:Q280)","v":4},null,{"$f":"SUM(T12+T79+T146)","v":39},2,2,0,5,0,0,{"$f":"SUM(T280:Z280)","v":48},null,{"$f":"SUM(I280+R280+AA280)","v":143}]
["07:15:00",58,29,4,0,4,2,6,{"$f":"SUM(B281:H281)","v":103},null,3,0,0,0,2,0,3,{"$f":"SUM(K281:Q281)","v":8},null,32,2,0,0,2,1,2,{"$f":"SUM(T281:Z281)","v":39},null,{"$f":"SUM(I281+R281+AA281)","v":150}]
["07:30:00",54,30,3,1,6,1,12,{"$f":"SUM(B282:H282)","v":107},null,1,0,0,0,2,0,7,{"$f":"SUM(K282:Q282)","v":10},null,49,3,1,0,5,2,2,{"$f":"SUM(T282:Z282)","v":62},null,{"$f":"SUM(I282+R282+AA282)","v":179}]
["07:45:00",65,16,2,1,5,1,8,{"$f":"SUM(B283:H283)","v":98},null,1,0,0,0,2,0,10,{"$f":"SUM(K283:Q283)","v":13},null,63,4,0,0,7,1,2,{"$f":"SUM(T283:Z283)","v":77},null,{"$f":"SUM(I283+R283+AA283)","v":188}]
["1 Hr",{"$f":"SUM(B280:B283)","v":233},92,12,2,23,5,32,399,null,{"$f":"SUM(K280:K283)","v":7},0,0,0,7,0,21,35,null,{"$f":"SUM(T280:T283)","v":183},11,3,0,19,4,6,226,null,{"$f":"SUM(AC280:AC283)","v":660}]
["08:00:00",{"$f":"SUM(B17+B84+B151)","v":62},16,1,0,4,3,8,{"$f":"SUM(B285:H285)","v":94},null,{"$f":"SUM(K17+K84+K151)","v":1},0,0,0,2,0,9,{"$f":"SUM(K285:Q285)","v":12},null,{"$f":"SUM(T17+T84+T151)","v":67},8,0,0,2,2,3,{"$f":"SUM(T285:Z285)","v":82},null,{"$f":"SUM(I285+R285+AA285)","v":188}]
["08:15:00",74,19,1,0,3,4,3,{"$f":"SUM(B286:H286)","v":104},null,0,1,0,0,1,0,5,{"$f":"SUM(K286:Q286)","v":7},null,63,7,0,0,3,4,4,{"$f":"SUM(T286:Z286)","v":81},null,{"$f":"SUM(I286+R286+AA286)","v":192}]
["08:30:00",82,9,0,0,3,1,11,{"$f":"SUM(B287:H287)","v":106},null,1,0,0,0,1,0,9,{"$f":"SUM(K287:Q287)","v":11},null,61,12,1,0,3,0,6,{"$f":"SUM(T287:Z287)","v":83},null,{"$f":"SUM(I287+R287+AA287)","v":200}]
["08:45:00",60,18,1,1,4,1,9,{"$f":"SUM(B288:H288)","v":94},null,1,1,0,0,1,0,6,{"$f":"SUM(K288:Q288)","v":9},null,64,5,3,0,4,2,5,{"$f":"SUM(T288:Z288)","v":83},null,{"$f":"SUM(I288+R288+AA288)","v":186}]
["1 Hr",{"$f":"SUM(B285:B288)","v":278},62,3,1,14,9,31,398,null,{"$f":"SUM(K285:K288)","v":3},2,0,0,5,0,29,39,null,{"$f":"SUM(T285:T288)","v":255},32,4,0,12,8,18,329,null,{"$f":"SUM(AC285:AC288)","v":766}]
["09:00:00",{"$f":"SUM(B22+B89+B156)","v":51},9,1,0,4,1,2,{"$f":"SUM(B290:H290)","v":68},null,{"$f":"SUM(K22+K89+K156)","v":2},0,0,0,1,0,7,{"$f":"SUM(K290:Q290)","v":10},null,{"$f":"SUM(T22+T89+T156)","v":81},9,1,0,2,0,9,{"$f":"SUM(T290:Z290)","v":102},null,{"$f":"SUM(I290+R290+AA290)","v":180}]
["09:15:00",61,9,2,0,3,4,3,{"$f":"SUM(B291:H291)","v":82},null,2,0,0,0,1,0,7,{"$f":"SUM(K291:Q291)","v":10},null,57,6,0,0,3,4,5,{"$f":"SUM(T291:Z291)","v":75},null,{"$f":"SUM(I291+R291+AA291)","v":167}]
["09:30:00",64,19,1,0,4,4,4,{"$f":"SUM(B292:H292)","v":96},null,0,0,0,0,1,0,7,{"$f":"SUM(K292:Q292)","v":8},null,48,9,1,0,2,3,7,{"$f":"SUM(T292:Z292)","v":70},null,{"$f":"SUM(I292+R292+AA292)","v":174}]
["09:45:00",56,24,2,0,3,6,3,{"$f":"SUM(B293:H293)","v":94},null,1,0,0,0,1,0,3,{"$f":"SUM(K293:Q293)","v":5},null,55,12,1,0,3,3,3,{"$f":"SUM(T293:Z293)","v":77},null,{"$f":"SUM(I293+R293+AA293)","v":176}]
["1 Hr",{"$f":"SUM(B290:B293)","v":232},61,6,0,14,15,12,340,null,{"$f":"SUM(K290:K293)","v":5},0,0,0,4,0,24,33,null,{"$f":"SUM(T290:T293)","v":241},36,3,0,10,10,24,324,null,{"$f":"SUM(AC290:AC293)","v":697}]
["10:00:00",{"$f":"SUM(B27+B94+B161)","v":45},15,2,0,4,3,3,{"$f":"SUM(B295:H295)","v":72},null,{"$f":"SUM(K27+K94+K161)","v":3},0,0,0,1,0,3,{"$f":"SUM(K295:Q295)","v":7},null,{"$f":"SUM(T27+T94+T161)","v":52},17,1,0,4,3,1,{"$f":"SUM(T295:Z295)","v":78},null,{"$f":"SUM(I295+R295+AA295)","v":157}]
["10:15:00",52,13,2,0,4,5,1,{"$f":"SUM(B296:H296)","v":77},null,0,0,0,0,1,0,5,{"$f":"SUM(K296:Q296)","v":6},null,59,10,0,0,2,1,4,{"$f":"SUM(T296:Z296)","v":76},null,{"$f":"SUM(I296+R296+AA296)","v":159}]
["10:30:00",58,10,2,0,3,5,1,{"$f":"SUM(B297:H297)","v":79},null,2,0,0,0,1,0,3,{"$f":"SUM(K297:Q297)","v":6},null,44,13,0,0,4,4,6,{"$f":"SUM(T297:Z297)","v":71},null,{"$f":"SUM(I297+R297+AA297)","v":156}]
["10:45:00",55,15,1,0,4,4,0,{"$f":"SUM(B298:H298)","v":79},null,0,1,0,0,1,0,4,{"$f":"SUM(K298:Q298)","v":6},null,49,13,1,0,2,3,9,{"$f":"SUM(T298:Z298)","v":77},null,{"$f":"SUM(I298+R298+AA298)","v":162}]
["1 Hr",{"$f":"SUM(B295:B298)","v":210},53,7,0,15,17,5,307,null,{"$f":"SUM(K295:K298)","v":5},1,0,0,4,0,15,25,null,{"$f":"SUM(T295:T298)","v":204},53,2,0,12,11,20,302,null,{"$f":"SUM(AC295:AC298)","v":634}]
["11:00:00",{"$f":"SUM(B32+B99+B166)","v":46},13,3,0,4,2,2,{"$f":"SUM(B300:H300)","v":70},null,{"$f":"SUM(K32+K99+K166)","v":0},2,0,0,1,0,3,{"$f":"SUM(K300:Q300)","v":6},null,{"$f":"SUM(T32+T99+T166)","v":54},20,3,0,5,8,5,{"$f":"SUM(T300:Z300)","v":95},null,{"$f":"SUM(I300+R300+AA300)","v":171}]
["11:15:00",46,13,0,0,3,6,2,{"$f":"SUM(B301:H301)","v":70},null,2,0,0,0,1,0,5,{"$f":"SUM(K301:Q301)","v":8},null,55,12,0,0,3,7,6,{"$f":"SUM(T301:Z301)","v":83},null,{"$f":"SUM(I301+R301+AA301)","v":161}]
["11:30:00",43,6,1,0,3,7,1,{"$f":"SUM(B302:H302)","v":61},null,0,0,0,0,1,0,1,{"$f":"SUM(K302:Q302)","v":2},null,58,15,0,0,2,8,1,{"$f":"SUM(T302:Z302)","v":84},null,{"$f":"SUM(I302+R302+AA302)","v":147}]
["11:45:00",48,12,0,0,3,5,4,{"$f":"SUM(B303:H303)","v":72},null,1,0,0,0,1,1,7,{"$f":"SUM(K303:Q303)","v":10},null,66,15,4,0,2,7,5,{"$f":"SUM(T303:Z303)","v":99},null,{"$f":"SUM(I303+R303+AA303)","v":181}]
["1 Hr",{"$f":"SUM(B300:B303)","v":183},44,4,0,13,20,9,273,null,{"$f":"SUM(K300:K303)","v":3},2,0,0,4,1,16,26,null,{"$f":"SUM(T300:T303)","v":233},62,7,0,12,30,17,361,null,{"$f":"SUM(AC300:AC303)","v":660}]
["12:00:00",{"$f":"SUM(B37+B104+B171)","v":37},8,2,0,3,5,3,{"$f":"SUM(B305:H305)","v":58},null,{"$f":"SUM(K37+K104+K171)","v":3},1,0,0,1,0,4,{"$f":"SUM(K305:Q305)","v":9},null,{"$f":"SUM(T37+T104+T171)","v":49},16,1,0,3,7,3,{"$f":"SUM(T305:Z305)","v":79},null,{"$f":"SUM(I305+R305+AA305)","v":146}]
["12:15:00",31,15,0,0,4,4,1,{"$f":"SUM(B306:H306)","v":55},null,7,0,0,0,1,0,4,{"$f":"SUM(K306:Q306)","v":12},null,50,21,2,0,2,2,4,{"$f":"SUM(T306:Z306)","v":81},null,{"$f":"SUM(I306+R306+AA306)","v":148}]
["12:30:00",47,12,0,0,3,13,5,{"$f":"SUM(B307:H307)","v":80},null,7,1,0,0,0,0,1,{"$f":"SUM(K307:Q307)","v":9},null,62,21,2,0,4,7,5,{"$f":"SUM(T307:Z307)","v":101},null,{"$f":"SUM(I307+R307+AA307)","v":190}]
["12:45:00",49,8,1,0,4,5,3,{"$f":"SUM(B308:H308)","v":70},null,5,0,0,0,2,0,8,{"$f":"SUM(K308:Q308)","v":15},null,86,10,1,0,2,7,6,{"$f":"SUM(T308:Z308)","v":112},null,{"$f":"SUM(I308+R308+AA308)","v":197}]
["1 Hr",{"$f":"SUM(B305:B308)","v":164},43,3,0,14,27,12,263,null,{"$f":"SUM(K305:K308)","v":22},2,0,0,4,0,17,45,null,{"$f":"SUM(T305:T308)","v":247},68,6,0,11,23,18,373,null,{"$f":"SUM(AC305:AC308)","v":681}]
["13:00:00",{"$f":"SUM(B42+B109+B176)","v":53},14,2,0,3,7,0,{"$f":"SUM(B310:H310)","v":79},null,{"$f":"SUM(K42+K109+K176)","v":4},1,0,0,1,0,5,{"$f":"SUM(K310:Q310)","v":11},null,{"$f":"SUM(T42+T109+T176)","v":67},16,2,0,2,8,4,{"$f":"SUM(T310:Z310)","v":99},null,{"$f":"SUM(I310+R310+AA310)","v":189}]
["13:15:00",50,7,1,0,5,6,8,{"$f":"SUM(B311:H311)","v":77},null,3,1,0,0,1,0,3,{"$f":"SUM(K311:Q311)","v":8},null,78,25,2,0,4,11,5,{"$f":"SUM(T311:Z311)","v":125},null,{"$f":"SUM(I311+R311+AA311)","v":210}]
["13:30:00",35,13,0,0,3,10,3,{"$f":"SUM(B312:H312)","v":64},null,1,0,0,0,1,0,0,{"$f":"SUM(K312:Q312)","v":2},null,70,22,1,0,3,11,8,{"$f":"SUM(T312:Z312)","v":115},null,{"$f":"SUM(I312+R312+AA312)","v":181}]
["13:45:00",36,12,0,0,4,4,3,{"$f":"SUM(B313:H313)","v":59},null,3,1,0,0,1,0,3,{"$f":"SUM(K313:Q313)","v":8},null,71,14,2,1,3,9,3,{"$f":"SUM(T313:Z313)","v":103},null,{"$f":"SUM(I313+R313+AA313)","v":170}]
["1 Hr",{"$f":"SUM(B310:B313)","v":174},46,3,0,15,27,14,279,null,{"$f":"SUM(K310:K313)","v":11},3,0,0,4,0,11,29,null,{"$f":"SUM(T310:T313)","v":286},77,7,1,12,39,20,442,null,{"$f":"SUM(AC310:AC313)","v":750}]
["14:00:00",{"$f":"SUM(B47+B114+B181)","v":58},11,0,1,3,6,2,{"$f":"SUM(B315:H315)","v":81},null,{"$f":"SUM(K47+K114+K181)","v":0},0,0,0,0,1,3,{"$f":"SUM(K315:Q315)","v":4},null,{"$f":"SUM(T47+T114+T181)","v":75},18,3,0,3,13,10,{"$f":"SUM(T315:Z315)","v":122},null,{"$f":"SUM(I315+R315+AA315)","v":207}]
["14:15:00",50,11,0,0,3,6,3,{"$f":"SUM(B316:H316)","v":73},null,4,0,0,0,1,0,2,{"$f":"SUM(K316:Q316)","v":7},null,76,10,1,0,4,9,4,{"$f":"SUM(T316:Z316)","v":104},null,{"$f":"SUM(I316+R316+AA316)","v":184}]
["14:30:00",58,4,3,0,5,5,4,{"$f":"SUM(B317:H317)","v":79},null,3,0,0,0,1,0,3,{"$f":"SUM(K317:Q317)","v":7},null,66,23,2,0,3,6,2,{"$f":"SUM(T317:Z317)","v":102},null,{"$f":"SUM(I317+R317+AA317)","v":188}]
["14:45:00",61,6,1,0,3,7,10,{"$f":"SUM(B318:H318)","v":88},null,5,0,0,0,1,0,3,{"$f":"SUM(K318:Q318)","v":9},null,98,18,4,0,4,7,4,{"$f":"SUM(T318:Z318)","v":135},null,{"$f":"SUM(I318+R318+AA318)","v":232}]
["1 Hr",{"$f":"SUM(B315:B318)","v":227},32,4,1,14,24,19,321,null,{"$f":"SUM(K315:K318)","v":12},0,0,0,3,1,11,27,null,{"$f":"SUM(T315:T318)","v":315},69,10,0,14,35,20,463,null,{"$f":"SUM(AC315:AC318)","v":811}]
["15:00:00",{"$f":"SUM(B52+B119+B186)","v":50},8,2,0,4,5,4,{"$f":"SUM(B320:H320)","v":73},null,{"$f":"SUM(K52+K119+K186)","v":6},1,0,0,1,0,7,{"$f":"SUM(K320:Q320)","v":15},null,{"$f":"SUM(T52+T119+T186)","v":69},23,2,1,3,2,2,{"$f":"SUM(T320:Z320)","v":102},null,{"$f":"SUM(I320+R320+AA320)","v":190}]
["15:15:00",58,9,0,0,4,4,2,{"$f":"SUM(B321:H321)","v":77},null,3,0,0,0,1,0,2,{"$f":"SUM(K321:Q321)","v":6},null,65,14,0,0,0,4,4,{"$f":"SUM(T321:Z321)","v":87},null,{"$f":"SUM(I321+R321+AA321)","v":170}]
["15:30:00",54,5,0,0,3,4,6,{"$f":"SUM(B322:H322)","v":72},null,8,2,0,0,0,1,7,{"$f":"SUM(K322:Q322)","v":18},null,93,17,2,0,5,5,10,{"$f":"SUM(T322:Z322)","v":132},null,{"$f":"SUM(I322+R322+AA322)","v":222}]
["15:45:00",43,4,0,0,3,6,6,{"$f":"SUM(B323:H323)","v":62},null,7,1,0,0,1,0,6,{"$f":"SUM(K323:Q323)","v":15},null,86,20,2,0,0,8,5,{"$f":"SUM(T323:Z323)","v":121},null,{"$f":"SUM(I323+R323+AA323)","v":198}]
["1 Hr",{"$f":"SUM(B320:B323)","v":205},26,2,0,14,19,18,284,null,{"$f":"SUM(K320:K323)","v":24},4,0,0,3,1,22,54,null,{"$f":"SUM(T320:T323)","v":313},74,6,1,8,19,21,442,null,{"$f":"SUM(AC320:AC323)","v":780}]
["16:00:00",{"$f":"SUM(B57+B124+B191)","v":47},9,0,0,1,6,5,{"$f":"SUM(B325:H325)","v":68},null,{"$f":"SUM(K57+K124+K191)","v":4},2,0,0,1,0,8,{"$f":"SUM(K325:Q325)","v":15},null,{"$f":"SUM(T57+T124+T191)","v":94},24,3,0,0,6,4,{"$f":"SUM(T325:Z325)","v":131},null,{"$f":"SUM(I325+R325+AA325)","v":214}]
["16:15:00",57,2,0,0,2,2,4,{"$f":"SUM(B326:H326)","v":67},null,2,1,0,0,1,0,6,{"$f":"SUM(K326:Q326)","v":10},null,84,16,1,0,3,1,8,{"$f":"SUM(T326:Z326)","v":113},null,{"$f":"SUM(I326+R326+AA326)","v":190}]
["16:30:00",64,5,0,0,3,2,2,{"$f":"SUM(B327:H327)","v":76},null,5,1,0,0,1,0,3,{"$f":"SUM(K327:Q327)","v":10},null,113,25,4,0,2,7,13,{"$f":"SUM(T327:Z327)","v":164},null,{"$f":"SUM(I327+R327+AA327)","v":250}]
["16:45:00",53,5,0,0,4,5,9,{"$f":"SUM(B328:H328)","v":76},null,4,0,0,0,1,0,4,{"$f":"SUM(K328:Q328)","v":9},null,80,20,1,0,5,6,7,{"$f":"SUM(T328:Z328)","v":119},null,{"$f":"SUM(I328+R328+AA328)","v":204}]
["1 Hr",{"$f":"SUM(B325:B328)","v":221},21,0,0,10,15,20,287,null,{"$f":"SUM(K325:K328)","v":15},4,0,0,4,0,21,44,null,{"$f":"SUM(T325:T328)","v":371},85,9,0,10,20,32,527,null,{"$f":"SUM(AC325:AC328)","v":858}]
["17:00:00",{"$f":"SUM(B62+B129+B196)","v":70},7,0,0,3,6,4,{"$f":"SUM(B330:H330)","v":90},null,{"$f":"SUM(K62+K129+K196)","v":4},1,0,0,0,1,4,{"$f":"SUM(K330:Q330)","v":10},null,{"$f":"SUM(T62+T129+T196)","v":95},14,0,0,4,4,13,{"$f":"SUM(T330:Z330)","v":130},null,{"$f":"SUM(I330+R330+AA330)","v":230}]
["17:15:00",67,3,0,0,4,7,1,{"$f":"SUM(B331:H331)","v":82},null,7,0,0,0,1,0,8,{"$f":"SUM(K331:Q331)","v":16},null,110,21,0,0,2,9,15,{"$f":"SUM(T331:Z331)","v":157},null,{"$f":"SUM(I331+R331+AA331)","v":255}]
["17:30:00",70,4,0,0,3,7,5,{"$f":"SUM(B332:H332)","v":89},null,3,1,0,0,1,1,7,{"$f":"SUM(K332:Q332)","v":13},null,98,12,1,0,3,5,8,{"$f":"SUM(T332:Z332)","v":127},null,{"$f":"SUM(I332+R332+AA332)","v":229}]
["17:45:00",54,5,0,0,4,7,8,{"$f":"SUM(B333:H333)","v":78},null,6,0,0,0,1,0,10,{"$f":"SUM(K333:Q333)","v":17},null,94,18,0,0,3,11,8,{"$f":"SUM(T333:Z333)","v":134},null,{"$f":"SUM(I333+R333+AA333)","v":229}]
["1 Hr",{"$f":"SUM(B330:B333)","v":261},19,0,0,14,27,18,339,null,{"$f":"SUM(K330:K333)","v":20},2,0,0,3,2,29,56,null,{"$f":"SUM(T330:T333)","v":397},65,1,0,12,29,44,548,null,{"$f":"SUM(AC330:AC333)","v":943}]
["18:00:00",{"$f":"SUM(B67+B134+B201)","v":72},7,0,0,4,7,4,{"$f":"SUM(B335:H335)","v":94},null,{"$f":"SUM(K67+K134+K201)","v":14},0,0,0,2,1,7,{"$f":"SUM(K335:Q335)","v":24},null,{"$f":"SUM(T67+T134+T201)","v":74},10,1,0,5,6,6,{"$f":"SUM(T335:Z335)","v":102},null,{"$f":"SUM(I335+R335+AA335)","v":220}]
["18:15:00",61,5,1,0,4,7,9,{"$f":"SUM(B336:H336)","v":87},null,7,0,0,0,1,0,10,{"$f":"SUM(K336:Q336)","v":18},null,66,5,0,0,4,8,8,{"$f":"SUM(T336:Z336)","v":91},null,{"$f":"SUM(I336+R336+AA336)","v":196}]
["18:30:00",54,4,0,0,3,8,4,{"$f":"SUM(B337:H337)","v":73},null,3,0,0,0,1,0,4,{"$f":"SUM(K337:Q337)","v":8},null,106,7,1,0,3,8,6,{"$f":"SUM(T337:Z337)","v":131},null,{"$f":"SUM(I337+R337+AA337)","v":212}]
["18:45:00",62,3,0,0,4,13,6,{"$f":"SUM(B338:H338)","v":88},null,10,0,0,0,1,0,8,{"$f":"SUM(K338:Q338)","v":19},null,117,9,0,0,3,16,10,{"$f":"SUM(T338:Z338)","v":155},null,{"$f":"SUM(I338+R338+AA338)","v":262}]
["1 Hr",{"$f":"SUM(B335:B338)","v":249},19,1,0,15,35,23,342,null,{"$f":"SUM(K335:K338)","v":34},0,0,0,5,1,29,69,null,{"$f":"SUM(T335:T338)","v":363},31,2,0,15,38,30,479,null,{"$f":"SUM(AC335:AC338)","v":890}]
[]
["Total",{"$f":"SUM(B339+B334+B329+B324+B319+B314+B309+B304+B299+B294+B289+B284)","v":2637},518,45,4,175,240,213,3832,null,{"$f":"SUM(K339+K334+K329+K324+K319+K314+K309+K304+K299+K294+K289+K284)","v":161},20,0,0,50,6,245,482,null,{"$f":"SUM(T339+T334+T329+T324+T319+T314+T309+T304+T299+T294+T289+T284)","v":3408},663,60,2,147,266,270,4816,null,{"$f":"SUM(AC339+AC334+AC329+AC324+AC319+AC314+AC309+AC304+AC299+AC294+AC289+AC284)","v":9130}]